Workbook

Sheet HKI
E1: =SUBTOTAL(9,E5:E473) -> 566 | F1: =SUBTOTAL(9,F5:F473) -> 192 | G1: =SUBTOTAL(9,G5:G473) -> 0 | H1: =SUBTOTAL(9,H5:H473) -> 0 | I1: =SUBTOTAL(9,I5:I473) -> 0 | J1: =SUBTOTAL(9,J5:J473) -> 0 | K1: =SUBTOTAL(9,K5:K473) -> 0 | L1: =SUBTOTAL(9,L5:L473) -> 0 | ... AT1: =SUBTOTAL(9,AT5:AT473) -> 5699.46
A2: STT | B2: Mã nhân sự | C2: Đơn vị | D2: HỌ VÀ TÊN GIẢNG VIÊN | E2: ĐỀ THI | N2: COI THI | S2: CHẤM THI KTHP | AI2: CHẤM THI TỐT NGHIỆP | AR2: DỰ PHÒNG KỲ THI | AS2: GIÁM SÁT | AT2: TỔNG KHỐI LƯỢNG | AU2: =SUBTOTAL(9,AT:AT) -> 5699.46
S3: LÝ THUYẾT (TV+TN) | W3: VẤN ĐÁP | AA3: TIỂU LUẬN | AE3: THỰC HÀNH | AI3: LÝ THUYẾT (TV+TN) | AL3: VẤN ĐÁP | AO3: THỰC HÀNH
E4: SL ĐỀ LT KTHP | F4: SL ĐỀ TN KTHP | G4: SL ĐỀ VĐ KTHP | H4: SL ĐỀ TH KTHP | I4: SL ĐỀ LT ThiTN | J4: SL ĐỀ TN ThiTN | K4: SL ĐỀ VĐ ThiTN | L4: SL ĐỀ TH ThiTN | M4: KL SOẠN ĐỀ (tiết) | N4: COITHI 2 KTHP | O4: COITHI 1 KTHP | P4: COITHI 1 Thi TN | Q4: COITHI 2 Thi TN | R4: KL COITHI (tiết) | S4: SL CHẤM LT 1 | T4: SL CHẤM LT 2 | U4: SL CHẤM NV | V4: KL CHẤM LT (tiết) | W4: SL CHẤM TL 1 | X4: SL CHẤM TL 2 | Y4: SL CHẤM NV | Z4: KL CHẤM TL (tiết) | AA4: SL CHẤM TL 1 | AB4: SL CHẤM TL 2 | AC4: SL CHẤM NV | AD4: KL CHẤM TL (tiết) | AE4: SL CHẤM TL 1 | AF4: SL CHẤM TL 2 | AG4: SL CHẤM NV | AH4: KL CHẤM TL (tiết) | AI4: SL BÀI LT CHẤM 1 | AJ4: SL BÀI LT CHẤM 2 | AK4: KL CHẤM LT (tiết) | AL4: SL BÀI VĐ CHẤM 1 | AM4: SL BÀI VĐ CHẤM 2 | AN4: KL CHẤM VĐ (tiết) | AO4: SL BÀI TL CHẤM 1 | AP4: SL BÀI TL CHẤM 2 | AQ4: KL CHẤM TL (tiết)
A5: =IF(D5="","",SUBTOTAL(3,$D$5:D5)) -> 1 | B5: 01001001 | C5: Ban Giám hiệu | D5: Đinh Hồng Minh | E5: =VLOOKUP($B5,'[1]TK KHOILUONG'!$B:$AT,4,0) -> 0 | F5: =VLOOKUP($B5,'[1]TK KHOILUONG'!$B:$AT,5,0) -> 0 | G5: =VLOOKUP($B5,'[1]TK KHOILUONG'!$B:$AT,6,0) -> 0 | H5: =VLOOKUP($B5,'[1]TK KHOILUONG'!$B:$AT,7,0) -> 0 | I5: =VLOOKUP($B5,'[1]TK KHOILUONG'!$B:$AT,8,0) -> 0 | J5: =VLOOKUP($B5,'[1]TK KHOILUONG'!$B:$AT,9,0) -> 0 | K5: =VLOOKUP($B5,'[1]TK KHOILUONG'!$B:$AT,10,0) -> 0 | L5: =VLOOKUP($B5,'[1]TK KHOILUONG'!$B:$AT,11,0) -> 0 | M5: =VLOOKUP($B5,'[1]TK KHOILUONG'!$B:$AT,12,0) -> 0 | N5: =VLOOKUP($B5,'[1]TK KHOILUONG'!$B:$AT,13,0) -> 0 | O5: =VLOOKUP($B5,'[1]TK KHOILUONG'!$B:$AT,14,0) -> 0 | P5: =VLOOKUP($B5,'[1]TK KHOILUONG'!$B:$AT,15,0) -> 0 | Q5: =VLOOKUP($B5,'[1]TK KHOILUONG'!$B:$AT,16,0) -> 0 | R5: =VLOOKUP($B5,'[1]TK KHOILUONG'!$B:$AT,17,0) -> 0 | S5: =VLOOKUP($B5,'[1]TK KHOILUONG'!$B:$AT,18,0) -> 0 | T5: =VLOOKUP($B5,'[1]TK KHOILUONG'!$B:$AT,19,0) -> 0 | U5: =VLOOKUP($B5,'[1]TK KHOILUONG'!$B:$AT,20,0) -> 0 | V5: =VLOOKUP($B5,'[1]TK KHOILUONG'!$B:$AT,21,0) -> 0 | W5: =VLOOKUP($B5,'[1]TK KHOILUONG'!$B:$AT,22,0) -> 0 | X5: =VLOOKUP($B5,'[1]TK KHOILUONG'!$B:$AT,23,0) -> 0 | Y5: =VLOOKUP($B5,'[1]TK KHOILUONG'!$B:$AT,24,0) -> 0 | Z5: =VLOOKUP($B5,'[1]TK KHOILUONG'!$B:$AT,25,0) -> 0 | AA5: =VLOOKUP($B5,'[1]TK KHOILUONG'!$B:$AT,26,0) -> 0 | AB5: =VLOOKUP($B5,'[1]TK KHOILUONG'!$B:$AT,27,0) -> 0 | AC5: =VLOOKUP($B5,'[1]TK KHOILUONG'!$B:$AT,28,0) -> 0 | AD5: =VLOOKUP($B5,'[1]TK KHOILUONG'!$B:$AT,29,0) -> 0 | AE5: =VLOOKUP($B5,'[1]TK KHOILUONG'!$B:$AT,30,0) -> 0 | AF5: =VLOOKUP($B5,'[1]TK KHOILUONG'!$B:$AT,31,0) -> 0 | AG5: =VLOOKUP($B5,'[1]TK KHOILUONG'!$B:$AT,32,0) -> 0 | AH5: =VLOOKUP($B5,'[1]TK KHOILUONG'!$B:$AT,33,0) -> 0 | AI5: =VLOOKUP($B5,'[1]TK KHOILUONG'!$B:$AT,34,0) -> 0 | AJ5: =VLOOKUP($B5,'[1]TK KHOILUONG'!$B:$AT,35,0) -> 0 | AK5: =VLOOKUP($B5,'[1]TK KHOILUONG'!$B:$AT,36,0) -> 0 | AL5: =VLOOKUP($B5,'[1]TK KHOILUONG'!$B:$AT,37,0) -> 0 | AM5: =VLOOKUP($B5,'[1]TK KHOILUONG'!$B:$AT,38,0) -> 0 | AN5: =VLOOKUP($B5,'[1]TK KHOILUONG'!$B:$AT,39,0) -> 0 | AO5: =VLOOKUP($B5,'[1]TK KHOILUONG'!$B:$AT,40,0) -> 0 | AP5: =VLOOKUP($B5,'[1]TK KHOILUONG'!$B:$AT,41,0) -> 0 | AQ5: =VLOOKUP($B5,'[1]TK KHOILUONG'!$B:$AT,42,0) -> 0 | AR5: =VLOOKUP($B5,'[1]TK KHOILUONG'!$B:$AT,43,0) -> 0 | AS5: =VLOOKUP($B5,'[1]TK KHOILUONG'!$B:$AT,44,0) -> 0 | AT5: =IF(D5="","",ROUND(M5+R5+V5+Z5+AD5+AH5+AK5+AN5+AQ5+SUM(AR5:AS5),2)) -> 0
A6: =IF(D6="","",SUBTOTAL(3,$D$5:D6)) -> 2 | B6: 01002001 | C6: Ban Giám hiệu | D6: Đinh Văn Đệ | E6: =VLOOKUP($B6,'[1]TK KHOILUONG'!$B:$AT,4,0) -> 2 | F6: =VLOOKUP($B6,'[1]TK KHOILUONG'!$B:$AT,5,0) -> 0 | G6: =VLOOKUP($B6,'[1]TK KHOILUONG'!$B:$AT,6,0) -> 0 | H6: =VLOOKUP($B6,'[1]TK KHOILUONG'!$B:$AT,7,0) -> 0 | I6: =VLOOKUP($B6,'[1]TK KHOILUONG'!$B:$AT,8,0) -> 0 | J6: =VLOOKUP($B6,'[1]TK KHOILUONG'!$B:$AT,9,0) -> 0 | K6: =VLOOKUP($B6,'[1]TK KHOILUONG'!$B:$AT,10,0) -> 0 | L6: =VLOOKUP($B6,'[1]TK KHOILUONG'!$B:$AT,11,0) -> 0 | M6: =VLOOKUP($B6,'[1]TK KHOILUONG'!$B:$AT,12,0) -> 2 | N6: =VLOOKUP($B6,'[1]TK KHOILUONG'!$B:$AT,13,0) -> 0 | O6: =VLOOKUP($B6,'[1]TK KHOILUONG'!$B:$AT,14,0) -> 0 | P6: =VLOOKUP($B6,'[1]TK KHOILUONG'!$B:$AT,15,0) -> 0 | Q6: =VLOOKUP($B6,'[1]TK KHOILUONG'!$B:$AT,16,0) -> 0 | R6: =VLOOKUP($B6,'[1]TK KHOILUONG'!$B:$AT,17,0) -> 0 | S6: =VLOOKUP($B6,'[1]TK KHOILUONG'!$B:$AT,18,0) -> 50 | T6: =VLOOKUP($B6,'[1]TK KHOILUONG'!$B:$AT,19,0) -> 0 | U6: =VLOOKUP($B6,'[1]TK KHOILUONG'!$B:$AT,20,0) -> 149 | V6: =VLOOKUP($B6,'[1]TK KHOILUONG'!$B:$AT,21,0) -> -9.9 | W6: =VLOOKUP($B6,'[1]TK KHOILUONG'!$B:$AT,22,0) -> 0 | X6: =VLOOKUP($B6,'[1]TK KHOILUONG'!$B:$AT,23,0) -> 0 | Y6: =VLOOKUP($B6,'[1]TK KHOILUONG'!$B:$AT,24,0) -> 0 | Z6: =VLOOKUP($B6,'[1]TK KHOILUONG'!$B:$AT,25,0) -> 0 | AA6: =VLOOKUP($B6,'[1]TK KHOILUONG'!$B:$AT,26,0) -> 0 | AB6: =VLOOKUP($B6,'[1]TK KHOILUONG'!$B:$AT,27,0) -> 0 | AC6: =VLOOKUP($B6,'[1]TK KHOILUONG'!$B:$AT,28,0) -> 0 | AD6: =VLOOKUP($B6,'[1]TK KHOILUONG'!$B:$AT,29,0) -> 0 | AE6: =VLOOKUP($B6,'[1]TK KHOILUONG'!$B:$AT,30,0) -> 0 | AF6: =VLOOKUP($B6,'[1]TK KHOILUONG'!$B:$AT,31,0) -> 0 | AG6: =VLOOKUP($B6,'[1]TK KHOILUONG'!$B:$AT,32,0) -> 0 | AH6: =VLOOKUP($B6,'[1]TK KHOILUONG'!$B:$AT,33,0) -> 0 | AI6: =VLOOKUP($B6,'[1]TK KHOILUONG'!$B:$AT,34,0) -> 0 | AJ6: =VLOOKUP($B6,'[1]TK KHOILUONG'!$B:$AT,35,0) -> 0 | AK6: =VLOOKUP($B6,'[1]TK KHOILUONG'!$B:$AT,36,0) -> 0 | AL6: =VLOOKUP($B6,'[1]TK KHOILUONG'!$B:$AT,37,0) -> 0 | AM6: =VLOOKUP($B6,'[1]TK KHOILUONG'!$B:$AT,38,0) -> 0 | AN6: =VLOOKUP($B6,'[1]TK KHOILUONG'!$B:$AT,39,0) -> 0 | AO6: =VLOOKUP($B6,'[1]TK KHOILUONG'!$B:$AT,40,0) -> 0 | AP6: =VLOOKUP($B6,'[1]TK KHOILUONG'!$B:$AT,41,0) -> 0 | AQ6: =VLOOKUP($B6,'[1]TK KHOILUONG'!$B:$AT,42,0) -> 0 | AR6: =VLOOKUP($B6,'[1]TK KHOILUONG'!$B:$AT,43,0) -> 0 | AS6: =VLOOKUP($B6,'[1]TK KHOILUONG'!$B:$AT,44,0) -> 0 | AT6: =IF(D6="","",ROUND(M6+R6+V6+Z6+AD6+AH6+AK6+AN6+AQ6+SUM(AR6:AS6),2)) -> -7.9
A7: =IF(D7="","",SUBTOTAL(3,$D$5:D7)) -> 3 | B7: 01001006 | C7: Ban Giám hiệu | D7: Nguyễn Văn Dũng | E7: =VLOOKUP($B7,'[1]TK KHOILUONG'!$B:$AT,4,0) -> 0 | F7: =VLOOKUP($B7,'[1]TK KHOILUONG'!$B:$AT,5,0) -> 0 | G7: =VLOOKUP($B7,'[1]TK KHOILUONG'!$B:$AT,6,0) -> 0 | H7: =VLOOKUP($B7,'[1]TK KHOILUONG'!$B:$AT,7,0) -> 0 | I7: =VLOOKUP($B7,'[1]TK KHOILUONG'!$B:$AT,8,0) -> 0 | J7: =VLOOKUP($B7,'[1]TK KHOILUONG'!$B:$AT,9,0) -> 0 | K7: =VLOOKUP($B7,'[1]TK KHOILUONG'!$B:$AT,10,0) -> 0 | L7: =VLOOKUP($B7,'[1]TK KHOILUONG'!$B:$AT,11,0) -> 0 | M7: =VLOOKUP($B7,'[1]TK KHOILUONG'!$B:$AT,12,0) -> 0 | N7: =VLOOKUP($B7,'[1]TK KHOILUONG'!$B:$AT,13,0) -> 0 | O7: =VLOOKUP($B7,'[1]TK KHOILUONG'!$B:$AT,14,0) -> 0 | P7: =VLOOKUP($B7,'[1]TK KHOILUONG'!$B:$AT,15,0) -> 0 | Q7: =VLOOKUP($B7,'[1]TK KHOILUONG'!$B:$AT,16,0) -> 0 | R7: =VLOOKUP($B7,'[1]TK KHOILUONG'!$B:$AT,17,0) -> 0 | S7: =VLOOKUP($B7,'[1]TK KHOILUONG'!$B:$AT,18,0) -> 0 | T7: =VLOOKUP($B7,'[1]TK KHOILUONG'!$B:$AT,19,0) -> 0 | U7: =VLOOKUP($B7,'[1]TK KHOILUONG'!$B:$AT,20,0) -> 0 | V7: =VLOOKUP($B7,'[1]TK KHOILUONG'!$B:$AT,21,0) -> 0 | W7: =VLOOKUP($B7,'[1]TK KHOILUONG'!$B:$AT,22,0) -> 0 | X7: =VLOOKUP($B7,'[1]TK KHOILUONG'!$B:$AT,23,0) -> 0 | Y7: =VLOOKUP($B7,'[1]TK KHOILUONG'!$B:$AT,24,0) -> 0 | Z7: =VLOOKUP($B7,'[1]TK KHOILUONG'!$B:$AT,25,0) -> 0 | AA7: =VLOOKUP($B7,'[1]TK KHOILUONG'!$B:$AT,26,0) -> 0 | AB7: =VLOOKUP($B7,'[1]TK KHOILUONG'!$B:$AT,27,0) -> 0 | AC7: =VLOOKUP($B7,'[1]TK KHOILUONG'!$B:$AT,28,0) -> 0 | AD7: =VLOOKUP($B7,'[1]TK KHOILUONG'!$B:$AT,29,0) -> 0 | AE7: =VLOOKUP($B7,'[1]TK KHOILUONG'!$B:$AT,30,0) -> 0 | AF7: =VLOOKUP($B7,'[1]TK KHOILUONG'!$B:$AT,31,0) -> 0 | AG7: =VLOOKUP($B7,'[1]TK KHOILUONG'!$B:$AT,32,0) -> 0 | AH7: =VLOOKUP($B7,'[1]TK KHOILUONG'!$B:$AT,33,0) -> 0 | AI7: =VLOOKUP($B7,'[1]TK KHOILUONG'!$B:$AT,34,0) -> 0 | AJ7: =VLOOKUP($B7,'[1]TK KHOILUONG'!$B:$AT,35,0) -> 0 | AK7: =VLOOKUP($B7,'[1]TK KHOILUONG'!$B:$AT,36,0) -> 0 | AL7: =VLOOKUP($B7,'[1]TK KHOILUONG'!$B:$AT,37,0) -> 0 | AM7: =VLOOKUP($B7,'[1]TK KHOILUONG'!$B:$AT,38,0) -> 0 | AN7: =VLOOKUP($B7,'[1]TK KHOILUONG'!$B:$AT,39,0) -> 0 | AO7: =VLOOKUP($B7,'[1]TK KHOILUONG'!$B:$AT,40,0) -> 0 | AP7: =VLOOKUP($B7,'[1]TK KHOILUONG'!$B:$AT,41,0) -> 0 | AQ7: =VLOOKUP($B7,'[1]TK KHOILUONG'!$B:$AT,42,0) -> 0 | AR7: =VLOOKUP($B7,'[1]TK KHOILUONG'!$B:$AT,43,0) -> 0 | AS7: =VLOOKUP($B7,'[1]TK KHOILUONG'!$B:$AT,44,0) -> 0 | AT7: =IF(D7="","",ROUND(M7+R7+V7+Z7+AD7+AH7+AK7+AN7+AQ7+SUM(AR7:AS7),2)) -> 0
A8: =IF(D8="","",SUBTOTAL(3,$D$5:D8)) -> 4 | B8: 01001003 | C8: Ban Giám hiệu | D8: Phạm Hữu Lộc | E8: =VLOOKUP($B8,'[1]TK KHOILUONG'!$B:$AT,4,0) -> 0 | F8: =VLOOKUP($B8,'[1]TK KHOILUONG'!$B:$AT,5,0) -> 0 | G8: =VLOOKUP($B8,'[1]TK KHOILUONG'!$B:$AT,6,0) -> 0 | H8: =VLOOKUP($B8,'[1]TK KHOILUONG'!$B:$AT,7,0) -> 0 | I8: =VLOOKUP($B8,'[1]TK KHOILUONG'!$B:$AT,8,0) -> 0 | J8: =VLOOKUP($B8,'[1]TK KHOILUONG'!$B:$AT,9,0) -> 0 | K8: =VLOOKUP($B8,'[1]TK KHOILUONG'!$B:$AT,10,0) -> 0 | L8: =VLOOKUP($B8,'[1]TK KHOILUONG'!$B:$AT,11,0) -> 0 | M8: =VLOOKUP($B8,'[1]TK KHOILUONG'!$B:$AT,12,0) -> 0 | N8: =VLOOKUP($B8,'[1]TK KHOILUONG'!$B:$AT,13,0) -> 0 | O8: =VLOOKUP($B8,'[1]TK KHOILUONG'!$B:$AT,14,0) -> 0 | P8: =VLOOKUP($B8,'[1]TK KHOILUONG'!$B:$AT,15,0) -> 0 | Q8: =VLOOKUP($B8,'[1]TK KHOILUONG'!$B:$AT,16,0) -> 0 | R8: =VLOOKUP($B8,'[1]TK KHOILUONG'!$B:$AT,17,0) -> 0 | S8: =VLOOKUP($B8,'[1]TK KHOILUONG'!$B:$AT,18,0) -> 0 | T8: =VLOOKUP($B8,'[1]TK KHOILUONG'!$B:$AT,19,0) -> 0 | U8: =VLOOKUP($B8,'[1]TK KHOILUONG'!$B:$AT,20,0) -> 0 | V8: =VLOOKUP($B8,'[1]TK KHOILUONG'!$B:$AT,21,0) -> 0 | W8: =VLOOKUP($B8,'[1]TK KHOILUONG'!$B:$AT,22,0) -> 0 | X8: =VLOOKUP($B8,'[1]TK KHOILUONG'!$B:$AT,23,0) -> 0 | Y8: =VLOOKUP($B8,'[1]TK KHOILUONG'!$B:$AT,24,0) -> 0 | Z8: =VLOOKUP($B8,'[1]TK KHOILUONG'!$B:$AT,25,0) -> 0 | AA8: =VLOOKUP($B8,'[1]TK KHOILUONG'!$B:$AT,26,0) -> 0 | AB8: =VLOOKUP($B8,'[1]TK KHOILUONG'!$B:$AT,27,0) -> 0 | AC8: =VLOOKUP($B8,'[1]TK KHOILUONG'!$B:$AT,28,0) -> 0 | AD8: =VLOOKUP($B8,'[1]TK KHOILUONG'!$B:$AT,29,0) -> 0 | AE8: =VLOOKUP($B8,'[1]TK KHOILUONG'!$B:$AT,30,0) -> 0 | AF8: =VLOOKUP($B8,'[1]TK KHOILUONG'!$B:$AT,31,0) -> 0 | AG8: =VLOOKUP($B8,'[1]TK KHOILUONG'!$B:$AT,32,0) -> 0 | AH8: =VLOOKUP($B8,'[1]TK KHOILUONG'!$B:$AT,33,0) -> 0 | AI8: =VLOOKUP($B8,'[1]TK KHOILUONG'!$B:$AT,34,0) -> 0 | AJ8: =VLOOKUP($B8,'[1]TK KHOILUONG'!$B:$AT,35,0) -> 0 | AK8: =VLOOKUP($B8,'[1]TK KHOILUONG'!$B:$AT,36,0) -> 0 | AL8: =VLOOKUP($B8,'[1]TK KHOILUONG'!$B:$AT,37,0) -> 0 | AM8: =VLOOKUP($B8,'[1]TK KHOILUONG'!$B:$AT,38,0) -> 0 | AN8: =VLOOKUP($B8,'[1]TK KHOILUONG'!$B:$AT,39,0) -> 0 | AO8: =VLOOKUP($B8,'[1]TK KHOILUONG'!$B:$AT,40,0) -> 0 | AP8: =VLOOKUP($B8,'[1]TK KHOILUONG'!$B:$AT,41,0) -> 0 | AQ8: =VLOOKUP($B8,'[1]TK KHOILUONG'!$B:$AT,42,0) -> 0 | AR8: =VLOOKUP($B8,'[1]TK KHOILUONG'!$B:$AT,43,0) -> 0 | AS8: =VLOOKUP($B8,'[1]TK KHOILUONG'!$B:$AT,44,0) -> 0 | AT8: =IF(D8="","",ROUND(M8+R8+V8+Z8+AD8+AH8+AK8+AN8+AQ8+SUM(AR8:AS8),2)) -> 0
A9: =IF(D9="","",SUBTOTAL(3,$D$5:D9)) -> 5 | B9: 01012023 | C9: Khoa CN Cơ khí | D9: Bùi Anh Tuấn | E9: =VLOOKUP($B9,'[1]TK KHOILUONG'!$B:$AT,4,0) -> 4 | F9: =VLOOKUP($B9,'[1]TK KHOILUONG'!$B:$AT,5,0) -> 0 | G9: =VLOOKUP($B9,'[1]TK KHOILUONG'!$B:$AT,6,0) -> 0 | H9: =VLOOKUP($B9,'[1]TK KHOILUONG'!$B:$AT,7,0) -> 0 | I9: =VLOOKUP($B9,'[1]TK KHOILUONG'!$B:$AT,8,0) -> 0 | J9: =VLOOKUP($B9,'[1]TK KHOILUONG'!$B:$AT,9,0) -> 0 | K9: =VLOOKUP($B9,'[1]TK KHOILUONG'!$B:$AT,10,0) -> 0 | L9: =VLOOKUP($B9,'[1]TK KHOILUONG'!$B:$AT,11,0) -> 0 | M9: =VLOOKUP($B9,'[1]TK KHOILUONG'!$B:$AT,12,0) -> 4 | N9: =VLOOKUP($B9,'[1]TK KHOILUONG'!$B:$AT,13,0) -> 0.6 | O9: =VLOOKUP($B9,'[1]TK KHOILUONG'!$B:$AT,14,0) -> 1.95 | P9: =VLOOKUP($B9,'[1]TK KHOILUONG'!$B:$AT,15,0) -> 0 | Q9: =VLOOKUP($B9,'[1]TK KHOILUONG'!$B:$AT,16,0) -> 0 | R9: =VLOOKUP($B9,'[1]TK KHOILUONG'!$B:$AT,17,0) -> 2.55 | S9: =VLOOKUP($B9,'[1]TK KHOILUONG'!$B:$AT,18,0) -> 0 | T9: =VLOOKUP($B9,'[1]TK KHOILUONG'!$B:$AT,19,0) -> 0 | U9: =VLOOKUP($B9,'[1]TK KHOILUONG'!$B:$AT,20,0) -> 82 | V9: =VLOOKUP($B9,'[1]TK KHOILUONG'!$B:$AT,21,0) -> -8.2 | W9: =VLOOKUP($B9,'[1]TK KHOILUONG'!$B:$AT,22,0) -> 0 | X9: =VLOOKUP($B9,'[1]TK KHOILUONG'!$B:$AT,23,0) -> 0 | Y9: =VLOOKUP($B9,'[1]TK KHOILUONG'!$B:$AT,24,0) -> 0 | Z9: =VLOOKUP($B9,'[1]TK KHOILUONG'!$B:$AT,25,0) -> 0 | AA9: =VLOOKUP($B9,'[1]TK KHOILUONG'!$B:$AT,26,0) -> 0 | AB9: =VLOOKUP($B9,'[1]TK KHOILUONG'!$B:$AT,27,0) -> 0 | AC9: =VLOOKUP($B9,'[1]TK KHOILUONG'!$B:$AT,28,0) -> 0 | AD9: =VLOOKUP($B9,'[1]TK KHOILUONG'!$B:$AT,29,0) -> 0 | AE9: =VLOOKUP($B9,'[1]TK KHOILUONG'!$B:$AT,30,0) -> 0 | AF9: =VLOOKUP($B9,'[1]TK KHOILUONG'!$B:$AT,31,0) -> 0 | AG9: =VLOOKUP($B9,'[1]TK KHOILUONG'!$B:$AT,32,0) -> 0 | AH9: =VLOOKUP($B9,'[1]TK KHOILUONG'!$B:$AT,33,0) -> 0 | AI9: =VLOOKUP($B9,'[1]TK KHOILUONG'!$B:$AT,34,0) -> 0 | AJ9: =VLOOKUP($B9,'[1]TK KHOILUONG'!$B:$AT,35,0) -> 0 | AK9: =VLOOKUP($B9,'[1]TK KHOILUONG'!$B:$AT,36,0) -> 0 | AL9: =VLOOKUP($B9,'[1]TK KHOILUONG'!$B:$AT,37,0) -> 0 | AM9: =VLOOKUP($B9,'[1]TK KHOILUONG'!$B:$AT,38,0) -> 0 | AN9: =VLOOKUP($B9,'[1]TK KHOILUONG'!$B:$AT,39,0) -> 0 | AO9: =VLOOKUP($B9,'[1]TK KHOILUONG'!$B:$AT,40,0) -> 0 | AP9: =VLOOKUP($B9,'[1]TK KHOILUONG'!$B:$AT,41,0) -> 0 | AQ9: =VLOOKUP($B9,'[1]TK KHOILUONG'!$B:$AT,42,0) -> 0 | AR9: =VLOOKUP($B9,'[1]TK KHOILUONG'!$B:$AT,43,0) -> 0 | AS9: =VLOOKUP($B9,'[1]TK KHOILUONG'!$B:$AT,44,0) -> 0 | AT9: =IF(D9="","",ROUND(M9+R9+V9+Z9+AD9+AH9+AK9+AN9+AQ9+SUM(AR9:AS9),2)) -> -1.65
A10: =IF(D10="","",SUBTOTAL(3,$D$5:D10)) -> 6 | B10: 01012003 | C10: Khoa CN Cơ khí | D10: Chung Trần Thế Vinh | E10: =VLOOKUP($B10,'[1]TK KHOILUONG'!$B:$AT,4,0) -> 0 | F10: =VLOOKUP($B10,'[1]TK KHOILUONG'!$B:$AT,5,0) -> 0 | G10: =VLOOKUP($B10,'[1]TK KHOILUONG'!$B:$AT,6,0) -> 0 | H10: =VLOOKUP($B10,'[1]TK KHOILUONG'!$B:$AT,7,0) -> 0 | I10: =VLOOKUP($B10,'[1]TK KHOILUONG'!$B:$AT,8,0) -> 0 | J10: =VLOOKUP($B10,'[1]TK KHOILUONG'!$B:$AT,9,0) -> 0 | K10: =VLOOKUP($B10,'[1]TK KHOILUONG'!$B:$AT,10,0) -> 0 | L10: =VLOOKUP($B10,'[1]TK KHOILUONG'!$B:$AT,11,0) -> 0 | M10: =VLOOKUP($B10,'[1]TK KHOILUONG'!$B:$AT,12,0) -> 0 | N10: =VLOOKUP($B10,'[1]TK KHOILUONG'!$B:$AT,13,0) -> 0 | O10: =VLOOKUP($B10,'[1]TK KHOILUONG'!$B:$AT,14,0) -> 2.1 | P10: =VLOOKUP($B10,'[1]TK KHOILUONG'!$B:$AT,15,0) -> 0 | Q10: =VLOOKUP($B10,'[1]TK KHOILUONG'!$B:$AT,16,0) -> 0 | R10: =VLOOKUP($B10,'[1]TK KHOILUONG'!$B:$AT,17,0) -> 2.1 | S10: =VLOOKUP($B10,'[1]TK KHOILUONG'!$B:$AT,18,0) -> 95 | T10: =VLOOKUP($B10,'[1]TK KHOILUONG'!$B:$AT,19,0) -> 260 | U10: =VLOOKUP($B10,'[1]TK KHOILUONG'!$B:$AT,20,0) -> 199 | V10: =VLOOKUP($B10,'[1]TK KHOILUONG'!$B:$AT,21,0) -> 15.6 | W10: =VLOOKUP($B10,'[1]TK KHOILUONG'!$B:$AT,22,0) -> 0 | X10: =VLOOKUP($B10,'[1]TK KHOILUONG'!$B:$AT,23,0) -> 0 | Y10: =VLOOKUP($B10,'[1]TK KHOILUONG'!$B:$AT,24,0) -> 0 | Z10: =VLOOKUP($B10,'[1]TK KHOILUONG'!$B:$AT,25,0) -> 0 | AA10: =VLOOKUP($B10,'[1]TK KHOILUONG'!$B:$AT,26,0) -> 0 | AB10: =VLOOKUP($B10,'[1]TK KHOILUONG'!$B:$AT,27,0) -> 0 | AC10: =VLOOKUP($B10,'[1]TK KHOILUONG'!$B:$AT,28,0) -> 0 | AD10: =VLOOKUP($B10,'[1]TK KHOILUONG'!$B:$AT,29,0) -> 0 | AE10: =VLOOKUP($B10,'[1]TK KHOILUONG'!$B:$AT,30,0) -> 0 | AF10: =VLOOKUP($B10,'[1]TK KHOILUONG'!$B:$AT,31,0) -> 0 | AG10: =VLOOKUP($B10,'[1]TK KHOILUONG'!$B:$AT,32,0) -> 0 | AH10: =VLOOKUP($B10,'[1]TK KHOILUONG'!$B:$AT,33,0) -> 0 | AI10: =VLOOKUP($B10,'[1]TK KHOILUONG'!$B:$AT,34,0) -> 0 | AJ10: =VLOOKUP($B10,'[1]TK KHOILUONG'!$B:$AT,35,0) -> 0 | AK10: =VLOOKUP($B10,'[1]TK KHOILUONG'!$B:$AT,36,0) -> 0 | AL10: =VLOOKUP($B10,'[1]TK KHOILUONG'!$B:$AT,37,0) -> 0 | AM10: =VLOOKUP($B10,'[1]TK KHOILUONG'!$B:$AT,38,0) -> 0 | AN10: =VLOOKUP($B10,'[1]TK KHOILUONG'!$B:$AT,39,0) -> 0 | AO10: =VLOOKUP($B10,'[1]TK KHOILUONG'!$B:$AT,40,0) -> 0 | AP10: =VLOOKUP($B10,'[1]TK KHOILUONG'!$B:$AT,41,0) -> 0 | AQ10: =VLOOKUP($B10,'[1]TK KHOILUONG'!$B:$AT,42,0) -> 0 | AR10: =VLOOKUP($B10,'[1]TK KHOILUONG'!$B:$AT,43,0) -> 0 | AS10: =VLOOKUP($B10,'[1]TK KHOILUONG'!$B:$AT,44,0) -> 0.6 | AT10: =IF(D10="","",ROUND(M10+R10+V10+Z10+AD10+AH10+AK10+AN10+AQ10+SUM(AR10:AS10),2)) -> 18.3
A11: =IF(D11="","",SUBTOTAL(3,$D$5:D11)) -> 7 | B11: 01012005 | C11: Khoa CN Cơ khí | D11: Đỗ Thị Phương Khanh | E11: =VLOOKUP($B11,'[1]TK KHOILUONG'!$B:$AT,4,0) -> 0 | F11: =VLOOKUP($B11,'[1]TK KHOILUONG'!$B:$AT,5,0) -> 10 | G11: =VLOOKUP($B11,'[1]TK KHOILUONG'!$B:$AT,6,0) -> 0 | H11: =VLOOKUP($B11,'[1]TK KHOILUONG'!$B:$AT,7,0) -> 0 | I11: =VLOOKUP($B11,'[1]TK KHOILUONG'!$B:$AT,8,0) -> 0 | J11: =VLOOKUP($B11,'[1]TK KHOILUONG'!$B:$AT,9,0) -> 0 | K11: =VLOOKUP($B11,'[1]TK KHOILUONG'!$B:$AT,10,0) -> 0 | L11: =VLOOKUP($B11,'[1]TK KHOILUONG'!$B:$AT,11,0) -> 0 | M11: =VLOOKUP($B11,'[1]TK KHOILUONG'!$B:$AT,12,0) -> 15 | N11: =VLOOKUP($B11,'[1]TK KHOILUONG'!$B:$AT,13,0) -> 0.6 | O11: =VLOOKUP($B11,'[1]TK KHOILUONG'!$B:$AT,14,0) -> 1.65 | P11: =VLOOKUP($B11,'[1]TK KHOILUONG'!$B:$AT,15,0) -> 0 | Q11: =VLOOKUP($B11,'[1]TK KHOILUONG'!$B:$AT,16,0) -> 0 | R11: =VLOOKUP($B11,'[1]TK KHOILUONG'!$B:$AT,17,0) -> 2.25 | S11: =VLOOKUP($B11,'[1]TK KHOILUONG'!$B:$AT,18,0) -> 0 | T11: =VLOOKUP($B11,'[1]TK KHOILUONG'!$B:$AT,19,0) -> 62 | U11: =VLOOKUP($B11,'[1]TK KHOILUONG'!$B:$AT,20,0) -> 0 | V11: =VLOOKUP($B11,'[1]TK KHOILUONG'!$B:$AT,21,0) -> 6.2 | W11: =VLOOKUP($B11,'[1]TK KHOILUONG'!$B:$AT,22,0) -> 0 | X11: =VLOOKUP($B11,'[1]TK KHOILUONG'!$B:$AT,23,0) -> 0 | Y11: =VLOOKUP($B11,'[1]TK KHOILUONG'!$B:$AT,24,0) -> 0 | Z11: =VLOOKUP($B11,'[1]TK KHOILUONG'!$B:$AT,25,0) -> 0 | AA11: =VLOOKUP($B11,'[1]TK KHOILUONG'!$B:$AT,26,0) -> 0 | AB11: =VLOOKUP($B11,'[1]TK KHOILUONG'!$B:$AT,27,0) -> 0 | AC11: =VLOOKUP($B11,'[1]TK KHOILUONG'!$B:$AT,28,0) -> 0 | AD11: =VLOOKUP($B11,'[1]TK KHOILUONG'!$B:$AT,29,0) -> 0 | AE11: =VLOOKUP($B11,'[1]TK KHOILUONG'!$B:$AT,30,0) -> 0 | AF11: =VLOOKUP($B11,'[1]TK KHOILUONG'!$B:$AT,31,0) -> 0 | AG11: =VLOOKUP($B11,'[1]TK KHOILUONG'!$B:$AT,32,0) -> 0 | AH11: =VLOOKUP($B11,'[1]TK KHOILUONG'!$B:$AT,33,0) -> 0 | AI11: =VLOOKUP($B11,'[1]TK KHOILUONG'!$B:$AT,34,0) -> 0 | AJ11: =VLOOKUP($B11,'[1]TK KHOILUONG'!$B:$AT,35,0) -> 0 | AK11: =VLOOKUP($B11,'[1]TK KHOILUONG'!$B:$AT,36,0) -> 0 | AL11: =VLOOKUP($B11,'[1]TK KHOILUONG'!$B:$AT,37,0) -> 0 | AM11: =VLOOKUP($B11,'[1]TK KHOILUONG'!$B:$AT,38,0) -> 0 | AN11: =VLOOKUP($B11,'[1]TK KHOILUONG'!$B:$AT,39,0) -> 0 | AO11: =VLOOKUP($B11,'[1]TK KHOILUONG'!$B:$AT,40,0) -> 0 | AP11: =VLOOKUP($B11,'[1]TK KHOILUONG'!$B:$AT,41,0) -> 0 | AQ11: =VLOOKUP($B11,'[1]TK KHOILUONG'!$B:$AT,42,0) -> 0 | AR11: =VLOOKUP($B11,'[1]TK KHOILUONG'!$B:$AT,43,0) -> 0 | AS11: =VLOOKUP($B11,'[1]TK KHOILUONG'!$B:$AT,44,0) -> 0.6 | AT11: =IF(D11="","",ROUND(M11+R11+V11+Z11+AD11+AH11+AK11+AN11+AQ11+SUM(AR11:AS11),2)) -> 24.05
A12: =IF(D12="","",SUBTOTAL(3,$D$5:D12)) -> 8 | B12: 01012014 | C12: Khoa CN Cơ khí | D12: Dương Minh Chung | E12: =VLOOKUP($B12,'[1]TK KHOILUONG'!$B:$AT,4,0) -> 4 | F12: =VLOOKUP($B12,'[1]TK KHOILUONG'!$B:$AT,5,0) -> 0 | G12: =VLOOKUP($B12,'[1]TK KHOILUONG'!$B:$AT,6,0) -> 0 | H12: =VLOOKUP($B12,'[1]TK KHOILUONG'!$B:$AT,7,0) -> 0 | I12: =VLOOKUP($B12,'[1]TK KHOILUONG'!$B:$AT,8,0) -> 0 | J12: =VLOOKUP($B12,'[1]TK KHOILUONG'!$B:$AT,9,0) -> 0 | K12: =VLOOKUP($B12,'[1]TK KHOILUONG'!$B:$AT,10,0) -> 0 | L12: =VLOOKUP($B12,'[1]TK KHOILUONG'!$B:$AT,11,0) -> 0 | M12: =VLOOKUP($B12,'[1]TK KHOILUONG'!$B:$AT,12,0) -> 4 | N12: =VLOOKUP($B12,'[1]TK KHOILUONG'!$B:$AT,13,0) -> 1.05 | O12: =VLOOKUP($B12,'[1]TK KHOILUONG'!$B:$AT,14,0) -> 5.25 | P12: =VLOOKUP($B12,'[1]TK KHOILUONG'!$B:$AT,15,0) -> 0 | Q12: =VLOOKUP($B12,'[1]TK KHOILUONG'!$B:$AT,16,0) -> 0 | R12: =VLOOKUP($B12,'[1]TK KHOILUONG'!$B:$AT,17,0) -> 6.3 | S12: =VLOOKUP($B12,'[1]TK KHOILUONG'!$B:$AT,18,0) -> 222 | T12: =VLOOKUP($B12,'[1]TK KHOILUONG'!$B:$AT,19,0) -> 172 | U12: =VLOOKUP($B12,'[1]TK KHOILUONG'!$B:$AT,20,0) -> 278 | V12: =VLOOKUP($B12,'[1]TK KHOILUONG'!$B:$AT,21,0) -> 11.6 | W12: =VLOOKUP($B12,'[1]TK KHOILUONG'!$B:$AT,22,0) -> 0 | X12: =VLOOKUP($B12,'[1]TK KHOILUONG'!$B:$AT,23,0) -> 0 | Y12: =VLOOKUP($B12,'[1]TK KHOILUONG'!$B:$AT,24,0) -> 0 | Z12: =VLOOKUP($B12,'[1]TK KHOILUONG'!$B:$AT,25,0) -> 0 | AA12: =VLOOKUP($B12,'[1]TK KHOILUONG'!$B:$AT,26,0) -> 0 | AB12: =VLOOKUP($B12,'[1]TK KHOILUONG'!$B:$AT,27,0) -> 0 | AC12: =VLOOKUP($B12,'[1]TK KHOILUONG'!$B:$AT,28,0) -> 0 | AD12: =VLOOKUP($B12,'[1]TK KHOILUONG'!$B:$AT,29,0) -> 0 | AE12: =VLOOKUP($B12,'[1]TK KHOILUONG'!$B:$AT,30,0) -> 0 | AF12: =VLOOKUP($B12,'[1]TK KHOILUONG'!$B:$AT,31,0) -> 0 | AG12: =VLOOKUP($B12,'[1]TK KHOILUONG'!$B:$AT,32,0) -> 0 | AH12: =VLOOKUP($B12,'[1]TK KHOILUONG'!$B:$AT,33,0) -> 0 | AI12: =VLOOKUP($B12,'[1]TK KHOILUONG'!$B:$AT,34,0) -> 0 | AJ12: =VLOOKUP($B12,'[1]TK KHOILUONG'!$B:$AT,35,0) -> 0 | AK12: =VLOOKUP($B12,'[1]TK KHOILUONG'!$B:$AT,36,0) -> 0 | AL12: =VLOOKUP($B12,'[1]TK KHOILUONG'!$B:$AT,37,0) -> 0 | AM12: =VLOOKUP($B12,'[1]TK KHOILUONG'!$B:$AT,38,0) -> 0 | AN12: =VLOOKUP($B12,'[1]TK KHOILUONG'!$B:$AT,39,0) -> 0 | AO12: =VLOOKUP($B12,'[1]TK KHOILUONG'!$B:$AT,40,0) -> 0 | AP12: =VLOOKUP($B12,'[1]TK KHOILUONG'!$B:$AT,41,0) -> 0 | AQ12: =VLOOKUP($B12,'[1]TK KHOILUONG'!$B:$AT,42,0) -> 0 | AR12: =VLOOKUP($B12,'[1]TK KHOILUONG'!$B:$AT,43,0) -> 0 | AS12: =VLOOKUP($B12,'[1]TK KHOILUONG'!$B:$AT,44,0) -> 0.5 | AT12: =IF(D12="","",ROUND(M12+R12+V12+Z12+AD12+AH12+AK12+AN12+AQ12+SUM(AR12:AS12),2)) -> 22.4
A13: =IF(D13="","",SUBTOTAL(3,$D$5:D13)) -> 9 | B13: 01012029 | C13: Khoa CN Cơ khí | D13: Dương Ngọc Hưng | E13: =VLOOKUP($B13,'[1]TK KHOILUONG'!$B:$AT,4,0) -> 0 | F13: =VLOOKUP($B13,'[1]TK KHOILUONG'!$B:$AT,5,0) -> 0 | G13: =VLOOKUP($B13,'[1]TK KHOILUONG'!$B:$AT,6,0) -> 0 | H13: =VLOOKUP($B13,'[1]TK KHOILUONG'!$B:$AT,7,0) -> 0 | I13: =VLOOKUP($B13,'[1]TK KHOILUONG'!$B:$AT,8,0) -> 0 | J13: =VLOOKUP($B13,'[1]TK KHOILUONG'!$B:$AT,9,0) -> 0 | K13: =VLOOKUP($B13,'[1]TK KHOILUONG'!$B:$AT,10,0) -> 0 | L13: =VLOOKUP($B13,'[1]TK KHOILUONG'!$B:$AT,11,0) -> 0 | M13: =VLOOKUP($B13,'[1]TK KHOILUONG'!$B:$AT,12,0) -> 0 | N13: =VLOOKUP($B13,'[1]TK KHOILUONG'!$B:$AT,13,0) -> 0 | O13: =VLOOKUP($B13,'[1]TK KHOILUONG'!$B:$AT,14,0) -> 0 | P13: =VLOOKUP($B13,'[1]TK KHOILUONG'!$B:$AT,15,0) -> 0 | Q13: =VLOOKUP($B13,'[1]TK KHOILUONG'!$B:$AT,16,0) -> 0 | R13: =VLOOKUP($B13,'[1]TK KHOILUONG'!$B:$AT,17,0) -> 0 | S13: =VLOOKUP($B13,'[1]TK KHOILUONG'!$B:$AT,18,0) -> 0 | T13: =VLOOKUP($B13,'[1]TK KHOILUONG'!$B:$AT,19,0) -> 0 | U13: =VLOOKUP($B13,'[1]TK KHOILUONG'!$B:$AT,20,0) -> 0 | V13: =VLOOKUP($B13,'[1]TK KHOILUONG'!$B:$AT,21,0) -> 0 | W13: =VLOOKUP($B13,'[1]TK KHOILUONG'!$B:$AT,22,0) -> 0 | X13: =VLOOKUP($B13,'[1]TK KHOILUONG'!$B:$AT,23,0) -> 0 | Y13: =VLOOKUP($B13,'[1]TK KHOILUONG'!$B:$AT,24,0) -> 0 | Z13: =VLOOKUP($B13,'[1]TK KHOILUONG'!$B:$AT,25,0) -> 0 | AA13: =VLOOKUP($B13,'[1]TK KHOILUONG'!$B:$AT,26,0) -> 0 | AB13: =VLOOKUP($B13,'[1]TK KHOILUONG'!$B:$AT,27,0) -> 0 | AC13: =VLOOKUP($B13,'[1]TK KHOILUONG'!$B:$AT,28,0) -> 0 | AD13: =VLOOKUP($B13,'[1]TK KHOILUONG'!$B:$AT,29,0) -> 0 | AE13: =VLOOKUP($B13,'[1]TK KHOILUONG'!$B:$AT,30,0) -> 0 | AF13: =VLOOKUP($B13,'[1]TK KHOILUONG'!$B:$AT,31,0) -> 0 | AG13: =VLOOKUP($B13,'[1]TK KHOILUONG'!$B:$AT,32,0) -> 0 | AH13: =VLOOKUP($B13,'[1]TK KHOILUONG'!$B:$AT,33,0) -> 0 | AI13: =VLOOKUP($B13,'[1]TK KHOILUONG'!$B:$AT,34,0) -> 0 | AJ13: =VLOOKUP($B13,'[1]TK KHOILUONG'!$B:$AT,35,0) -> 0 | AK13: =VLOOKUP($B13,'[1]TK KHOILUONG'!$B:$AT,36,0) -> 0 | AL13: =VLOOKUP($B13,'[1]TK KHOILUONG'!$B:$AT,37,0) -> 0 | AM13: =VLOOKUP($B13,'[1]TK KHOILUONG'!$B:$AT,38,0) -> 0 | AN13: =VLOOKUP($B13,'[1]TK KHOILUONG'!$B:$AT,39,0) -> 0 | AO13: =VLOOKUP($B13,'[1]TK KHOILUONG'!$B:$AT,40,0) -> 0 | AP13: =VLOOKUP($B13,'[1]TK KHOILUONG'!$B:$AT,41,0) -> 0 | AQ13: =VLOOKUP($B13,'[1]TK KHOILUONG'!$B:$AT,42,0) -> 0 | AR13: =VLOOKUP($B13,'[1]TK KHOILUONG'!$B:$AT,43,0) -> 0 | AS13: =VLOOKUP($B13,'[1]TK KHOILUONG'!$B:$AT,44,0) -> 0 | AT13: =IF(D13="","",ROUND(M13+R13+V13+Z13+AD13+AH13+AK13+AN13+AQ13+SUM(AR13:AS13),2)) -> 0
A14: =IF(D14="","",SUBTOTAL(3,$D$5:D14)) -> 10 | B14: 01012028 | C14: Khoa CN Cơ khí | D14: Dương Thị Hồng | E14: =VLOOKUP($B14,'[1]TK KHOILUONG'!$B:$AT,4,0) -> 6 | F14: =VLOOKUP($B14,'[1]TK KHOILUONG'!$B:$AT,5,0) -> 0 | G14: =VLOOKUP($B14,'[1]TK KHOILUONG'!$B:$AT,6,0) -> 0 | H14: =VLOOKUP($B14,'[1]TK KHOILUONG'!$B:$AT,7,0) -> 0 | I14: =VLOOKUP($B14,'[1]TK KHOILUONG'!$B:$AT,8,0) -> 0 | J14: =VLOOKUP($B14,'[1]TK KHOILUONG'!$B:$AT,9,0) -> 0 | K14: =VLOOKUP($B14,'[1]TK KHOILUONG'!$B:$AT,10,0) -> 0 | L14: =VLOOKUP($B14,'[1]TK KHOILUONG'!$B:$AT,11,0) -> 0 | M14: =VLOOKUP($B14,'[1]TK KHOILUONG'!$B:$AT,12,0) -> 6 | N14: =VLOOKUP($B14,'[1]TK KHOILUONG'!$B:$AT,13,0) -> 2.25 | O14: =VLOOKUP($B14,'[1]TK KHOILUONG'!$B:$AT,14,0) -> 3.45 | P14: =VLOOKUP($B14,'[1]TK KHOILUONG'!$B:$AT,15,0) -> 0 | Q14: =VLOOKUP($B14,'[1]TK KHOILUONG'!$B:$AT,16,0) -> 0 | R14: =VLOOKUP($B14,'[1]TK KHOILUONG'!$B:$AT,17,0) -> 5.7 | S14: =VLOOKUP($B14,'[1]TK KHOILUONG'!$B:$AT,18,0) -> 398 | T14: =VLOOKUP($B14,'[1]TK KHOILUONG'!$B:$AT,19,0) -> 405 | U14: =VLOOKUP($B14,'[1]TK KHOILUONG'!$B:$AT,20,0) -> 485 | V14: =VLOOKUP($B14,'[1]TK KHOILUONG'!$B:$AT,21,0) -> 31.8 | W14: =VLOOKUP($B14,'[1]TK KHOILUONG'!$B:$AT,22,0) -> 0 | X14: =VLOOKUP($B14,'[1]TK KHOILUONG'!$B:$AT,23,0) -> 0 | Y14: =VLOOKUP($B14,'[1]TK KHOILUONG'!$B:$AT,24,0) -> 0 | Z14: =VLOOKUP($B14,'[1]TK KHOILUONG'!$B:$AT,25,0) -> 0 | AA14: =VLOOKUP($B14,'[1]TK KHOILUONG'!$B:$AT,26,0) -> 0 | AB14: =VLOOKUP($B14,'[1]TK KHOILUONG'!$B:$AT,27,0) -> 0 | AC14: =VLOOKUP($B14,'[1]TK KHOILUONG'!$B:$AT,28,0) -> 0 | AD14: =VLOOKUP($B14,'[1]TK KHOILUONG'!$B:$AT,29,0) -> 0 | AE14: =VLOOKUP($B14,'[1]TK KHOILUONG'!$B:$AT,30,0) -> 0 | AF14: =VLOOKUP($B14,'[1]TK KHOILUONG'!$B:$AT,31,0) -> 0 | AG14: =VLOOKUP($B14,'[1]TK KHOILUONG'!$B:$AT,32,0) -> 0 | AH14: =VLOOKUP($B14,'[1]TK KHOILUONG'!$B:$AT,33,0) -> 0 | AI14: =VLOOKUP($B14,'[1]TK KHOILUONG'!$B:$AT,34,0) -> 0 | AJ14: =VLOOKUP($B14,'[1]TK KHOILUONG'!$B:$AT,35,0) -> 0 | AK14: =VLOOKUP($B14,'[1]TK KHOILUONG'!$B:$AT,36,0) -> 0 | AL14: =VLOOKUP($B14,'[1]TK KHOILUONG'!$B:$AT,37,0) -> 0 | AM14: =VLOOKUP($B14,'[1]TK KHOILUONG'!$B:$AT,38,0) -> 0 | AN14: =VLOOKUP($B14,'[1]TK KHOILUONG'!$B:$AT,39,0) -> 0 | AO14: =VLOOKUP($B14,'[1]TK KHOILUONG'!$B:$AT,40,0) -> 0 | AP14: =VLOOKUP($B14,'[1]TK KHOILUONG'!$B:$AT,41,0) -> 0 | AQ14: =VLOOKUP($B14,'[1]TK KHOILUONG'!$B:$AT,42,0) -> 0 | AR14: =VLOOKUP($B14,'[1]TK KHOILUONG'!$B:$AT,43,0) -> 0 | AS14: =VLOOKUP($B14,'[1]TK KHOILUONG'!$B:$AT,44,0) -> 0.5 | AT14: =IF(D14="","",ROUND(M14+R14+V14+Z14+AD14+AH14+AK14+AN14+AQ14+SUM(AR14:AS14),2)) -> 44
A15: =IF(D15="","",SUBTOTAL(3,$D$5:D15)) -> 11 | B15: 01006001 | C15: Khoa CN Cơ khí | D15: Hà Phước Tuấn | E15: =VLOOKUP($B15,'[1]TK KHOILUONG'!$B:$AT,4,0) -> 2 | F15: =VLOOKUP($B15,'[1]TK KHOILUONG'!$B:$AT,5,0) -> 0 | G15: =VLOOKUP($B15,'[1]TK KHOILUONG'!$B:$AT,6,0) -> 0 | H15: =VLOOKUP($B15,'[1]TK KHOILUONG'!$B:$AT,7,0) -> 0 | I15: =VLOOKUP($B15,'[1]TK KHOILUONG'!$B:$AT,8,0) -> 0 | J15: =VLOOKUP($B15,'[1]TK KHOILUONG'!$B:$AT,9,0) -> 0 | K15: =VLOOKUP($B15,'[1]TK KHOILUONG'!$B:$AT,10,0) -> 0 | L15: =VLOOKUP($B15,'[1]TK KHOILUONG'!$B:$AT,11,0) -> 0 | M15: =VLOOKUP($B15,'[1]TK KHOILUONG'!$B:$AT,12,0) -> 2 | N15: =VLOOKUP($B15,'[1]TK KHOILUONG'!$B:$AT,13,0) -> 4.5 | O15: =VLOOKUP($B15,'[1]TK KHOILUONG'!$B:$AT,14,0) -> 3.3 | P15: =VLOOKUP($B15,'[1]TK KHOILUONG'!$B:$AT,15,0) -> 0 | Q15: =VLOOKUP($B15,'[1]TK KHOILUONG'!$B:$AT,16,0) -> 0 | R15: =VLOOKUP($B15,'[1]TK KHOILUONG'!$B:$AT,17,0) -> 7.8 | S15: =VLOOKUP($B15,'[1]TK KHOILUONG'!$B:$AT,18,0) -> 149 | T15: =VLOOKUP($B15,'[1]TK KHOILUONG'!$B:$AT,19,0) -> 0 | U15: =VLOOKUP($B15,'[1]TK KHOILUONG'!$B:$AT,20,0) -> 142 | V15: =VLOOKUP($B15,'[1]TK KHOILUONG'!$B:$AT,21,0) -> 0.7 | W15: =VLOOKUP($B15,'[1]TK KHOILUONG'!$B:$AT,22,0) -> 0 | X15: =VLOOKUP($B15,'[1]TK KHOILUONG'!$B:$AT,23,0) -> 0 | Y15: =VLOOKUP($B15,'[1]TK KHOILUONG'!$B:$AT,24,0) -> 0 | Z15: =VLOOKUP($B15,'[1]TK KHOILUONG'!$B:$AT,25,0) -> 0 | AA15: =VLOOKUP($B15,'[1]TK KHOILUONG'!$B:$AT,26,0) -> 0 | AB15: =VLOOKUP($B15,'[1]TK KHOILUONG'!$B:$AT,27,0) -> 0 | AC15: =VLOOKUP($B15,'[1]TK KHOILUONG'!$B:$AT,28,0) -> 0 | AD15: =VLOOKUP($B15,'[1]TK KHOILUONG'!$B:$AT,29,0) -> 0 | AE15: =VLOOKUP($B15,'[1]TK KHOILUONG'!$B:$AT,30,0) -> 0 | AF15: =VLOOKUP($B15,'[1]TK KHOILUONG'!$B:$AT,31,0) -> 0 | AG15: =VLOOKUP($B15,'[1]TK KHOILUONG'!$B:$AT,32,0) -> 0 | AH15: =VLOOKUP($B15,'[1]TK KHOILUONG'!$B:$AT,33,0) -> 0 | AI15: =VLOOKUP($B15,'[1]TK KHOILUONG'!$B:$AT,34,0) -> 0 | AJ15: =VLOOKUP($B15,'[1]TK KHOILUONG'!$B:$AT,35,0) -> 0 | AK15: =VLOOKUP($B15,'[1]TK KHOILUONG'!$B:$AT,36,0) -> 0 | AL15: =VLOOKUP($B15,'[1]TK KHOILUONG'!$B:$AT,37,0) -> 0 | AM15: =VLOOKUP($B15,'[1]TK KHOILUONG'!$B:$AT,38,0) -> 0 | AN15: =VLOOKUP($B15,'[1]TK KHOILUONG'!$B:$AT,39,0) -> 0 | AO15: =VLOOKUP($B15,'[1]TK KHOILUONG'!$B:$AT,40,0) -> 0 | AP15: =VLOOKUP($B15,'[1]TK KHOILUONG'!$B:$AT,41,0) -> 0 | AQ15: =VLOOKUP($B15,'[1]TK KHOILUONG'!$B:$AT,42,0) -> 0 | AR15: =VLOOKUP($B15,'[1]TK KHOILUONG'!$B:$AT,43,0) -> 0 | AS15: =VLOOKUP($B15,'[1]TK KHOILUONG'!$B:$AT,44,0) -> 1.4 | AT15: =IF(D15="","",ROUND(M15+R15+V15+Z15+AD15+AH15+AK15+AN15+AQ15+SUM(AR15:AS15),2)) -> 11.9
A16: =IF(D16="","",SUBTOTAL(3,$D$5:D16)) -> 12 | B16: 01012030 | C16: Khoa CN Cơ khí | D16: Hồ Nhật Linh (TG) | E16: =VLOOKUP($B16,'[1]TK KHOILUONG'!$B:$AT,4,0) -> 0 | F16: =VLOOKUP($B16,'[1]TK KHOILUONG'!$B:$AT,5,0) -> 0 | G16: =VLOOKUP($B16,'[1]TK KHOILUONG'!$B:$AT,6,0) -> 0 | H16: =VLOOKUP($B16,'[1]TK KHOILUONG'!$B:$AT,7,0) -> 0 | I16: =VLOOKUP($B16,'[1]TK KHOILUONG'!$B:$AT,8,0) -> 0 | J16: =VLOOKUP($B16,'[1]TK KHOILUONG'!$B:$AT,9,0) -> 0 | K16: =VLOOKUP($B16,'[1]TK KHOILUONG'!$B:$AT,10,0) -> 0 | L16: =VLOOKUP($B16,'[1]TK KHOILUONG'!$B:$AT,11,0) -> 0 | M16: =VLOOKUP($B16,'[1]TK KHOILUONG'!$B:$AT,12,0) -> 0 | N16: =VLOOKUP($B16,'[1]TK KHOILUONG'!$B:$AT,13,0) -> 0 | O16: =VLOOKUP($B16,'[1]TK KHOILUONG'!$B:$AT,14,0) -> 0 | P16: =VLOOKUP($B16,'[1]TK KHOILUONG'!$B:$AT,15,0) -> 0 | Q16: =VLOOKUP($B16,'[1]TK KHOILUONG'!$B:$AT,16,0) -> 0 | R16: =VLOOKUP($B16,'[1]TK KHOILUONG'!$B:$AT,17,0) -> 0 | S16: =VLOOKUP($B16,'[1]TK KHOILUONG'!$B:$AT,18,0) -> 218 | T16: =VLOOKUP($B16,'[1]TK KHOILUONG'!$B:$AT,19,0) -> 0 | U16: =VLOOKUP($B16,'[1]TK KHOILUONG'!$B:$AT,20,0) -> 192 | V16: =VLOOKUP($B16,'[1]TK KHOILUONG'!$B:$AT,21,0) -> 2.6 | W16: =VLOOKUP($B16,'[1]TK KHOILUONG'!$B:$AT,22,0) -> 0 | X16: =VLOOKUP($B16,'[1]TK KHOILUONG'!$B:$AT,23,0) -> 0 | Y16: =VLOOKUP($B16,'[1]TK KHOILUONG'!$B:$AT,24,0) -> 0 | Z16: =VLOOKUP($B16,'[1]TK KHOILUONG'!$B:$AT,25,0) -> 0 | AA16: =VLOOKUP($B16,'[1]TK KHOILUONG'!$B:$AT,26,0) -> 0 | AB16: =VLOOKUP($B16,'[1]TK KHOILUONG'!$B:$AT,27,0) -> 0 | AC16: =VLOOKUP($B16,'[1]TK KHOILUONG'!$B:$AT,28,0) -> 0 | AD16: =VLOOKUP($B16,'[1]TK KHOILUONG'!$B:$AT,29,0) -> 0 | AE16: =VLOOKUP($B16,'[1]TK KHOILUONG'!$B:$AT,30,0) -> 0 | AF16: =VLOOKUP($B16,'[1]TK KHOILUONG'!$B:$AT,31,0) -> 0 | AG16: =VLOOKUP($B16,'[1]TK KHOILUONG'!$B:$AT,32,0) -> 0 | AH16: =VLOOKUP($B16,'[1]TK KHOILUONG'!$B:$AT,33,0) -> 0 | AI16: =VLOOKUP($B16,'[1]TK KHOILUONG'!$B:$AT,34,0) -> 0 | AJ16: =VLOOKUP($B16,'[1]TK KHOILUONG'!$B:$AT,35,0) -> 0 | AK16: =VLOOKUP($B16,'[1]TK KHOILUONG'!$B:$AT,36,0) -> 0 | AL16: =VLOOKUP($B16,'[1]TK KHOILUONG'!$B:$AT,37,0) -> 0 | AM16: =VLOOKUP($B16,'[1]TK KHOILUONG'!$B:$AT,38,0) -> 0 | AN16: =VLOOKUP($B16,'[1]TK KHOILUONG'!$B:$AT,39,0) -> 0 | AO16: =VLOOKUP($B16,'[1]TK KHOILUONG'!$B:$AT,40,0) -> 0 | AP16: =VLOOKUP($B16,'[1]TK KHOILUONG'!$B:$AT,41,0) -> 0 | AQ16: =VLOOKUP($B16,'[1]TK KHOILUONG'!$B:$AT,42,0) -> 0 | AR16: =VLOOKUP($B16,'[1]TK KHOILUONG'!$B:$AT,43,0) -> 0 | AS16: =VLOOKUP($B16,'[1]TK KHOILUONG'!$B:$AT,44,0) -> 0 | AT16: =IF(D16="","",ROUND(M16+R16+V16+Z16+AD16+AH16+AK16+AN16+AQ16+SUM(AR16:AS16),2)) -> 2.6
... A473: =IF(D473="","",SUBTOTAL(3,$D$5:D473)) -> 469 | B473: 01021002 | C473: TT Y tế | D473: Vũ Thị Thanh Nhàn | E473: =VLOOKUP($B473,'[1]TK KHOILUONG'!$B:$AT,4,0) -> 0 | F473: =VLOOKUP($B473,'[1]TK KHOILUONG'!$B:$AT,5,0) -> 0 | G473: =VLOOKUP($B473,'[1]TK KHOILUONG'!$B:$AT,6,0) -> 0 | H473: =VLOOKUP($B473,'[1]TK KHOILUONG'!$B:$AT,7,0) -> 0 | I473: =VLOOKUP($B473,'[1]TK KHOILUONG'!$B:$AT,8,0) -> 0 | J473: =VLOOKUP($B473,'[1]TK KHOILUONG'!$B:$AT,9,0) -> 0 | K473: =VLOOKUP($B473,'[1]TK KHOILUONG'!$B:$AT,10,0) -> 0 | L473: =VLOOKUP($B473,'[1]TK KHOILUONG'!$B:$AT,11,0) -> 0 | M473: =VLOOKUP($B473,'[1]TK KHOILUONG'!$B:$AT,12,0) -> 0 | N473: =VLOOKUP($B473,'[1]TK KHOILUONG'!$B:$AT,13,0) -> 0 | O473: =VLOOKUP($B473,'[1]TK KHOILUONG'!$B:$AT,14,0) -> 0 | P473: =VLOOKUP($B473,'[1]TK KHOILUONG'!$B:$AT,15,0) -> 0 | Q473: =VLOOKUP($B473,'[1]TK KHOILUONG'!$B:$AT,16,0) -> 0 | R473: =VLOOKUP($B473,'[1]TK KHOILUONG'!$B:$AT,17,0) -> 0 | S473: =VLOOKUP($B473,'[1]TK KHOILUONG'!$B:$AT,18,0) -> 0 | T473: =VLOOKUP($B473,'[1]TK KHOILUONG'!$B:$AT,19,0) -> 0 | U473: =VLOOKUP($B473,'[1]TK KHOILUONG'!$B:$AT,20,0) -> 0 | V473: =VLOOKUP($B473,'[1]TK KHOILUONG'!$B:$AT,21,0) -> 0 | W473: =VLOOKUP($B473,'[1]TK KHOILUONG'!$B:$AT,22,0) -> 0 | X473: =VLOOKUP($B473,'[1]TK KHOILUONG'!$B:$AT,23,0) -> 0 | Y473: =VLOOKUP($B473,'[1]TK KHOILUONG'!$B:$AT,24,0) -> 0 | Z473: =VLOOKUP($B473,'[1]TK KHOILUONG'!$B:$AT,25,0) -> 0 | AA473: =VLOOKUP($B473,'[1]TK KHOILUONG'!$B:$AT,26,0) -> 0 | AB473: =VLOOKUP($B473,'[1]TK KHOILUONG'!$B:$AT,27,0) -> 0 | AC473: =VLOOKUP($B473,'[1]TK KHOILUONG'!$B:$AT,28,0) -> 0 | AD473: =VLOOKUP($B473,'[1]TK KHOILUONG'!$B:$AT,29,0) -> 0 | AE473: =VLOOKUP($B473,'[1]TK KHOILUONG'!$B:$AT,30,0) -> 0 | AF473: =VLOOKUP($B473,'[1]TK KHOILUONG'!$B:$AT,31,0) -> 0 | AG473: =VLOOKUP($B473,'[1]TK KHOILUONG'!$B:$AT,32,0) -> 0 | AH473: =VLOOKUP($B473,'[1]TK KHOILUONG'!$B:$AT,33,0) -> 0 | AI473: =VLOOKUP($B473,'[1]TK KHOILUONG'!$B:$AT,34,0) -> 0 | AJ473: =VLOOKUP($B473,'[1]TK KHOILUONG'!$B:$AT,35,0) -> 0 | AK473: =VLOOKUP($B473,'[1]TK KHOILUONG'!$B:$AT,36,0) -> 0 | AL473: =VLOOKUP($B473,'[1]TK KHOILUONG'!$B:$AT,37,0) -> 0 | AM473: =VLOOKUP($B473,'[1]TK KHOILUONG'!$B:$AT,38,0) -> 0 | AN473: =VLOOKUP($B473,'[1]TK KHOILUONG'!$B:$AT,39,0) -> 0 | AO473: =VLOOKUP($B473,'[1]TK KHOILUONG'!$B:$AT,40,0) -> 0 | AP473: =VLOOKUP($B473,'[1]TK KHOILUONG'!$B:$AT,41,0) -> 0 | AQ473: =VLOOKUP($B473,'[1]TK KHOILUONG'!$B:$AT,42,0) -> 0 | AR473: =VLOOKUP($B473,'[1]TK KHOILUONG'!$B:$AT,43,0) -> 0 | AS473: =VLOOKUP($B473,'[1]TK KHOILUONG'!$B:$AT,44,0) -> 0 | AT473: =IF(D473="","",ROUND(M473+R473+V473+Z473+AD473+AH473+AK473+AN473+AQ473+SUM(AR473:AS473),2)) -> 0
A474: =IF(D474="","",SUBTOTAL(3,$D$5:D474)) | E474: =VLOOKUP($B474,'[1]TK KHOILUONG'!$B:$AT,4,0) -> #N/A | F474: =VLOOKUP($B474,'[1]TK KHOILUONG'!$B:$AT,5,0) -> #N/A | G474: =VLOOKUP($B474,'[1]TK KHOILUONG'!$B:$AT,6,0) -> #N/A | H474: =VLOOKUP($B474,'[1]TK KHOILUONG'!$B:$AT,7,0) -> #N/A | I474: =VLOOKUP($B474,'[1]TK KHOILUONG'!$B:$AT,8,0) -> #N/A | J474: =VLOOKUP($B474,'[1]TK KHOILUONG'!$B:$AT,9,0) -> #N/A | K474: =VLOOKUP($B474,'[1]TK KHOILUONG'!$B:$AT,10,0) -> #N/A | L474: =VLOOKUP($B474,'[1]TK KHOILUONG'!$B:$AT,11,0) -> #N/A | M474: =VLOOKUP($B474,'[1]TK KHOILUONG'!$B:$AT,12,0) -> #N/A | N474: =VLOOKUP($B474,'[1]TK KHOILUONG'!$B:$AT,13,0) -> #N/A | O474: =VLOOKUP($B474,'[1]TK KHOILUONG'!$B:$AT,14,0) -> #N/A | P474: =VLOOKUP($B474,'[1]TK KHOILUONG'!$B:$AT,15,0) -> #N/A | Q474: =VLOOKUP($B474,'[1]TK KHOILUONG'!$B:$AT,16,0) -> #N/A | R474: =VLOOKUP($B474,'[1]TK KHOILUONG'!$B:$AT,17,0) -> #N/A | S474: =VLOOKUP($B474,'[1]TK KHOILUONG'!$B:$AT,18,0) -> #N/A | T474: =VLOOKUP($B474,'[1]TK KHOILUONG'!$B:$AT,19,0) -> #N/A | U474: =VLOOKUP($B474,'[1]TK KHOILUONG'!$B:$AT,20,0) -> #N/A | V474: =VLOOKUP($B474,'[1]TK KHOILUONG'!$B:$AT,21,0) -> #N/A | W474: =VLOOKUP($B474,'[1]TK KHOILUONG'!$B:$AT,22,0) -> #N/A | X474: =VLOOKUP($B474,'[1]TK KHOILUONG'!$B:$AT,23,0) -> #N/A | Y474: =VLOOKUP($B474,'[1]TK KHOILUONG'!$B:$AT,24,0) -> #N/A | Z474: =VLOOKUP($B474,'[1]TK KHOILUONG'!$B:$AT,25,0) -> #N/A | AA474: =VLOOKUP($B474,'[1]TK KHOILUONG'!$B:$AT,26,0) -> #N/A | AB474: =VLOOKUP($B474,'[1]TK KHOILUONG'!$B:$AT,27,0) -> #N/A | AC474: =VLOOKUP($B474,'[1]TK KHOILUONG'!$B:$AT,28,0) -> #N/A | AD474: =VLOOKUP($B474,'[1]TK KHOILUONG'!$B:$AT,29,0) -> #N/A | AE474: =VLOOKUP($B474,'[1]TK KHOILUONG'!$B:$AT,30,0) -> #N/A | AF474: =VLOOKUP($B474,'[1]TK KHOILUONG'!$B:$AT,31,0) -> #N/A | AG474: =VLOOKUP($B474,'[1]TK KHOILUONG'!$B:$AT,32,0) -> #N/A | AH474: =VLOOKUP($B474,'[1]TK KHOILUONG'!$B:$AT,33,0) -> #N/A | AI474: =VLOOKUP($B474,'[1]TK KHOILUONG'!$B:$AT,34,0) -> #N/A | AJ474: =VLOOKUP($B474,'[1]TK KHOILUONG'!$B:$AT,35,0) -> #N/A | AK474: =VLOOKUP($B474,'[1]TK KHOILUONG'!$B:$AT,36,0) -> #N/A | AL474: =VLOOKUP($B474,'[1]TK KHOILUONG'!$B:$AT,37,0) -> #N/A | AM474: =VLOOKUP($B474,'[1]TK KHOILUONG'!$B:$AT,38,0) -> #N/A | AN474: =VLOOKUP($B474,'[1]TK KHOILUONG'!$B:$AT,39,0) -> #N/A | AO474: =VLOOKUP($B474,'[1]TK KHOILUONG'!$B:$AT,40,0) -> #N/A | AP474: =VLOOKUP($B474,'[1]TK KHOILUONG'!$B:$AT,41,0) -> #N/A | AQ474: =VLOOKUP($B474,'[1]TK KHOILUONG'!$B:$AT,42,0) -> #N/A | AR474: =VLOOKUP($B474,'[1]TK KHOILUONG'!$B:$AT,43,0) -> #N/A | AS474: =VLOOKUP($B474,'[1]TK KHOILUONG'!$B:$AT,44,0) -> #N/A | AT474: =IF(D474="","",ROUND(M474+R474+V474+Z474+AD474+AH474+AK474+AN474+AQ474+SUM(AR474:AS474),2))
A475: =IF(D475="","",SUBTOTAL(3,$D$5:D475)) | E475: =VLOOKUP($B475,'[1]TK KHOILUONG'!$B:$AT,4,0) -> #N/A | F475: =VLOOKUP($B475,'[1]TK KHOILUONG'!$B:$AT,5,0) -> #N/A | G475: =VLOOKUP($B475,'[1]TK KHOILUONG'!$B:$AT,6,0) -> #N/A | H475: =VLOOKUP($B475,'[1]TK KHOILUONG'!$B:$AT,7,0) -> #N/A | I475: =VLOOKUP($B475,'[1]TK KHOILUONG'!$B:$AT,8,0) -> #N/A | J475: =VLOOKUP($B475,'[1]TK KHOILUONG'!$B:$AT,9,0) -> #N/A | K475: =VLOOKUP($B475,'[1]TK KHOILUONG'!$B:$AT,10,0) -> #N/A | L475: =VLOOKUP($B475,'[1]TK KHOILUONG'!$B:$AT,11,0) -> #N/A | M475: =VLOOKUP($B475,'[1]TK KHOILUONG'!$B:$AT,12,0) -> #N/A | N475: =VLOOKUP($B475,'[1]TK KHOILUONG'!$B:$AT,13,0) -> #N/A | O475: =VLOOKUP($B475,'[1]TK KHOILUONG'!$B:$AT,14,0) -> #N/A | P475: =VLOOKUP($B475,'[1]TK KHOILUONG'!$B:$AT,15,0) -> #N/A | Q475: =VLOOKUP($B475,'[1]TK KHOILUONG'!$B:$AT,16,0) -> #N/A | R475: =VLOOKUP($B475,'[1]TK KHOILUONG'!$B:$AT,17,0) -> #N/A | S475: =VLOOKUP($B475,'[1]TK KHOILUONG'!$B:$AT,18,0) -> #N/A | T475: =VLOOKUP($B475,'[1]TK KHOILUONG'!$B:$AT,19,0) -> #N/A | U475: =VLOOKUP($B475,'[1]TK KHOILUONG'!$B:$AT,20,0) -> #N/A | V475: =VLOOKUP($B475,'[1]TK KHOILUONG'!$B:$AT,21,0) -> #N/A | W475: =VLOOKUP($B475,'[1]TK KHOILUONG'!$B:$AT,22,0) -> #N/A | X475: =VLOOKUP($B475,'[1]TK KHOILUONG'!$B:$AT,23,0) -> #N/A | Y475: =VLOOKUP($B475,'[1]TK KHOILUONG'!$B:$AT,24,0) -> #N/A | Z475: =VLOOKUP($B475,'[1]TK KHOILUONG'!$B:$AT,25,0) -> #N/A | AA475: =VLOOKUP($B475,'[1]TK KHOILUONG'!$B:$AT,26,0) -> #N/A | AB475: =VLOOKUP($B475,'[1]TK KHOILUONG'!$B:$AT,27,0) -> #N/A | AC475: =VLOOKUP($B475,'[1]TK KHOILUONG'!$B:$AT,28,0) -> #N/A | AD475: =VLOOKUP($B475,'[1]TK KHOILUONG'!$B:$AT,29,0) -> #N/A | AE475: =VLOOKUP($B475,'[1]TK KHOILUONG'!$B:$AT,30,0) -> #N/A | AF475: =VLOOKUP($B475,'[1]TK KHOILUONG'!$B:$AT,31,0) -> #N/A | AG475: =VLOOKUP($B475,'[1]TK KHOILUONG'!$B:$AT,32,0) -> #N/A | AH475: =VLOOKUP($B475,'[1]TK KHOILUONG'!$B:$AT,33,0) -> #N/A | AI475: =VLOOKUP($B475,'[1]TK KHOILUONG'!$B:$AT,34,0) -> #N/A | AJ475: =VLOOKUP($B475,'[1]TK KHOILUONG'!$B:$AT,35,0) -> #N/A | AK475: =VLOOKUP($B475,'[1]TK KHOILUONG'!$B:$AT,36,0) -> #N/A | AL475: =VLOOKUP($B475,'[1]TK KHOILUONG'!$B:$AT,37,0) -> #N/A | AM475: =VLOOKUP($B475,'[1]TK KHOILUONG'!$B:$AT,38,0) -> #N/A | AN475: =VLOOKUP($B475,'[1]TK KHOILUONG'!$B:$AT,39,0) -> #N/A | AO475: =VLOOKUP($B475,'[1]TK KHOILUONG'!$B:$AT,40,0) -> #N/A | AP475: =VLOOKUP($B475,'[1]TK KHOILUONG'!$B:$AT,41,0) -> #N/A | AQ475: =VLOOKUP($B475,'[1]TK KHOILUONG'!$B:$AT,42,0) -> #N/A | AR475: =VLOOKUP($B475,'[1]TK KHOILUONG'!$B:$AT,43,0) -> #N/A | AS475: =VLOOKUP($B475,'[1]TK KHOILUONG'!$B:$AT,44,0) -> #N/A | AT475: =IF(D475="","",ROUND(M475+R475+V475+Z475+AD475+AH475+AK475+AN475+AQ475+SUM(AR475:AS475),2))
A476: =IF(D476="","",SUBTOTAL(3,$D$5:D476)) | E476: =VLOOKUP($B476,'[1]TK KHOILUONG'!$B:$AT,4,0) -> #N/A | F476: =VLOOKUP($B476,'[1]TK KHOILUONG'!$B:$AT,5,0) -> #N/A | G476: =VLOOKUP($B476,'[1]TK KHOILUONG'!$B:$AT,6,0) -> #N/A | H476: =VLOOKUP($B476,'[1]TK KHOILUONG'!$B:$AT,7,0) -> #N/A | I476: =VLOOKUP($B476,'[1]TK KHOILUONG'!$B:$AT,8,0) -> #N/A | J476: =VLOOKUP($B476,'[1]TK KHOILUONG'!$B:$AT,9,0) -> #N/A | K476: =VLOOKUP($B476,'[1]TK KHOILUONG'!$B:$AT,10,0) -> #N/A | L476: =VLOOKUP($B476,'[1]TK KHOILUONG'!$B:$AT,11,0) -> #N/A | M476: =VLOOKUP($B476,'[1]TK KHOILUONG'!$B:$AT,12,0) -> #N/A | N476: =VLOOKUP($B476,'[1]TK KHOILUONG'!$B:$AT,13,0) -> #N/A | O476: =VLOOKUP($B476,'[1]TK KHOILUONG'!$B:$AT,14,0) -> #N/A | P476: =VLOOKUP($B476,'[1]TK KHOILUONG'!$B:$AT,15,0) -> #N/A | Q476: =VLOOKUP($B476,'[1]TK KHOILUONG'!$B:$AT,16,0) -> #N/A | R476: =VLOOKUP($B476,'[1]TK KHOILUONG'!$B:$AT,17,0) -> #N/A | S476: =VLOOKUP($B476,'[1]TK KHOILUONG'!$B:$AT,18,0) -> #N/A | T476: =VLOOKUP($B476,'[1]TK KHOILUONG'!$B:$AT,19,0) -> #N/A | U476: =VLOOKUP($B476,'[1]TK KHOILUONG'!$B:$AT,20,0) -> #N/A | V476: =VLOOKUP($B476,'[1]TK KHOILUONG'!$B:$AT,21,0) -> #N/A | W476: =VLOOKUP($B476,'[1]TK KHOILUONG'!$B:$AT,22,0) -> #N/A | X476: =VLOOKUP($B476,'[1]TK KHOILUONG'!$B:$AT,23,0) -> #N/A | Y476: =VLOOKUP($B476,'[1]TK KHOILUONG'!$B:$AT,24,0) -> #N/A | Z476: =VLOOKUP($B476,'[1]TK KHOILUONG'!$B:$AT,25,0) -> #N/A | AA476: =VLOOKUP($B476,'[1]TK KHOILUONG'!$B:$AT,26,0) -> #N/A | AB476: =VLOOKUP($B476,'[1]TK KHOILUONG'!$B:$AT,27,0) -> #N/A | AC476: =VLOOKUP($B476,'[1]TK KHOILUONG'!$B:$AT,28,0) -> #N/A | AD476: =VLOOKUP($B476,'[1]TK KHOILUONG'!$B:$AT,29,0) -> #N/A | AE476: =VLOOKUP($B476,'[1]TK KHOILUONG'!$B:$AT,30,0) -> #N/A | AF476: =VLOOKUP($B476,'[1]TK KHOILUONG'!$B:$AT,31,0) -> #N/A | AG476: =VLOOKUP($B476,'[1]TK KHOILUONG'!$B:$AT,32,0) -> #N/A | AH476: =VLOOKUP($B476,'[1]TK KHOILUONG'!$B:$AT,33,0) -> #N/A | AI476: =VLOOKUP($B476,'[1]TK KHOILUONG'!$B:$AT,34,0) -> #N/A | AJ476: =VLOOKUP($B476,'[1]TK KHOILUONG'!$B:$AT,35,0) -> #N/A | AK476: =VLOOKUP($B476,'[1]TK KHOILUONG'!$B:$AT,36,0) -> #N/A | AL476: =VLOOKUP($B476,'[1]TK KHOILUONG'!$B:$AT,37,0) -> #N/A | AM476: =VLOOKUP($B476,'[1]TK KHOILUONG'!$B:$AT,38,0) -> #N/A | AN476: =VLOOKUP($B476,'[1]TK KHOILUONG'!$B:$AT,39,0) -> #N/A | AO476: =VLOOKUP($B476,'[1]TK KHOILUONG'!$B:$AT,40,0) -> #N/A | AP476: =VLOOKUP($B476,'[1]TK KHOILUONG'!$B:$AT,41,0) -> #N/A | AQ476: =VLOOKUP($B476,'[1]TK KHOILUONG'!$B:$AT,42,0) -> #N/A | AR476: =VLOOKUP($B476,'[1]TK KHOILUONG'!$B:$AT,43,0) -> #N/A | AS476: =VLOOKUP($B476,'[1]TK KHOILUONG'!$B:$AT,44,0) -> #N/A | AT476: =IF(D476="","",ROUND(M476+R476+V476+Z476+AD476+AH476+AK476+AN476+AQ476+SUM(AR476:AS476),2))
A477: =IF(D477="","",SUBTOTAL(3,$D$5:D477)) | E477: =VLOOKUP($B477,'[1]TK KHOILUONG'!$B:$AT,4,0) -> #N/A | F477: =VLOOKUP($B477,'[1]TK KHOILUONG'!$B:$AT,5,0) -> #N/A | G477: =VLOOKUP($B477,'[1]TK KHOILUONG'!$B:$AT,6,0) -> #N/A | H477: =VLOOKUP($B477,'[1]TK KHOILUONG'!$B:$AT,7,0) -> #N/A | I477: =VLOOKUP($B477,'[1]TK KHOILUONG'!$B:$AT,8,0) -> #N/A | J477: =VLOOKUP($B477,'[1]TK KHOILUONG'!$B:$AT,9,0) -> #N/A | K477: =VLOOKUP($B477,'[1]TK KHOILUONG'!$B:$AT,10,0) -> #N/A | L477: =VLOOKUP($B477,'[1]TK KHOILUONG'!$B:$AT,11,0) -> #N/A | M477: =VLOOKUP($B477,'[1]TK KHOILUONG'!$B:$AT,12,0) -> #N/A | N477: =VLOOKUP($B477,'[1]TK KHOILUONG'!$B:$AT,13,0) -> #N/A | O477: =VLOOKUP($B477,'[1]TK KHOILUONG'!$B:$AT,14,0) -> #N/A | P477: =VLOOKUP($B477,'[1]TK KHOILUONG'!$B:$AT,15,0) -> #N/A | Q477: =VLOOKUP($B477,'[1]TK KHOILUONG'!$B:$AT,16,0) -> #N/A | R477: =VLOOKUP($B477,'[1]TK KHOILUONG'!$B:$AT,17,0) -> #N/A | S477: =VLOOKUP($B477,'[1]TK KHOILUONG'!$B:$AT,18,0) -> #N/A | T477: =VLOOKUP($B477,'[1]TK KHOILUONG'!$B:$AT,19,0) -> #N/A | U477: =VLOOKUP($B477,'[1]TK KHOILUONG'!$B:$AT,20,0) -> #N/A | V477: =VLOOKUP($B477,'[1]TK KHOILUONG'!$B:$AT,21,0) -> #N/A | W477: =VLOOKUP($B477,'[1]TK KHOILUONG'!$B:$AT,22,0) -> #N/A | X477: =VLOOKUP($B477,'[1]TK KHOILUONG'!$B:$AT,23,0) -> #N/A | Y477: =VLOOKUP($B477,'[1]TK KHOILUONG'!$B:$AT,24,0) -> #N/A | Z477: =VLOOKUP($B477,'[1]TK KHOILUONG'!$B:$AT,25,0) -> #N/A | AA477: =VLOOKUP($B477,'[1]TK KHOILUONG'!$B:$AT,26,0) -> #N/A | AB477: =VLOOKUP($B477,'[1]TK KHOILUONG'!$B:$AT,27,0) -> #N/A | AC477: =VLOOKUP($B477,'[1]TK KHOILUONG'!$B:$AT,28,0) -> #N/A | AD477: =VLOOKUP($B477,'[1]TK KHOILUONG'!$B:$AT,29,0) -> #N/A | AE477: =VLOOKUP($B477,'[1]TK KHOILUONG'!$B:$AT,30,0) -> #N/A | AF477: =VLOOKUP($B477,'[1]TK KHOILUONG'!$B:$AT,31,0) -> #N/A | AG477: =VLOOKUP($B477,'[1]TK KHOILUONG'!$B:$AT,32,0) -> #N/A | AH477: =VLOOKUP($B477,'[1]TK KHOILUONG'!$B:$AT,33,0) -> #N/A | AI477: =VLOOKUP($B477,'[1]TK KHOILUONG'!$B:$AT,34,0) -> #N/A | AJ477: =VLOOKUP($B477,'[1]TK KHOILUONG'!$B:$AT,35,0) -> #N/A | AK477: =VLOOKUP($B477,'[1]TK KHOILUONG'!$B:$AT,36,0) -> #N/A | AL477: =VLOOKUP($B477,'[1]TK KHOILUONG'!$B:$AT,37,0) -> #N/A | AM477: =VLOOKUP($B477,'[1]TK KHOILUONG'!$B:$AT,38,0) -> #N/A | AN477: =VLOOKUP($B477,'[1]TK KHOILUONG'!$B:$AT,39,0) -> #N/A | AO477: =VLOOKUP($B477,'[1]TK KHOILUONG'!$B:$AT,40,0) -> #N/A | AP477: =VLOOKUP($B477,'[1]TK KHOILUONG'!$B:$AT,41,0) -> #N/A | AQ477: =VLOOKUP($B477,'[1]TK KHOILUONG'!$B:$AT,42,0) -> #N/A | AR477: =VLOOKUP($B477,'[1]TK KHOILUONG'!$B:$AT,43,0) -> #N/A | AS477: =VLOOKUP($B477,'[1]TK KHOILUONG'!$B:$AT,44,0) -> #N/A | AT477: =IF(D477="","",ROUND(M477+R477+V477+Z477+AD477+AH477+AK477+AN477+AQ477+SUM(AR477:AS477),2))
A478: =IF(D478="","",SUBTOTAL(3,$D$5:D478)) | E478: =VLOOKUP($B478,'[1]TK KHOILUONG'!$B:$AT,4,0) -> #N/A | F478: =VLOOKUP($B478,'[1]TK KHOILUONG'!$B:$AT,5,0) -> #N/A | G478: =VLOOKUP($B478,'[1]TK KHOILUONG'!$B:$AT,6,0) -> #N/A | H478: =VLOOKUP($B478,'[1]TK KHOILUONG'!$B:$AT,7,0) -> #N/A | I478: =VLOOKUP($B478,'[1]TK KHOILUONG'!$B:$AT,8,0) -> #N/A | J478: =VLOOKUP($B478,'[1]TK KHOILUONG'!$B:$AT,9,0) -> #N/A | K478: =VLOOKUP($B478,'[1]TK KHOILUONG'!$B:$AT,10,0) -> #N/A | L478: =VLOOKUP($B478,'[1]TK KHOILUONG'!$B:$AT,11,0) -> #N/A | M478: =VLOOKUP($B478,'[1]TK KHOILUONG'!$B:$AT,12,0) -> #N/A | N478: =VLOOKUP($B478,'[1]TK KHOILUONG'!$B:$AT,13,0) -> #N/A | O478: =VLOOKUP($B478,'[1]TK KHOILUONG'!$B:$AT,14,0) -> #N/A | P478: =VLOOKUP($B478,'[1]TK KHOILUONG'!$B:$AT,15,0) -> #N/A | Q478: =VLOOKUP($B478,'[1]TK KHOILUONG'!$B:$AT,16,0) -> #N/A | R478: =VLOOKUP($B478,'[1]TK KHOILUONG'!$B:$AT,17,0) -> #N/A | S478: =VLOOKUP($B478,'[1]TK KHOILUONG'!$B:$AT,18,0) -> #N/A | T478: =VLOOKUP($B478,'[1]TK KHOILUONG'!$B:$AT,19,0) -> #N/A | U478: =VLOOKUP($B478,'[1]TK KHOILUONG'!$B:$AT,20,0) -> #N/A | V478: =VLOOKUP($B478,'[1]TK KHOILUONG'!$B:$AT,21,0) -> #N/A | W478: =VLOOKUP($B478,'[1]TK KHOILUONG'!$B:$AT,22,0) -> #N/A | X478: =VLOOKUP($B478,'[1]TK KHOILUONG'!$B:$AT,23,0) -> #N/A | Y478: =VLOOKUP($B478,'[1]TK KHOILUONG'!$B:$AT,24,0) -> #N/A | Z478: =VLOOKUP($B478,'[1]TK KHOILUONG'!$B:$AT,25,0) -> #N/A | AA478: =VLOOKUP($B478,'[1]TK KHOILUONG'!$B:$AT,26,0) -> #N/A | AB478: =VLOOKUP($B478,'[1]TK KHOILUONG'!$B:$AT,27,0) -> #N/A | AC478: =VLOOKUP($B478,'[1]TK KHOILUONG'!$B:$AT,28,0) -> #N/A | AD478: =VLOOKUP($B478,'[1]TK KHOILUONG'!$B:$AT,29,0) -> #N/A | AE478: =VLOOKUP($B478,'[1]TK KHOILUONG'!$B:$AT,30,0) -> #N/A | AF478: =VLOOKUP($B478,'[1]TK KHOILUONG'!$B:$AT,31,0) -> #N/A | AG478: =VLOOKUP($B478,'[1]TK KHOILUONG'!$B:$AT,32,0) -> #N/A | AH478: =VLOOKUP($B478,'[1]TK KHOILUONG'!$B:$AT,33,0) -> #N/A | AI478: =VLOOKUP($B478,'[1]TK KHOILUONG'!$B:$AT,34,0) -> #N/A | AJ478: =VLOOKUP($B478,'[1]TK KHOILUONG'!$B:$AT,35,0) -> #N/A | AK478: =VLOOKUP($B478,'[1]TK KHOILUONG'!$B:$AT,36,0) -> #N/A | AL478: =VLOOKUP($B478,'[1]TK KHOILUONG'!$B:$AT,37,0) -> #N/A | AM478: =VLOOKUP($B478,'[1]TK KHOILUONG'!$B:$AT,38,0) -> #N/A | AN478: =VLOOKUP($B478,'[1]TK KHOILUONG'!$B:$AT,39,0) -> #N/A | AO478: =VLOOKUP($B478,'[1]TK KHOILUONG'!$B:$AT,40,0) -> #N/A | AP478: =VLOOKUP($B478,'[1]TK KHOILUONG'!$B:$AT,41,0) -> #N/A | AQ478: =VLOOKUP($B478,'[1]TK KHOILUONG'!$B:$AT,42,0) -> #N/A | AR478: =VLOOKUP($B478,'[1]TK KHOILUONG'!$B:$AT,43,0) -> #N/A | AS478: =VLOOKUP($B478,'[1]TK KHOILUONG'!$B:$AT,44,0) -> #N/A | AT478: =IF(D478="","",ROUND(M478+R478+V478+Z478+AD478+AH478+AK478+AN478+AQ478+SUM(AR478:AS478),2))
A479: =IF(D479="","",SUBTOTAL(3,$D$5:D479)) | E479: =VLOOKUP($B479,'[1]TK KHOILUONG'!$B:$AT,4,0) -> #N/A | F479: =VLOOKUP($B479,'[1]TK KHOILUONG'!$B:$AT,5,0) -> #N/A | G479: =VLOOKUP($B479,'[1]TK KHOILUONG'!$B:$AT,6,0) -> #N/A | H479: =VLOOKUP($B479,'[1]TK KHOILUONG'!$B:$AT,7,0) -> #N/A | I479: =VLOOKUP($B479,'[1]TK KHOILUONG'!$B:$AT,8,0) -> #N/A | J479: =VLOOKUP($B479,'[1]TK KHOILUONG'!$B:$AT,9,0) -> #N/A | K479: =VLOOKUP($B479,'[1]TK KHOILUONG'!$B:$AT,10,0) -> #N/A | L479: =VLOOKUP($B479,'[1]TK KHOILUONG'!$B:$AT,11,0) -> #N/A | M479: =VLOOKUP($B479,'[1]TK KHOILUONG'!$B:$AT,12,0) -> #N/A | N479: =VLOOKUP($B479,'[1]TK KHOILUONG'!$B:$AT,13,0) -> #N/A | O479: =VLOOKUP($B479,'[1]TK KHOILUONG'!$B:$AT,14,0) -> #N/A | P479: =VLOOKUP($B479,'[1]TK KHOILUONG'!$B:$AT,15,0) -> #N/A | Q479: =VLOOKUP($B479,'[1]TK KHOILUONG'!$B:$AT,16,0) -> #N/A | R479: =VLOOKUP($B479,'[1]TK KHOILUONG'!$B:$AT,17,0) -> #N/A | S479: =VLOOKUP($B479,'[1]TK KHOILUONG'!$B:$AT,18,0) -> #N/A | T479: =VLOOKUP($B479,'[1]TK KHOILUONG'!$B:$AT,19,0) -> #N/A | U479: =VLOOKUP($B479,'[1]TK KHOILUONG'!$B:$AT,20,0) -> #N/A | V479: =VLOOKUP($B479,'[1]TK KHOILUONG'!$B:$AT,21,0) -> #N/A | W479: =VLOOKUP($B479,'[1]TK KHOILUONG'!$B:$AT,22,0) -> #N/A | X479: =VLOOKUP($B479,'[1]TK KHOILUONG'!$B:$AT,23,0) -> #N/A | Y479: =VLOOKUP($B479,'[1]TK KHOILUONG'!$B:$AT,24,0) -> #N/A | Z479: =VLOOKUP($B479,'[1]TK KHOILUONG'!$B:$AT,25,0) -> #N/A | AA479: =VLOOKUP($B479,'[1]TK KHOILUONG'!$B:$AT,26,0) -> #N/A | AB479: =VLOOKUP($B479,'[1]TK KHOILUONG'!$B:$AT,27,0) -> #N/A | AC479: =VLOOKUP($B479,'[1]TK KHOILUONG'!$B:$AT,28,0) -> #N/A | AD479: =VLOOKUP($B479,'[1]TK KHOILUONG'!$B:$AT,29,0) -> #N/A | AE479: =VLOOKUP($B479,'[1]TK KHOILUONG'!$B:$AT,30,0) -> #N/A | AF479: =VLOOKUP($B479,'[1]TK KHOILUONG'!$B:$AT,31,0) -> #N/A | AG479: =VLOOKUP($B479,'[1]TK KHOILUONG'!$B:$AT,32,0) -> #N/A | AH479: =VLOOKUP($B479,'[1]TK KHOILUONG'!$B:$AT,33,0) -> #N/A | AI479: =VLOOKUP($B479,'[1]TK KHOILUONG'!$B:$AT,34,0) -> #N/A | AJ479: =VLOOKUP($B479,'[1]TK KHOILUONG'!$B:$AT,35,0) -> #N/A | AK479: =VLOOKUP($B479,'[1]TK KHOILUONG'!$B:$AT,36,0) -> #N/A | AL479: =VLOOKUP($B479,'[1]TK KHOILUONG'!$B:$AT,37,0) -> #N/A | AM479: =VLOOKUP($B479,'[1]TK KHOILUONG'!$B:$AT,38,0) -> #N/A | AN479: =VLOOKUP($B479,'[1]TK KHOILUONG'!$B:$AT,39,0) -> #N/A | AO479: =VLOOKUP($B479,'[1]TK KHOILUONG'!$B:$AT,40,0) -> #N/A | AP479: =VLOOKUP($B479,'[1]TK KHOILUONG'!$B:$AT,41,0) -> #N/A | AQ479: =VLOOKUP($B479,'[1]TK KHOILUONG'!$B:$AT,42,0) -> #N/A | AR479: =VLOOKUP($B479,'[1]TK KHOILUONG'!$B:$AT,43,0) -> #N/A | AS479: =VLOOKUP($B479,'[1]TK KHOILUONG'!$B:$AT,44,0) -> #N/A | AT479: =IF(D479="","",ROUND(M479+R479+V479+Z479+AD479+AH479+AK479+AN479+AQ479+SUM(AR479:AS479),2))
A480: =IF(D480="","",SUBTOTAL(3,$D$5:D480)) | E480: =VLOOKUP($B480,'[1]TK KHOILUONG'!$B:$AT,4,0) -> #N/A | F480: =VLOOKUP($B480,'[1]TK KHOILUONG'!$B:$AT,5,0) -> #N/A | G480: =VLOOKUP($B480,'[1]TK KHOILUONG'!$B:$AT,6,0) -> #N/A | H480: =VLOOKUP($B480,'[1]TK KHOILUONG'!$B:$AT,7,0) -> #N/A | I480: =VLOOKUP($B480,'[1]TK KHOILUONG'!$B:$AT,8,0) -> #N/A | J480: =VLOOKUP($B480,'[1]TK KHOILUONG'!$B:$AT,9,0) -> #N/A | K480: =VLOOKUP($B480,'[1]TK KHOILUONG'!$B:$AT,10,0) -> #N/A | L480: =VLOOKUP($B480,'[1]TK KHOILUONG'!$B:$AT,11,0) -> #N/A | M480: =VLOOKUP($B480,'[1]TK KHOILUONG'!$B:$AT,12,0) -> #N/A | N480: =VLOOKUP($B480,'[1]TK KHOILUONG'!$B:$AT,13,0) -> #N/A | O480: =VLOOKUP($B480,'[1]TK KHOILUONG'!$B:$AT,14,0) -> #N/A | P480: =VLOOKUP($B480,'[1]TK KHOILUONG'!$B:$AT,15,0) -> #N/A | Q480: =VLOOKUP($B480,'[1]TK KHOILUONG'!$B:$AT,16,0) -> #N/A | R480: =VLOOKUP($B480,'[1]TK KHOILUONG'!$B:$AT,17,0) -> #N/A | S480: =VLOOKUP($B480,'[1]TK KHOILUONG'!$B:$AT,18,0) -> #N/A | T480: =VLOOKUP($B480,'[1]TK KHOILUONG'!$B:$AT,19,0) -> #N/A | U480: =VLOOKUP($B480,'[1]TK KHOILUONG'!$B:$AT,20,0) -> #N/A | V480: =VLOOKUP($B480,'[1]TK KHOILUONG'!$B:$AT,21,0) -> #N/A | W480: =VLOOKUP($B480,'[1]TK KHOILUONG'!$B:$AT,22,0) -> #N/A | X480: =VLOOKUP($B480,'[1]TK KHOILUONG'!$B:$AT,23,0) -> #N/A | Y480: =VLOOKUP($B480,'[1]TK KHOILUONG'!$B:$AT,24,0) -> #N/A | Z480: =VLOOKUP($B480,'[1]TK KHOILUONG'!$B:$AT,25,0) -> #N/A | AA480: =VLOOKUP($B480,'[1]TK KHOILUONG'!$B:$AT,26,0) -> #N/A | AB480: =VLOOKUP($B480,'[1]TK KHOILUONG'!$B:$AT,27,0) -> #N/A | AC480: =VLOOKUP($B480,'[1]TK KHOILUONG'!$B:$AT,28,0) -> #N/A | AD480: =VLOOKUP($B480,'[1]TK KHOILUONG'!$B:$AT,29,0) -> #N/A | AE480: =VLOOKUP($B480,'[1]TK KHOILUONG'!$B:$AT,30,0) -> #N/A | AF480: =VLOOKUP($B480,'[1]TK KHOILUONG'!$B:$AT,31,0) -> #N/A | AG480: =VLOOKUP($B480,'[1]TK KHOILUONG'!$B:$AT,32,0) -> #N/A | AH480: =VLOOKUP($B480,'[1]TK KHOILUONG'!$B:$AT,33,0) -> #N/A | AI480: =VLOOKUP($B480,'[1]TK KHOILUONG'!$B:$AT,34,0) -> #N/A | AJ480: =VLOOKUP($B480,'[1]TK KHOILUONG'!$B:$AT,35,0) -> #N/A | AK480: =VLOOKUP($B480,'[1]TK KHOILUONG'!$B:$AT,36,0) -> #N/A | AL480: =VLOOKUP($B480,'[1]TK KHOILUONG'!$B:$AT,37,0) -> #N/A | AM480: =VLOOKUP($B480,'[1]TK KHOILUONG'!$B:$AT,38,0) -> #N/A | AN480: =VLOOKUP($B480,'[1]TK KHOILUONG'!$B:$AT,39,0) -> #N/A | AO480: =VLOOKUP($B480,'[1]TK KHOILUONG'!$B:$AT,40,0) -> #N/A | AP480: =VLOOKUP($B480,'[1]TK KHOILUONG'!$B:$AT,41,0) -> #N/A | AQ480: =VLOOKUP($B480,'[1]TK KHOILUONG'!$B:$AT,42,0) -> #N/A | AR480: =VLOOKUP($B480,'[1]TK KHOILUONG'!$B:$AT,43,0) -> #N/A | AS480: =VLOOKUP($B480,'[1]TK KHOILUONG'!$B:$AT,44,0) -> #N/A | AT480: =IF(D480="","",ROUND(M480+R480+V480+Z480+AD480+AH480+AK480+AN480+AQ480+SUM(AR480:AS480),2))
A481: =IF(D481="","",SUBTOTAL(3,$D$5:D481)) | E481: =VLOOKUP($B481,'[1]TK KHOILUONG'!$B:$AT,4,0) -> #N/A | F481: =VLOOKUP($B481,'[1]TK KHOILUONG'!$B:$AT,5,0) -> #N/A | G481: =VLOOKUP($B481,'[1]TK KHOILUONG'!$B:$AT,6,0) -> #N/A | H481: =VLOOKUP($B481,'[1]TK KHOILUONG'!$B:$AT,7,0) -> #N/A | I481: =VLOOKUP($B481,'[1]TK KHOILUONG'!$B:$AT,8,0) -> #N/A | J481: =VLOOKUP($B481,'[1]TK KHOILUONG'!$B:$AT,9,0) -> #N/A | K481: =VLOOKUP($B481,'[1]TK KHOILUONG'!$B:$AT,10,0) -> #N/A | L481: =VLOOKUP($B481,'[1]TK KHOILUONG'!$B:$AT,11,0) -> #N/A | M481: =VLOOKUP($B481,'[1]TK KHOILUONG'!$B:$AT,12,0) -> #N/A | N481: =VLOOKUP($B481,'[1]TK KHOILUONG'!$B:$AT,13,0) -> #N/A | O481: =VLOOKUP($B481,'[1]TK KHOILUONG'!$B:$AT,14,0) -> #N/A | P481: =VLOOKUP($B481,'[1]TK KHOILUONG'!$B:$AT,15,0) -> #N/A | Q481: =VLOOKUP($B481,'[1]TK KHOILUONG'!$B:$AT,16,0) -> #N/A | R481: =VLOOKUP($B481,'[1]TK KHOILUONG'!$B:$AT,17,0) -> #N/A | S481: =VLOOKUP($B481,'[1]TK KHOILUONG'!$B:$AT,18,0) -> #N/A | T481: =VLOOKUP($B481,'[1]TK KHOILUONG'!$B:$AT,19,0) -> #N/A | U481: =VLOOKUP($B481,'[1]TK KHOILUONG'!$B:$AT,20,0) -> #N/A | V481: =VLOOKUP($B481,'[1]TK KHOILUONG'!$B:$AT,21,0) -> #N/A | W481: =VLOOKUP($B481,'[1]TK KHOILUONG'!$B:$AT,22,0) -> #N/A | X481: =VLOOKUP($B481,'[1]TK KHOILUONG'!$B:$AT,23,0) -> #N/A | Y481: =VLOOKUP($B481,'[1]TK KHOILUONG'!$B:$AT,24,0) -> #N/A | Z481: =VLOOKUP($B481,'[1]TK KHOILUONG'!$B:$AT,25,0) -> #N/A | AA481: =VLOOKUP($B481,'[1]TK KHOILUONG'!$B:$AT,26,0) -> #N/A | AB481: =VLOOKUP($B481,'[1]TK KHOILUONG'!$B:$AT,27,0) -> #N/A | AC481: =VLOOKUP($B481,'[1]TK KHOILUONG'!$B:$AT,28,0) -> #N/A | AD481: =VLOOKUP($B481,'[1]TK KHOILUONG'!$B:$AT,29,0) -> #N/A | AE481: =VLOOKUP($B481,'[1]TK KHOILUONG'!$B:$AT,30,0) -> #N/A | AF481: =VLOOKUP($B481,'[1]TK KHOILUONG'!$B:$AT,31,0) -> #N/A | AG481: =VLOOKUP($B481,'[1]TK KHOILUONG'!$B:$AT,32,0) -> #N/A | AH481: =VLOOKUP($B481,'[1]TK KHOILUONG'!$B:$AT,33,0) -> #N/A | AI481: =VLOOKUP($B481,'[1]TK KHOILUONG'!$B:$AT,34,0) -> #N/A | AJ481: =VLOOKUP($B481,'[1]TK KHOILUONG'!$B:$AT,35,0) -> #N/A | AK481: =VLOOKUP($B481,'[1]TK KHOILUONG'!$B:$AT,36,0) -> #N/A | AL481: =VLOOKUP($B481,'[1]TK KHOILUONG'!$B:$AT,37,0) -> #N/A | AM481: =VLOOKUP($B481,'[1]TK KHOILUONG'!$B:$AT,38,0) -> #N/A | AN481: =VLOOKUP($B481,'[1]TK KHOILUONG'!$B:$AT,39,0) -> #N/A | AO481: =VLOOKUP($B481,'[1]TK KHOILUONG'!$B:$AT,40,0) -> #N/A | AP481: =VLOOKUP($B481,'[1]TK KHOILUONG'!$B:$AT,41,0) -> #N/A | AQ481: =VLOOKUP($B481,'[1]TK KHOILUONG'!$B:$AT,42,0) -> #N/A | AR481: =VLOOKUP($B481,'[1]TK KHOILUONG'!$B:$AT,43,0) -> #N/A | AS481: =VLOOKUP($B481,'[1]TK KHOILUONG'!$B:$AT,44,0) -> #N/A | AT481: =IF(D481="","",ROUND(M481+R481+V481+Z481+AD481+AH481+AK481+AN481+AQ481+SUM(AR481:AS481),2))
A482: =IF(D482="","",SUBTOTAL(3,$D$5:D482)) | E482: =VLOOKUP($B482,'[1]TK KHOILUONG'!$B:$AT,4,0) -> #N/A | F482: =VLOOKUP($B482,'[1]TK KHOILUONG'!$B:$AT,5,0) -> #N/A | G482: =VLOOKUP($B482,'[1]TK KHOILUONG'!$B:$AT,6,0) -> #N/A | H482: =VLOOKUP($B482,'[1]TK KHOILUONG'!$B:$AT,7,0) -> #N/A | I482: =VLOOKUP($B482,'[1]TK KHOILUONG'!$B:$AT,8,0) -> #N/A | J482: =VLOOKUP($B482,'[1]TK KHOILUONG'!$B:$AT,9,0) -> #N/A | K482: =VLOOKUP($B482,'[1]TK KHOILUONG'!$B:$AT,10,0) -> #N/A | L482: =VLOOKUP($B482,'[1]TK KHOILUONG'!$B:$AT,11,0) -> #N/A | M482: =VLOOKUP($B482,'[1]TK KHOILUONG'!$B:$AT,12,0) -> #N/A | N482: =VLOOKUP($B482,'[1]TK KHOILUONG'!$B:$AT,13,0) -> #N/A | O482: =VLOOKUP($B482,'[1]TK KHOILUONG'!$B:$AT,14,0) -> #N/A | P482: =VLOOKUP($B482,'[1]TK KHOILUONG'!$B:$AT,15,0) -> #N/A | Q482: =VLOOKUP($B482,'[1]TK KHOILUONG'!$B:$AT,16,0) -> #N/A | R482: =VLOOKUP($B482,'[1]TK KHOILUONG'!$B:$AT,17,0) -> #N/A | S482: =VLOOKUP($B482,'[1]TK KHOILUONG'!$B:$AT,18,0) -> #N/A | T482: =VLOOKUP($B482,'[1]TK KHOILUONG'!$B:$AT,19,0) -> #N/A | U482: =VLOOKUP($B482,'[1]TK KHOILUONG'!$B:$AT,20,0) -> #N/A | V482: =VLOOKUP($B482,'[1]TK KHOILUONG'!$B:$AT,21,0) -> #N/A | W482: =VLOOKUP($B482,'[1]TK KHOILUONG'!$B:$AT,22,0) -> #N/A | X482: =VLOOKUP($B482,'[1]TK KHOILUONG'!$B:$AT,23,0) -> #N/A | Y482: =VLOOKUP($B482,'[1]TK KHOILUONG'!$B:$AT,24,0) -> #N/A | Z482: =VLOOKUP($B482,'[1]TK KHOILUONG'!$B:$AT,25,0) -> #N/A | AA482: =VLOOKUP($B482,'[1]TK KHOILUONG'!$B:$AT,26,0) -> #N/A | AB482: =VLOOKUP($B482,'[1]TK KHOILUONG'!$B:$AT,27,0) -> #N/A | AC482: =VLOOKUP($B482,'[1]TK KHOILUONG'!$B:$AT,28,0) -> #N/A | AD482: =VLOOKUP($B482,'[1]TK KHOILUONG'!$B:$AT,29,0) -> #N/A | AE482: =VLOOKUP($B482,'[1]TK KHOILUONG'!$B:$AT,30,0) -> #N/A | AF482: =VLOOKUP($B482,'[1]TK KHOILUONG'!$B:$AT,31,0) -> #N/A | AG482: =VLOOKUP($B482,'[1]TK KHOILUONG'!$B:$AT,32,0) -> #N/A | AH482: =VLOOKUP($B482,'[1]TK KHOILUONG'!$B:$AT,33,0) -> #N/A | AI482: =VLOOKUP($B482,'[1]TK KHOILUONG'!$B:$AT,34,0) -> #N/A | AJ482: =VLOOKUP($B482,'[1]TK KHOILUONG'!$B:$AT,35,0) -> #N/A | AK482: =VLOOKUP($B482,'[1]TK KHOILUONG'!$B:$AT,36,0) -> #N/A | AL482: =VLOOKUP($B482,'[1]TK KHOILUONG'!$B:$AT,37,0) -> #N/A | AM482: =VLOOKUP($B482,'[1]TK KHOILUONG'!$B:$AT,38,0) -> #N/A | AN482: =VLOOKUP($B482,'[1]TK KHOILUONG'!$B:$AT,39,0) -> #N/A | AO482: =VLOOKUP($B482,'[1]TK KHOILUONG'!$B:$AT,40,0) -> #N/A | AP482: =VLOOKUP($B482,'[1]TK KHOILUONG'!$B:$AT,41,0) -> #N/A | AQ482: =VLOOKUP($B482,'[1]TK KHOILUONG'!$B:$AT,42,0) -> #N/A | AR482: =VLOOKUP($B482,'[1]TK KHOILUONG'!$B:$AT,43,0) -> #N/A | AS482: =VLOOKUP($B482,'[1]TK KHOILUONG'!$B:$AT,44,0) -> #N/A | AT482: =IF(D482="","",ROUND(M482+R482+V482+Z482+AD482+AH482+AK482+AN482+AQ482+SUM(AR482:AS482),2))
