Workbook

Sheet HKI
E1: =SUBTOTAL(9,E5:E473) -> 566 | F1: =SUBTOTAL(9,F5:F473) -> 192 | G1: =SUBTOTAL(9,G5:G473) -> 0 | H1: =SUBTOTAL(9,H5:H473) -> 0 | I1: =SUBTOTAL(9,I5:I473) -> 0 | J1: =SUBTOTAL(9,J5:J473) -> 0 | K1: =SUBTOTAL(9,K5:K473) -> 0 | L1: =SUBTOTAL(9,L5:L473) -> 0 | ... AT1: =SUBTOTAL(9,AT5:AT473) -> 5699.46
A2: STT | B2: Mã nhân sự | C2: Đơn vị | D2: HỌ VÀ TÊN GIẢNG VIÊN | E2: ĐỀ THI | N2: COI THI | S2: CHẤM THI KTHP | AI2: CHẤM THI TỐT NGHIỆP | AR2: DỰ PHÒNG KỲ THI | AS2: GIÁM SÁT | AT2: TỔNG KHỐI LƯỢNG | AU2: =SUBTOTAL(9,AT:AT) -> 5699.46
S3: LÝ THUYẾT (TV+TN) | W3: VẤN ĐÁP | AA3: TIỂU LUẬN | AE3: THỰC HÀNH | AI3: LÝ THUYẾT (TV+TN) | AL3: VẤN ĐÁP | AO3: THỰC HÀNH
E4: SL ĐỀ LT KTHP | F4: SL ĐỀ TN KTHP | G4: SL ĐỀ VĐ KTHP | H4: SL ĐỀ TH KTHP | I4: SL ĐỀ LT ThiTN | J4: SL ĐỀ TN ThiTN | K4: SL ĐỀ VĐ ThiTN | L4: SL ĐỀ TH ThiTN | M4: KL SOẠN ĐỀ (tiết) | N4: COITHI 2 KTHP | O4: COITHI 1 KTHP | P4: COITHI 1 Thi TN | Q4: COITHI 2 Thi TN | R4: KL COITHI (tiết) | S4: SL CHẤM LT 1 | T4: SL CHẤM LT 2 | U4: SL CHẤM NV | V4: KL CHẤM LT (tiết) | W4: SL CHẤM TL 1 | X4: SL CHẤM TL 2 | Y4: SL CHẤM NV | Z4: KL CHẤM TL (tiết) | AA4: SL CHẤM TL 1 | AB4: SL CHẤM TL 2 | AC4: SL CHẤM NV | AD4: KL CHẤM TL (tiết) | AE4: SL CHẤM TL 1 | AF4: SL CHẤM TL 2 | AG4: SL CHẤM NV | AH4: KL CHẤM TL (tiết) | AI4: SL BÀI LT CHẤM 1 | AJ4: SL BÀI LT CHẤM 2 | AK4: KL CHẤM LT (tiết) | AL4: SL BÀI VĐ CHẤM 1 | AM4: SL BÀI VĐ CHẤM 2 | AN4: KL CHẤM VĐ (tiết) | AO4: SL BÀI TL CHẤM 1 | AP4: SL BÀI TL CHẤM 2 | AQ4: KL CHẤM TL (tiết)
A5: =IF(D5="","",SUBTOTAL(3,$D$5:D5)) -> 1 | B5: 01001001 | C5: Ban Giám hiệu | D5: Đinh Hồng Minh | E5: =VLOOKUP($B5,'[1]TK KHOILUONG'!$B:$AT,4,0) -> 0 | F5: =VLOOKUP($B5,'[1]TK KHOILUONG'!$B:$AT,5,0) -> 0 | G5: =VLOOKUP($B5,'[1]TK KHOILUONG'!$B:$AT,6,0) -> 0 | H5: =VLOOKUP($B5,'[1]TK KHOILUONG'!$B:$AT,7,0) -> 0 | I5: =VLOOKUP($B5,'[1]TK KHOILUONG'!$B:$AT,8,0) -> 0 | J5: =VLOOKUP($B5,'[1]TK KHOILUONG'!$B:$AT,9,0) -> 0 | K5: =VLOOKUP($B5,'[1]TK KHOILUONG'!$B:$AT,10,0) -> 0 | L5: =VLOOKUP($B5,'[1]TK KHOILUONG'!$B:$AT,11,0) -> 0 | M5: =VLOOKUP($B5,'[1]TK KHOILUONG'!$B:$AT,12,0) -> 0 | N5: =VLOOKUP($B5,'[1]TK KHOILUONG'!$B:$AT,13,0) -> 0 | O5: =VLOOKUP($B5,'[1]TK KHOILUONG'!$B:$AT,14,0) -> 0 | P5: =VLOOKUP($B5,'[1]TK KHOILUONG'!$B:$AT,15,0) -> 0 | Q5: =VLOOKUP($B5,'[1]TK KHOILUONG'!$B:$AT,16,0) -> 0 | R5: =VLOOKUP($B5,'[1]TK KHOILUONG'!$B:$AT,17,0) -> 0 | S5: =VLOOKUP($B5,'[1]TK KHOILUONG'!$B:$AT,18,0) -> 0 | T5: =VLOOKUP($B5,'[1]TK KHOILUONG'!$B:$AT,19,0) -> 0 | U5: =VLOOKUP($B5,'[1]TK KHOILUONG'!$B:$AT,20,0) -> 0 | V5: =VLOOKUP($B5,'[1]TK KHOILUONG'!$B:$AT,21,0) -> 0 | W5: =VLOOKUP($B5,'[1]TK KHOILUONG'!$B:$AT,22,0) -> 0 | X5: =VLOOKUP($B5,'[1]TK KHOILUONG'!$B:$AT,23,0) -> 0 | Y5: =VLOOKUP($B5,'[1]TK KHOILUONG'!$B:$AT,24,0) -> 0 | Z5: =VLOOKUP($B5,'[1]TK KHOILUONG'!$B:$AT,25,0) -> 0 | AA5: =VLOOKUP($B5,'[1]TK KHOILUONG'!$B:$AT,26,0) -> 0 | AB5: =VLOOKUP($B5,'[1]TK KHOILUONG'!$B:$AT,27,0) -> 0 | AC5: =VLOOKUP($B5,'[1]TK KHOILUONG'!$B:$AT,28,0) -> 0 | AD5: =VLOOKUP($B5,'[1]TK KHOILUONG'!$B:$AT,29,0) -> 0 | AE5: =VLOOKUP($B5,'[1]TK KHOILUONG'!$B:$AT,30,0) -> 0 | AF5: =VLOOKUP($B5,'[1]TK KHOILUONG'!$B:$AT,31,0) -> 0 | AG5: =VLOOKUP($B5,'[1]TK KHOILUONG'!$B:$AT,32,0) -> 0 | AH5: =VLOOKUP($B5,'[1]TK KHOILUONG'!$B:$AT,33,0) -> 0 | AI5: =VLOOKUP($B5,'[1]TK KHOILUONG'!$B:$AT,34,0) -> 0 | AJ5: =VLOOKUP($B5,'[1]TK KHOILUONG'!$B:$AT,35,0) -> 0 | AK5: =VLOOKUP($B5,'[1]TK KHOILUONG'!$B:$AT,36,0) -> 0 | AL5: =VLOOKUP($B5,'[1]TK KHOILUONG'!$B:$AT,37,0) -> 0 | AM5: =VLOOKUP($B5,'[1]TK KHOILUONG'!$B:$AT,38,0) -> 0 | AN5: =VLOOKUP($B5,'[1]TK KHOILUONG'!$B:$AT,39,0) -> 0 | AO5: =VLOOKUP($B5,'[1]TK KHOILUONG'!$B:$AT,40,0) -> 0 | AP5: =VLOOKUP($B5,'[1]TK KHOILUONG'!$B:$AT,41,0) -> 0 | AQ5: =VLOOKUP($B5,'[1]TK KHOILUONG'!$B:$AT,42,0) -> 0 | AR5: =VLOOKUP($B5,'[1]TK KHOILUONG'!$B:$AT,43,0) -> 0 | AS5: =VLOOKUP($B5,'[1]TK KHOILUONG'!$B:$AT,44,0) -> 0 | AT5: =IF(D5="","",ROUND(M5+R5+V5+Z5+AD5+AH5+AK5+AN5+AQ5+SUM(AR5:AS5),2)) -> 0
A6: =IF(D6="","",SUBTOTAL(3,$D$5:D6)) -> 2 | B6: 01002001 | C6: Ban Giám hiệu | D6: Đinh Văn Đệ | E6: =VLOOKUP($B6,'[1]TK KHOILUONG'!$B:$AT,4,0) -> 2 | F6: =VLOOKUP($B6,'[1]TK KHOILUONG'!$B:$AT,5,0) -> 0 | G6: =VLOOKUP($B6,'[1]TK KHOILUONG'!$B:$AT,6,0) -> 0 | H6: =VLOOKUP($B6,'[1]TK KHOILUONG'!$B:$AT,7,0) -> 0 | I6: =VLOOKUP($B6,'[1]TK KHOILUONG'!$B:$AT,8,0) -> 0 | J6: =VLOOKUP($B6,'[1]TK KHOILUONG'!$B:$AT,9,0) -> 0 | K6: =VLOOKUP($B6,'[1]TK KHOILUONG'!$B:$AT,10,0) -> 0 | L6: =VLOOKUP($B6,'[1]TK KHOILUONG'!$B:$AT,11,0) -> 0 | M6: =VLOOKUP($B6,'[1]TK KHOILUONG'!$B:$AT,12,0) -> 2 | N6: =VLOOKUP($B6,'[1]TK KHOILUONG'!$B:$AT,13,0) -> 0 | O6: =VLOOKUP($B6,'[1]TK KHOILUONG'!$B:$AT,14,0) -> 0 | P6: =VLOOKUP($B6,'[1]TK KHOILUONG'!$B:$AT,15,0) -> 0 | Q6: =VLOOKUP($B6,'[1]TK KHOILUONG'!$B:$AT,16,0) -> 0 | R6: =VLOOKUP($B6,'[1]TK KHOILUONG'!$B:$AT,17,0) -> 0 | S6: =VLOOKUP($B6,'[1]TK KHOILUONG'!$B:$AT,18,0) -> 50 | T6: =VLOOKUP($B6,'[1]TK KHOILUONG'!$B:$AT,19,0) -> 0 | U6: =VLOOKUP($B6,'[1]TK KHOILUONG'!$B:$AT,20,0) -> 149 | V6: =VLOOKUP($B6,'[1]TK KHOILUONG'!$B:$AT,21,0) -> -9.9 | W6: =VLOOKUP($B6,'[1]TK KHOILUONG'!$B:$AT,22,0) -> 0 | X6: =VLOOKUP($B6,'[1]TK KHOILUONG'!$B:$AT,23,0) -> 0 | Y6: =VLOOKUP($B6,'[1]TK KHOILUONG'!$B:$AT,24,0) -> 0 | Z6: =VLOOKUP($B6,'[1]TK KHOILUONG'!$B:$AT,25,0) -> 0 | AA6: =VLOOKUP($B6,'[1]TK KHOILUONG'!$B:$AT,26,0) -> 0 | AB6: =VLOOKUP($B6,'[1]TK KHOILUONG'!$B:$AT,27,0) -> 0 | AC6: =VLOOKUP($B6,'[1]TK KHOILUONG'!$B:$AT,28,0) -> 0 | AD6: =VLOOKUP($B6,'[1]TK KHOILUONG'!$B:$AT,29,0) -> 0 | AE6: =VLOOKUP($B6,'[1]TK KHOILUONG'!$B:$AT,30,0) -> 0 | AF6: =VLOOKUP($B6,'[1]TK KHOILUONG'!$B:$AT,31,0) -> 0 | AG6: =VLOOKUP($B6,'[1]TK KHOILUONG'!$B:$AT,32,0) -> 0 | AH6: =VLOOKUP($B6,'[1]TK KHOILUONG'!$B:$AT,33,0) -> 0 | AI6: =VLOOKUP($B6,'[1]TK KHOILUONG'!$B:$AT,34,0) -> 0 | AJ6: =VLOOKUP($B6,'[1]TK KHOILUONG'!$B:$AT,35,0) -> 0 | AK6: =VLOOKUP($B6,'[1]TK KHOILUONG'!$B:$AT,36,0) -> 0 | AL6: =VLOOKUP($B6,'[1]TK KHOILUONG'!$B:$AT,37,0) -> 0 | AM6: =VLOOKUP($B6,'[1]TK KHOILUONG'!$B:$AT,38,0) -> 0 | AN6: =VLOOKUP($B6,'[1]TK KHOILUONG'!$B:$AT,39,0) -> 0 | AO6: =VLOOKUP($B6,'[1]TK KHOILUONG'!$B:$AT,40,0) -> 0 | AP6: =VLOOKUP($B6,'[1]TK KHOILUONG'!$B:$AT,41,0) -> 0 | AQ6: =VLOOKUP($B6,'[1]TK KHOILUONG'!$B:$AT,42,0) -> 0 | AR6: =VLOOKUP($B6,'[1]TK KHOILUONG'!$B:$AT,43,0) -> 0 | AS6: =VLOOKUP($B6,'[1]TK KHOILUONG'!$B:$AT,44,0) -> 0 | AT6: =IF(D6="","",ROUND(M6+R6+V6+Z6+AD6+AH6+AK6+AN6+AQ6+SUM(AR6:AS6),2)) -> -7.9
A7: =IF(D7="","",SUBTOTAL(3,$D$5:D7)) -> 3 | B7: 01001006 | C7: Ban Giám hiệu | D7: Nguyễn Văn Dũng | E7: =VLOOKUP($B7,'[1]TK KHOILUONG'!$B:$AT,4,0) -> 0 | F7: =VLOOKUP($B7,'[1]TK KHOILUONG'!$B:$AT,5,0) -> 0 | G7: =VLOOKUP($B7,'[1]TK KHOILUONG'!$B:$AT,6,0) -> 0 | H7: =VLOOKUP($B7,'[1]TK KHOILUONG'!$B:$AT,7,0) -> 0 | I7: =VLOOKUP($B7,'[1]TK KHOILUONG'!$B:$AT,8,0) -> 0 | J7: =VLOOKUP($B7,'[1]TK KHOILUONG'!$B:$AT,9,0) -> 0 | K7: =VLOOKUP($B7,'[1]TK KHOILUONG'!$B:$AT,10,0) -> 0 | L7: =VLOOKUP($B7,'[1]TK KHOILUONG'!$B:$AT,11,0) -> 0 | M7: =VLOOKUP($B7,'[1]TK KHOILUONG'!$B:$AT,12,0) -> 0 | N7: =VLOOKUP($B7,'[1]TK KHOILUONG'!$B:$AT,13,0) -> 0 | O7: =VLOOKUP($B7,'[1]TK KHOILUONG'!$B:$AT,14,0) -> 0 | P7: =VLOOKUP($B7,'[1]TK KHOILUONG'!$B:$AT,15,0) -> 0 | Q7: =VLOOKUP($B7,'[1]TK KHOILUONG'!$B:$AT,16,0) -> 0 | R7: =VLOOKUP($B7,'[1]TK KHOILUONG'!$B:$AT,17,0) -> 0 | S7: =VLOOKUP($B7,'[1]TK KHOILUONG'!$B:$AT,18,0) -> 0 | T7: =VLOOKUP($B7,'[1]TK KHOILUONG'!$B:$AT,19,0) -> 0 | U7: =VLOOKUP($B7,'[1]TK KHOILUONG'!$B:$AT,20,0) -> 0 | V7: =VLOOKUP($B7,'[1]TK KHOILUONG'!$B:$AT,21,0) -> 0 | W7: =VLOOKUP($B7,'[1]TK KHOILUONG'!$B:$AT,22,0) -> 0 | X7: =VLOOKUP($B7,'[1]TK KHOILUONG'!$B:$AT,23,0) -> 0 | Y7: =VLOOKUP($B7,'[1]TK KHOILUONG'!$B:$AT,24,0) -> 0 | Z7: =VLOOKUP($B7,'[1]TK KHOILUONG'!$B:$AT,25,0) -> 0 | AA7: =VLOOKUP($B7,'[1]TK KHOILUONG'!$B:$AT,26,0) -> 0 | AB7: =VLOOKUP($B7,'[1]TK KHOILUONG'!$B:$AT,27,0) -> 0 | AC7: =VLOOKUP($B7,'[1]TK KHOILUONG'!$B:$AT,28,0) -> 0 | AD7: =VLOOKUP($B7,'[1]TK KHOILUONG'!$B:$AT,29,0) -> 0 | AE7: =VLOOKUP($B7,'[1]TK KHOILUONG'!$B:$AT,30,0) -> 0 | AF7: =VLOOKUP($B7,'[1]TK KHOILUONG'!$B:$AT,31,0) -> 0 | AG7: =VLOOKUP($B7,'[1]TK KHOILUONG'!$B:$AT,32,0) -> 0 | AH7: =VLOOKUP($B7,'[1]TK KHOILUONG'!$B:$AT,33,0) -> 0 | AI7: =VLOOKUP($B7,'[1]TK KHOILUONG'!$B:$AT,34,0) -> 0 | AJ7: =VLOOKUP($B7,'[1]TK KHOILUONG'!$B:$AT,35,0) -> 0 | AK7: =VLOOKUP($B7,'[1]TK KHOILUONG'!$B:$AT,36,0) -> 0 | AL7: =VLOOKUP($B7,'[1]TK KHOILUONG'!$B:$AT,37,0) -> 0 | AM7: =VLOOKUP($B7,'[1]TK KHOILUONG'!$B:$AT,38,0) -> 0 | AN7: =VLOOKUP($B7,'[1]TK KHOILUONG'!$B:$AT,39,0) -> 0 | AO7: =VLOOKUP($B7,'[1]TK KHOILUONG'!$B:$AT,40,0) -> 0 | AP7: =VLOOKUP($B7,'[1]TK KHOILUONG'!$B:$AT,41,0) -> 0 | AQ7: =VLOOKUP($B7,'[1]TK KHOILUONG'!$B:$AT,42,0) -> 0 | AR7: =VLOOKUP($B7,'[1]TK KHOILUONG'!$B:$AT,43,0) -> 0 | AS7: =VLOOKUP($B7,'[1]TK KHOILUONG'!$B:$AT,44,0) -> 0 | AT7: =IF(D7="","",ROUND(M7+R7+V7+Z7+AD7+AH7+AK7+AN7+AQ7+SUM(AR7:AS7),2)) -> 0
A8: =IF(D8="","",SUBTOTAL(3,$D$5:D8)) -> 4 | B8: 01001003 | C8: Ban Giám hiệu | D8: Phạm Hữu Lộc | E8: =VLOOKUP($B8,'[1]TK KHOILUONG'!$B:$AT,4,0) -> 0 | F8: =VLOOKUP($B8,'[1]TK KHOILUONG'!$B:$AT,5,0) -> 0 | G8: =VLOOKUP($B8,'[1]TK KHOILUONG'!$B:$AT,6,0) -> 0 | H8: =VLOOKUP($B8,'[1]TK KHOILUONG'!$B:$AT,7,0) -> 0 | I8: =VLOOKUP($B8,'[1]TK KHOILUONG'!$B:$AT,8,0) -> 0 | J8: =VLOOKUP($B8,'[1]TK KHOILUONG'!$B:$AT,9,0) -> 0 | K8: =VLOOKUP($B8,'[1]TK KHOILUONG'!$B:$AT,10,0) -> 0 | L8: =VLOOKUP($B8,'[1]TK KHOILUONG'!$B:$AT,11,0) -> 0 | M8: =VLOOKUP($B8,'[1]TK KHOILUONG'!$B:$AT,12,0) -> 0 | N8: =VLOOKUP($B8,'[1]TK KHOILUONG'!$B:$AT,13,0) -> 0 | O8: =VLOOKUP($B8,'[1]TK KHOILUONG'!$B:$AT,14,0) -> 0 | P8: =VLOOKUP($B8,'[1]TK KHOILUONG'!$B:$AT,15,0) -> 0 | Q8: =VLOOKUP($B8,'[1]TK KHOILUONG'!$B:$AT,16,0) -> 0 | R8: =VLOOKUP($B8,'[1]TK KHOILUONG'!$B:$AT,17,0) -> 0 | S8: =VLOOKUP($B8,'[1]TK KHOILUONG'!$B:$AT,18,0) -> 0 | T8: =VLOOKUP($B8,'[1]TK KHOILUONG'!$B:$AT,19,0) -> 0 | U8: =VLOOKUP($B8,'[1]TK KHOILUONG'!$B:$AT,20,0) -> 0 | V8: =VLOOKUP($B8,'[1]TK KHOILUONG'!$B:$AT,21,0) -> 0 | W8: =VLOOKUP($B8,'[1]TK KHOILUONG'!$B:$AT,22,0) -> 0 | X8: =VLOOKUP($B8,'[1]TK KHOILUONG'!$B:$AT,23,0) -> 0 | Y8: =VLOOKUP($B8,'[1]TK KHOILUONG'!$B:$AT,24,0) -> 0 | Z8: =VLOOKUP($B8,'[1]TK KHOILUONG'!$B:$AT,25,0) -> 0 | AA8: =VLOOKUP($B8,'[1]TK KHOILUONG'!$B:$AT,26,0) -> 0 | AB8: =VLOOKUP($B8,'[1]TK KHOILUONG'!$B:$AT,27,0) -> 0 | AC8: =VLOOKUP($B8,'[1]TK KHOILUONG'!$B:$AT,28,0) -> 0 | AD8: =VLOOKUP($B8,'[1]TK KHOILUONG'!$B:$AT,29,0) -> 0 | AE8: =VLOOKUP($B8,'[1]TK KHOILUONG'!$B:$AT,30,0) -> 0 | AF8: =VLOOKUP($B8,'[1]TK KHOILUONG'!$B:$AT,31,0) -> 0 | AG8: =VLOOKUP($B8,'[1]TK KHOILUONG'!$B:$AT,32,0) -> 0 | AH8: =VLOOKUP($B8,'[1]TK KHOILUONG'!$B:$AT,33,0) -> 0 | AI8: =VLOOKUP($B8,'[1]TK KHOILUONG'!$B:$AT,34,0) -> 0 | AJ8: =VLOOKUP($B8,'[1]TK KHOILUONG'!$B:$AT,35,0) -> 0 | AK8: =VLOOKUP($B8,'[1]TK KHOILUONG'!$B:$AT,36,0) -> 0 | AL8: =VLOOKUP($B8,'[1]TK KHOILUONG'!$B:$AT,37,0) -> 0 | AM8: =VLOOKUP($B8,'[1]TK KHOILUONG'!$B:$AT,38,0) -> 0 | AN8: =VLOOKUP($B8,'[1]TK KHOILUONG'!$B:$AT,39,0) -> 0 | AO8: =VLOOKUP($B8,'[1]TK KHOILUONG'!$B:$AT,40,0) -> 0 | AP8: =VLOOKUP($B8,'[1]TK KHOILUONG'!$B:$AT,41,0) -> 0 | AQ8: =VLOOKUP($B8,'[1]TK KHOILUONG'!$B:$AT,42,0) -> 0 | AR8: =VLOOKUP($B8,'[1]TK KHOILUONG'!$B:$AT,43,0) -> 0 | AS8: =VLOOKUP($B8,'[1]TK KHOILUONG'!$B:$AT,44,0) -> 0 | AT8: =IF(D8="","",ROUND(M8+R8+V8+Z8+AD8+AH8+AK8+AN8+AQ8+SUM(AR8:AS8),2)) -> 0
A9: =IF(D9="","",SUBTOTAL(3,$D$5:D9)) -> 5 | B9: 01012023 | C9: Khoa CN Cơ khí | D9: Bùi Anh Tuấn | E9: =VLOOKUP($B9,'[1]TK KHOILUONG'!$B:$AT,4,0) -> 4 | F9: =VLOOKUP($B9,'[1]TK KHOILUONG'!$B:$AT,5,0) -> 0 | G9: =VLOOKUP($B9,'[1]TK KHOILUONG'!$B:$AT,6,0) -> 0 | H9: =VLOOKUP($B9,'[1]TK KHOILUONG'!$B:$AT,7,0) -> 0 | I9: =VLOOKUP($B9,'[1]TK KHOILUONG'!$B:$AT,8,0) -> 0 | J9: =VLOOKUP($B9,'[1]TK KHOILUONG'!$B:$AT,9,0) -> 0 | K9: =VLOOKUP($B9,'[1]TK KHOILUONG'!$B:$AT,10,0) -> 0 | L9: =VLOOKUP($B9,'[1]TK KHOILUONG'!$B:$AT,11,0) -> 0 | M9: =VLOOKUP($B9,'[1]TK KHOILUONG'!$B:$AT,12,0) -> 4 | N9: =VLOOKUP($B9,'[1]TK KHOILUONG'!$B:$AT,13,0) -> 0.6 | O9: =VLOOKUP($B9,'[1]TK KHOILUONG'!$B:$AT,14,0) -> 1.95 | P9: =VLOOKUP($B9,'[1]TK KHOILUONG'!$B:$AT,15,0) -> 0 | Q9: =VLOOKUP($B9,'[1]TK KHOILUONG'!$B:$AT,16,0) -> 0 | R9: =VLOOKUP($B9,'[1]TK KHOILUONG'!$B:$AT,17,0) -> 2.55 | S9: =VLOOKUP($B9,'[1]TK KHOILUONG'!$B:$AT,18,0) -> 0 | T9: =VLOOKUP($B9,'[1]TK KHOILUONG'!$B:$AT,19,0) -> 0 | U9: =VLOOKUP($B9,'[1]TK KHOILUONG'!$B:$AT,20,0) -> 82 | V9: =VLOOKUP($B9,'[1]TK KHOILUONG'!$B:$AT,21,0) -> -8.2 | W9: =VLOOKUP($B9,'[1]TK KHOILUONG'!$B:$AT,22,0) -> 0 | X9: =VLOOKUP($B9,'[1]TK KHOILUONG'!$B:$AT,23,0) -> 0 | Y9: =VLOOKUP($B9,'[1]TK KHOILUONG'!$B:$AT,24,0) -> 0 | Z9: =VLOOKUP($B9,'[1]TK KHOILUONG'!$B:$AT,25,0) -> 0 | AA9: =VLOOKUP($B9,'[1]TK KHOILUONG'!$B:$AT,26,0) -> 0 | AB9: =VLOOKUP($B9,'[1]TK KHOILUONG'!$B:$AT,27,0) -> 0 | AC9: =VLOOKUP($B9,'[1]TK KHOILUONG'!$B:$AT,28,0) -> 0 | AD9: =VLOOKUP($B9,'[1]TK KHOILUONG'!$B:$AT,29,0) -> 0 | AE9: =VLOOKUP($B9,'[1]TK KHOILUONG'!$B:$AT,30,0) -> 0 | AF9: =VLOOKUP($B9,'[1]TK KHOILUONG'!$B:$AT,31,0) -> 0 | AG9: =VLOOKUP($B9,'[1]TK KHOILUONG'!$B:$AT,32,0) -> 0 | AH9: =VLOOKUP($B9,'[1]TK KHOILUONG'!$B:$AT,33,0) -> 0 | AI9: =VLOOKUP($B9,'[1]TK KHOILUONG'!$B:$AT,34,0) -> 0 | AJ9: =VLOOKUP($B9,'[1]TK KHOILUONG'!$B:$AT,35,0) -> 0 | AK9: =VLOOKUP($B9,'[1]TK KHOILUONG'!$B:$AT,36,0) -> 0 | AL9: =VLOOKUP($B9,'[1]TK KHOILUONG'!$B:$AT,37,0) -> 0 | AM9: =VLOOKUP($B9,'[1]TK KHOILUONG'!$B:$AT,38,0) -> 0 | AN9: =VLOOKUP($B9,'[1]TK KHOILUONG'!$B:$AT,39,0) -> 0 | AO9: =VLOOKUP($B9,'[1]TK KHOILUONG'!$B:$AT,40,0) -> 0 | AP9: =VLOOKUP($B9,'[1]TK KHOILUONG'!$B:$AT,41,0) -> 0 | AQ9: =VLOOKUP($B9,'[1]TK KHOILUONG'!$B:$AT,42,0) -> 0 | AR9: =VLOOKUP($B9,'[1]TK KHOILUONG'!$B:$AT,43,0) -> 0 | AS9: =VLOOKUP($B9,'[1]TK KHOILUONG'!$B:$AT,44,0) -> 0 | AT9: =IF(D9="","",ROUND(M9+R9+V9+Z9+AD9+AH9+AK9+AN9+AQ9+SUM(AR9:AS9),2)) -> -1.65
A10: =IF(D10="","",SUBTOTAL(3,$D$5:D10)) -> 6 | B10: 01012003 | C10: Khoa CN Cơ khí | D10: Chung Trần Thế Vinh | E10: =VLOOKUP($B10,'[1]TK KHOILUONG'!$B:$AT,4,0) -> 0 | F10: =VLOOKUP($B10,'[1]TK KHOILUONG'!$B:$AT,5,0) -> 0 | G10: =VLOOKUP($B10,'[1]TK KHOILUONG'!$B:$AT,6,0) -> 0 | H10: =VLOOKUP($B10,'[1]TK KHOILUONG'!$B:$AT,7,0) -> 0 | I10: =VLOOKUP($B10,'[1]TK KHOILUONG'!$B:$AT,8,0) -> 0 | J10: =VLOOKUP($B10,'[1]TK KHOILUONG'!$B:$AT,9,0) -> 0 | K10: =VLOOKUP($B10,'[1]TK KHOILUONG'!$B:$AT,10,0) -> 0 | L10: =VLOOKUP($B10,'[1]TK KHOILUONG'!$B:$AT,11,0) -> 0 | M10: =VLOOKUP($B10,'[1]TK KHOILUONG'!$B:$AT,12,0) -> 0 | N10: =VLOOKUP($B10,'[1]TK KHOILUONG'!$B:$AT,13,0) -> 0 | O10: =VLOOKUP($B10,'[1]TK KHOILUONG'!$B:$AT,14,0) -> 2.1 | P10: =VLOOKUP($B10,'[1]TK KHOILUONG'!$B:$AT,15,0) -> 0 | Q10: =VLOOKUP($B10,'[1]TK KHOILUONG'!$B:$AT,16,0) -> 0 | R10: =VLOOKUP($B10,'[1]TK KHOILUONG'!$B:$AT,17,0) -> 2.1 | S10: =VLOOKUP($B10,'[1]TK KHOILUONG'!$B:$AT,18,0) -> 95 | T10: =VLOOKUP($B10,'[1]TK KHOILUONG'!$B:$AT,19,0) -> 260 | U10: =VLOOKUP($B10,'[1]TK KHOILUONG'!$B:$AT,20,0) -> 199 | V10: =VLOOKUP($B10,'[1]TK KHOILUONG'!$B:$AT,21,0) -> 15.6 | W10: =VLOOKUP($B10,'[1]TK KHOILUONG'!$B:$AT,22,0) -> 0 | X10: =VLOOKUP($B10,'[1]TK KHOILUONG'!$B:$AT,23,0) -> 0 | Y10: =VLOOKUP($B10,'[1]TK KHOILUONG'!$B:$AT,24,0) -> 0 | Z10: =VLOOKUP($B10,'[1]TK KHOILUONG'!$B:$AT,25,0) -> 0 | AA10: =VLOOKUP($B10,'[1]TK KHOILUONG'!$B:$AT,26,0) -> 0 | AB10: =VLOOKUP($B10,'[1]TK KHOILUONG'!$B:$AT,27,0) -> 0 | AC10: =VLOOKUP($B10,'[1]TK KHOILUONG'!$B:$AT,28,0) -> 0 | AD10: =VLOOKUP($B10,'[1]TK KHOILUONG'!$B:$AT,29,0) -> 0 | AE10: =VLOOKUP($B10,'[1]TK KHOILUONG'!$B:$AT,30,0) -> 0 | AF10: =VLOOKUP($B10,'[1]TK KHOILUONG'!$B:$AT,31,0) -> 0 | AG10: =VLOOKUP($B10,'[1]TK KHOILUONG'!$B:$AT,32,0) -> 0 | AH10: =VLOOKUP($B10,'[1]TK KHOILUONG'!$B:$AT,33,0) -> 0 | AI10: =VLOOKUP($B10,'[1]TK KHOILUONG'!$B:$AT,34,0) -> 0 | AJ10: =VLOOKUP($B10,'[1]TK KHOILUONG'!$B:$AT,35,0) -> 0 | AK10: =VLOOKUP($B10,'[1]TK KHOILUONG'!$B:$AT,36,0) -> 0 | AL10: =VLOOKUP($B10,'[1]TK KHOILUONG'!$B:$AT,37,0) -> 0 | AM10: =VLOOKUP($B10,'[1]TK KHOILUONG'!$B:$AT,38,0) -> 0 | AN10: =VLOOKUP($B10,'[1]TK KHOILUONG'!$B:$AT,39,0) -> 0 | AO10: =VLOOKUP($B10,'[1]TK KHOILUONG'!$B:$AT,40,0) -> 0 | AP10: =VLOOKUP($B10,'[1]TK KHOILUONG'!$B:$AT,41,0) -> 0 | AQ10: =VLOOKUP($B10,'[1]TK KHOILUONG'!$B:$AT,42,0) -> 0 | AR10: =VLOOKUP($B10,'[1]TK KHOILUONG'!$B:$AT,43,0) -> 0 | AS10: =VLOOKUP($B10,'[1]TK KHOILUONG'!$B:$AT,44,0) -> 0.6 | AT10: =IF(D10="","",ROUND(M10+R10+V10+Z10+AD10+AH10+AK10+AN10+AQ10+SUM(AR10:AS10),2)) -> 18.3
A11: =IF(D11="","",SUBTOTAL(3,$D$5:D11)) -> 7 | B11: 01012005 | C11: Khoa CN Cơ khí | D11: Đỗ Thị Phương Khanh | E11: =VLOOKUP($B11,'[1]TK KHOILUONG'!$B:$AT,4,0) -> 0 | F11: =VLOOKUP($B11,'[1]TK KHOILUONG'!$B:$AT,5,0) -> 10 | G11: =VLOOKUP($B11,'[1]TK KHOILUONG'!$B:$AT,6,0) -> 0 | H11: =VLOOKUP($B11,'[1]TK KHOILUONG'!$B:$AT,7,0) -> 0 | I11: =VLOOKUP($B11,'[1]TK KHOILUONG'!$B:$AT,8,0) -> 0 | J11: =VLOOKUP($B11,'[1]TK KHOILUONG'!$B:$AT,9,0) -> 0 | K11: =VLOOKUP($B11,'[1]TK KHOILUONG'!$B:$AT,10,0) -> 0 | L11: =VLOOKUP($B11,'[1]TK KHOILUONG'!$B:$AT,11,0) -> 0 | M11: =VLOOKUP($B11,'[1]TK KHOILUONG'!$B:$AT,12,0) -> 15 | N11: =VLOOKUP($B11,'[1]TK KHOILUONG'!$B:$AT,13,0) -> 0.6 | O11: =VLOOKUP($B11,'[1]TK KHOILUONG'!$B:$AT,14,0) -> 1.65 | P11: =VLOOKUP($B11,'[1]TK KHOILUONG'!$B:$AT,15,0) -> 0 | Q11: =VLOOKUP($B11,'[1]TK KHOILUONG'!$B:$AT,16,0) -> 0 | R11: =VLOOKUP($B11,'[1]TK KHOILUONG'!$B:$AT,17,0) -> 2.25 | S11: =VLOOKUP($B11,'[1]TK KHOILUONG'!$B:$AT,18,0) -> 0 | T11: =VLOOKUP($B11,'[1]TK KHOILUONG'!$B:$AT,19,0) -> 62 | U11: =VLOOKUP($B11,'[1]TK KHOILUONG'!$B:$AT,20,0) -> 0 | V11: =VLOOKUP($B11,'[1]TK KHOILUONG'!$B:$AT,21,0) -> 6.2 | W11: =VLOOKUP($B11,'[1]TK KHOILUONG'!$B:$AT,22,0) -> 0 | X11: =VLOOKUP($B11,'[1]TK KHOILUONG'!$B:$AT,23,0) -> 0 | Y11: =VLOOKUP($B11,'[1]TK KHOILUONG'!$B:$AT,24,0) -> 0 | Z11: =VLOOKUP($B11,'[1]TK KHOILUONG'!$B:$AT,25,0) -> 0 | AA11: =VLOOKUP($B11,'[1]TK KHOILUONG'!$B:$AT,26,0) -> 0 | AB11: =VLOOKUP($B11,'[1]TK KHOILUONG'!$B:$AT,27,0) -> 0 | AC11: =VLOOKUP($B11,'[1]TK KHOILUONG'!$B:$AT,28,0) -> 0 | AD11: =VLOOKUP($B11,'[1]TK KHOILUONG'!$B:$AT,29,0) -> 0 | AE11: =VLOOKUP($B11,'[1]TK KHOILUONG'!$B:$AT,30,0) -> 0 | AF11: =VLOOKUP($B11,'[1]TK KHOILUONG'!$B:$AT,31,0) -> 0 | AG11: =VLOOKUP($B11,'[1]TK KHOILUONG'!$B:$AT,32,0) -> 0 | AH11: =VLOOKUP($B11,'[1]TK KHOILUONG'!$B:$AT,33,0) -> 0 | AI11: =VLOOKUP($B11,'[1]TK KHOILUONG'!$B:$AT,34,0) -> 0 | AJ11: =VLOOKUP($B11,'[1]TK KHOILUONG'!$B:$AT,35,0) -> 0 | AK11: =VLOOKUP($B11,'[1]TK KHOILUONG'!$B:$AT,36,0) -> 0 | AL11: =VLOOKUP($B11,'[1]TK KHOILUONG'!$B:$AT,37,0) -> 0 | AM11: =VLOOKUP($B11,'[1]TK KHOILUONG'!$B:$AT,38,0) -> 0 | AN11: =VLOOKUP($B11,'[1]TK KHOILUONG'!$B:$AT,39,0) -> 0 | AO11: =VLOOKUP($B11,'[1]TK KHOILUONG'!$B:$AT,40,0) -> 0 | AP11: =VLOOKUP($B11,'[1]TK KHOILUONG'!$B:$AT,41,0) -> 0 | AQ11: =VLOOKUP($B11,'[1]TK KHOILUONG'!$B:$AT,42,0) -> 0 | AR11: =VLOOKUP($B11,'[1]TK KHOILUONG'!$B:$AT,43,0) -> 0 | AS11: =VLOOKUP($B11,'[1]TK KHOILUONG'!$B:$AT,44,0) -> 0.6 | AT11: =IF(D11="","",ROUND(M11+R11+V11+Z11+AD11+AH11+AK11+AN11+AQ11+SUM(AR11:AS11),2)) -> 24.05
A12: =IF(D12="","",SUBTOTAL(3,$D$5:D12)) -> 8 | B12: 01012014 | C12: Khoa CN Cơ khí | D12: Dương Minh Chung | E12: =VLOOKUP($B12,'[1]TK KHOILUONG'!$B:$AT,4,0) -> 4 | F12: =VLOOKUP($B12,'[1]TK KHOILUONG'!$B:$AT,5,0) -> 0 | G12: =VLOOKUP($B12,'[1]TK KHOILUONG'!$B:$AT,6,0) -> 0 | H12: =VLOOKUP($B12,'[1]TK KHOILUONG'!$B:$AT,7,0) -> 0 | I12: =VLOOKUP($B12,'[1]TK KHOILUONG'!$B:$AT,8,0) -> 0 | J12: =VLOOKUP($B12,'[1]TK KHOILUONG'!$B:$AT,9,0) -> 0 | K12: =VLOOKUP($B12,'[1]TK KHOILUONG'!$B:$AT,10,0) -> 0 | L12: =VLOOKUP($B12,'[1]TK KHOILUONG'!$B:$AT,11,0) -> 0 | M12: =VLOOKUP($B12,'[1]TK KHOILUONG'!$B:$AT,12,0) -> 4 | N12: =VLOOKUP($B12,'[1]TK KHOILUONG'!$B:$AT,13,0) -> 1.05 | O12: =VLOOKUP($B12,'[1]TK KHOILUONG'!$B:$AT,14,0) -> 5.25 | P12: =VLOOKUP($B12,'[1]TK KHOILUONG'!$B:$AT,15,0) -> 0 | Q12: =VLOOKUP($B12,'[1]TK KHOILUONG'!$B:$AT,16,0) -> 0 | R12: =VLOOKUP($B12,'[1]TK KHOILUONG'!$B:$AT,17,0) -> 6.3 | S12: =VLOOKUP($B12,'[1]TK KHOILUONG'!$B:$AT,18,0) -> 222 | T12: =VLOOKUP($B12,'[1]TK KHOILUONG'!$B:$AT,19,0) -> 172 | U12: =VLOOKUP($B12,'[1]TK KHOILUONG'!$B:$AT,20,0) -> 278 | V12: =VLOOKUP($B12,'[1]TK KHOILUONG'!$B:$AT,21,0) -> 11.6 | W12: =VLOOKUP($B12,'[1]TK KHOILUONG'!$B:$AT,22,0) -> 0 | X12: =VLOOKUP($B12,'[1]TK KHOILUONG'!$B:$AT,23,0) -> 0 | Y12: =VLOOKUP($B12,'[1]TK KHOILUONG'!$B:$AT,24,0) -> 0 | Z12: =VLOOKUP($B12,'[1]TK KHOILUONG'!$B:$AT,25,0) -> 0 | AA12: =VLOOKUP($B12,'[1]TK KHOILUONG'!$B:$AT,26,0) -> 0 | AB12: =VLOOKUP($B12,'[1]TK KHOILUONG'!$B:$AT,27,0) -> 0 | AC12: =VLOOKUP($B12,'[1]TK KHOILUONG'!$B:$AT,28,0) -> 0 | AD12: =VLOOKUP($B12,'[1]TK KHOILUONG'!$B:$AT,29,0) -> 0 | AE12: =VLOOKUP($B12,'[1]TK KHOILUONG'!$B:$AT,30,0) -> 0 | AF12: =VLOOKUP($B12,'[1]TK KHOILUONG'!$B:$AT,31,0) -> 0 | AG12: =VLOOKUP($B12,'[1]TK KHOILUONG'!$B:$AT,32,0) -> 0 | AH12: =VLOOKUP($B12,'[1]TK KHOILUONG'!$B:$AT,33,0) -> 0 | AI12: =VLOOKUP($B12,'[1]TK KHOILUONG'!$B:$AT,34,0) -> 0 | AJ12: =VLOOKUP($B12,'[1]TK KHOILUONG'!$B:$AT,35,0) -> 0 | AK12: =VLOOKUP($B12,'[1]TK KHOILUONG'!$B:$AT,36,0) -> 0 | AL12: =VLOOKUP($B12,'[1]TK KHOILUONG'!$B:$AT,37,0) -> 0 | AM12: =VLOOKUP($B12,'[1]TK KHOILUONG'!$B:$AT,38,0) -> 0 | AN12: =VLOOKUP($B12,'[1]TK KHOILUONG'!$B:$AT,39,0) -> 0 | AO12: =VLOOKUP($B12,'[1]TK KHOILUONG'!$B:$AT,40,0) -> 0 | AP12: =VLOOKUP($B12,'[1]TK KHOILUONG'!$B:$AT,41,0) -> 0 | AQ12: =VLOOKUP($B12,'[1]TK KHOILUONG'!$B:$AT,42,0) -> 0 | AR12: =VLOOKUP($B12,'[1]TK KHOILUONG'!$B:$AT,43,0) -> 0 | AS12: =VLOOKUP($B12,'[1]TK KHOILUONG'!$B:$AT,44,0) -> 0.5 | AT12: =IF(D12="","",ROUND(M12+R12+V12+Z12+AD12+AH12+AK12+AN12+AQ12+SUM(AR12:AS12),2)) -> 22.4
A13: =IF(D13="","",SUBTOTAL(3,$D$5:D13)) -> 9 | B13: 01012029 | C13: Khoa CN Cơ khí | D13: Dương Ngọc Hưng | E13: =VLOOKUP($B13,'[1]TK KHOILUONG'!$B:$AT,4,0) -> 0 | F13: =VLOOKUP($B13,'[1]TK KHOILUONG'!$B:$AT,5,0) -> 0 | G13: =VLOOKUP($B13,'[1]TK KHOILUONG'!$B:$AT,6,0) -> 0 | H13: =VLOOKUP($B13,'[1]TK KHOILUONG'!$B:$AT,7,0) -> 0 | I13: =VLOOKUP($B13,'[1]TK KHOILUONG'!$B:$AT,8,0) -> 0 | J13: =VLOOKUP($B13,'[1]TK KHOILUONG'!$B:$AT,9,0) -> 0 | K13: =VLOOKUP($B13,'[1]TK KHOILUONG'!$B:$AT,10,0) -> 0 | L13: =VLOOKUP($B13,'[1]TK KHOILUONG'!$B:$AT,11,0) -> 0 | M13: =VLOOKUP($B13,'[1]TK KHOILUONG'!$B:$AT,12,0) -> 0 | N13: =VLOOKUP($B13,'[1]TK KHOILUONG'!$B:$AT,13,0) -> 0 | O13: =VLOOKUP($B13,'[1]TK KHOILUONG'!$B:$AT,14,0) -> 0 | P13: =VLOOKUP($B13,'[1]TK KHOILUONG'!$B:$AT,15,0) -> 0 | Q13: =VLOOKUP($B13,'[1]TK KHOILUONG'!$B:$AT,16,0) -> 0 | R13: =VLOOKUP($B13,'[1]TK KHOILUONG'!$B:$AT,17,0) -> 0 | S13: =VLOOKUP($B13,'[1]TK KHOILUONG'!$B:$AT,18,0) -> 0 | T13: =VLOOKUP($B13,'[1]TK KHOILUONG'!$B:$AT,19,0) -> 0 | U13: =VLOOKUP($B13,'[1]TK KHOILUONG'!$B:$AT,20,0) -> 0 | V13: =VLOOKUP($B13,'[1]TK KHOILUONG'!$B:$AT,21,0) -> 0 | W13: =VLOOKUP($B13,'[1]TK KHOILUONG'!$B:$AT,22,0) -> 0 | X13: =VLOOKUP($B13,'[1]TK KHOILUONG'!$B:$AT,23,0) -> 0 | Y13: =VLOOKUP($B13,'[1]TK KHOILUONG'!$B:$AT,24,0) -> 0 | Z13: =VLOOKUP($B13,'[1]TK KHOILUONG'!$B:$AT,25,0) -> 0 | AA13: =VLOOKUP($B13,'[1]TK KHOILUONG'!$B:$AT,26,0) -> 0 | AB13: =VLOOKUP($B13,'[1]TK KHOILUONG'!$B:$AT,27,0) -> 0 | AC13: =VLOOKUP($B13,'[1]TK KHOILUONG'!$B:$AT,28,0) -> 0 | AD13: =VLOOKUP($B13,'[1]TK KHOILUONG'!$B:$AT,29,0) -> 0 | AE13: =VLOOKUP($B13,'[1]TK KHOILUONG'!$B:$AT,30,0) -> 0 | AF13: =VLOOKUP($B13,'[1]TK KHOILUONG'!$B:$AT,31,0) -> 0 | AG13: =VLOOKUP($B13,'[1]TK KHOILUONG'!$B:$AT,32,0) -> 0 | AH13: =VLOOKUP($B13,'[1]TK KHOILUONG'!$B:$AT,33,0) -> 0 | AI13: =VLOOKUP($B13,'[1]TK KHOILUONG'!$B:$AT,34,0) -> 0 | AJ13: =VLOOKUP($B13,'[1]TK KHOILUONG'!$B:$AT,35,0) -> 0 | AK13: =VLOOKUP($B13,'[1]TK KHOILUONG'!$B:$AT,36,0) -> 0 | AL13: =VLOOKUP($B13,'[1]TK KHOILUONG'!$B:$AT,37,0) -> 0 | AM13: =VLOOKUP($B13,'[1]TK KHOILUONG'!$B:$AT,38,0) -> 0 | AN13: =VLOOKUP($B13,'[1]TK KHOILUONG'!$B:$AT,39,0) -> 0 | AO13: =VLOOKUP($B13,'[1]TK KHOILUONG'!$B:$AT,40,0) -> 0 | AP13: =VLOOKUP($B13,'[1]TK KHOILUONG'!$B:$AT,41,0) -> 0 | AQ13: =VLOOKUP($B13,'[1]TK KHOILUONG'!$B:$AT,42,0) -> 0 | AR13: =VLOOKUP($B13,'[1]TK KHOILUONG'!$B:$AT,43,0) -> 0 | AS13: =VLOOKUP($B13,'[1]TK KHOILUONG'!$B:$AT,44,0) -> 0 | AT13: =IF(D13="","",ROUND(M13+R13+V13+Z13+AD13+AH13+AK13+AN13+AQ13+SUM(AR13:AS13),2)) -> 0
A14: =IF(D14="","",SUBTOTAL(3,$D$5:D14)) -> 10 | B14: 01012028 | C14: Khoa CN Cơ khí | D14: Dương Thị Hồng | E14: =VLOOKUP($B14,'[1]TK KHOILUONG'!$B:$AT,4,0) -> 6 | F14: =VLOOKUP($B14,'[1]TK KHOILUONG'!$B:$AT,5,0) -> 0 | G14: =VLOOKUP($B14,'[1]TK KHOILUONG'!$B:$AT,6,0) -> 0 | H14: =VLOOKUP($B14,'[1]TK KHOILUONG'!$B:$AT,7,0) -> 0 | I14: =VLOOKUP($B14,'[1]TK KHOILUONG'!$B:$AT,8,0) -> 0 | J14: =VLOOKUP($B14,'[1]TK KHOILUONG'!$B:$AT,9,0) -> 0 | K14: =VLOOKUP($B14,'[1]TK KHOILUONG'!$B:$AT,10,0) -> 0 | L14: =VLOOKUP($B14,'[1]TK KHOILUONG'!$B:$AT,11,0) -> 0 | M14: =VLOOKUP($B14,'[1]TK KHOILUONG'!$B:$AT,12,0) -> 6 | N14: =VLOOKUP($B14,'[1]TK KHOILUONG'!$B:$AT,13,0) -> 2.25 | O14: =VLOOKUP($B14,'[1]TK KHOILUONG'!$B:$AT,14,0) -> 3.45 | P14: =VLOOKUP($B14,'[1]TK KHOILUONG'!$B:$AT,15,0) -> 0 | Q14: =VLOOKUP($B14,'[1]TK KHOILUONG'!$B:$AT,16,0) -> 0 | R14: =VLOOKUP($B14,'[1]TK KHOILUONG'!$B:$AT,17,0) -> 5.7 | S14: =VLOOKUP($B14,'[1]TK KHOILUONG'!$B:$AT,18,0) -> 398 | T14: =VLOOKUP($B14,'[1]TK KHOILUONG'!$B:$AT,19,0) -> 405 | U14: =VLOOKUP($B14,'[1]TK KHOILUONG'!$B:$AT,20,0) -> 485 | V14: =VLOOKUP($B14,'[1]TK KHOILUONG'!$B:$AT,21,0) -> 31.8 | W14: =VLOOKUP($B14,'[1]TK KHOILUONG'!$B:$AT,22,0) -> 0 | X14: =VLOOKUP($B14,'[1]TK KHOILUONG'!$B:$AT,23,0) -> 0 | Y14: =VLOOKUP($B14,'[1]TK KHOILUONG'!$B:$AT,24,0) -> 0 | Z14: =VLOOKUP($B14,'[1]TK KHOILUONG'!$B:$AT,25,0) -> 0 | AA14: =VLOOKUP($B14,'[1]TK KHOILUONG'!$B:$AT,26,0) -> 0 | AB14: =VLOOKUP($B14,'[1]TK KHOILUONG'!$B:$AT,27,0) -> 0 | AC14: =VLOOKUP($B14,'[1]TK KHOILUONG'!$B:$AT,28,0) -> 0 | AD14: =VLOOKUP($B14,'[1]TK KHOILUONG'!$B:$AT,29,0) -> 0 | AE14: =VLOOKUP($B14,'[1]TK KHOILUONG'!$B:$AT,30,0) -> 0 | AF14: =VLOOKUP($B14,'[1]TK KHOILUONG'!$B:$AT,31,0) -> 0 | AG14: =VLOOKUP($B14,'[1]TK KHOILUONG'!$B:$AT,32,0) -> 0 | AH14: =VLOOKUP($B14,'[1]TK KHOILUONG'!$B:$AT,33,0) -> 0 | AI14: =VLOOKUP($B14,'[1]TK KHOILUONG'!$B:$AT,34,0) -> 0 | AJ14: =VLOOKUP($B14,'[1]TK KHOILUONG'!$B:$AT,35,0) -> 0 | AK14: =VLOOKUP($B14,'[1]TK KHOILUONG'!$B:$AT,36,0) -> 0 | AL14: =VLOOKUP($B14,'[1]TK KHOILUONG'!$B:$AT,37,0) -> 0 | AM14: =VLOOKUP($B14,'[1]TK KHOILUONG'!$B:$AT,38,0) -> 0 | AN14: =VLOOKUP($B14,'[1]TK KHOILUONG'!$B:$AT,39,0) -> 0 | AO14: =VLOOKUP($B14,'[1]TK KHOILUONG'!$B:$AT,40,0) -> 0 | AP14: =VLOOKUP($B14,'[1]TK KHOILUONG'!$B:$AT,41,0) -> 0 | AQ14: =VLOOKUP($B14,'[1]TK KHOILUONG'!$B:$AT,42,0) -> 0 | AR14: =VLOOKUP($B14,'[1]TK KHOILUONG'!$B:$AT,43,0) -> 0 | AS14: =VLOOKUP($B14,'[1]TK KHOILUONG'!$B:$AT,44,0) -> 0.5 | AT14: =IF(D14="","",ROUND(M14+R14+V14+Z14+AD14+AH14+AK14+AN14+AQ14+SUM(AR14:AS14),2)) -> 44
A15: =IF(D15="","",SUBTOTAL(3,$D$5:D15)) -> 11 | B15: 01006001 | C15: Khoa CN Cơ khí | D15: Hà Phước Tuấn | E15: =VLOOKUP($B15,'[1]TK KHOILUONG'!$B:$AT,4,0) -> 2 | F15: =VLOOKUP($B15,'[1]TK KHOILUONG'!$B:$AT,5,0) -> 0 | G15: =VLOOKUP($B15,'[1]TK KHOILUONG'!$B:$AT,6,0) -> 0 | H15: =VLOOKUP($B15,'[1]TK KHOILUONG'!$B:$AT,7,0) -> 0 | I15: =VLOOKUP($B15,'[1]TK KHOILUONG'!$B:$AT,8,0) -> 0 | J15: =VLOOKUP($B15,'[1]TK KHOILUONG'!$B:$AT,9,0) -> 0 | K15: =VLOOKUP($B15,'[1]TK KHOILUONG'!$B:$AT,10,0) -> 0 | L15: =VLOOKUP($B15,'[1]TK KHOILUONG'!$B:$AT,11,0) -> 0 | M15: =VLOOKUP($B15,'[1]TK KHOILUONG'!$B:$AT,12,0) -> 2 | N15: =VLOOKUP($B15,'[1]TK KHOILUONG'!$B:$AT,13,0) -> 4.5 | O15: =VLOOKUP($B15,'[1]TK KHOILUONG'!$B:$AT,14,0) -> 3.3 | P15: =VLOOKUP($B15,'[1]TK KHOILUONG'!$B:$AT,15,0) -> 0 | Q15: =VLOOKUP($B15,'[1]TK KHOILUONG'!$B:$AT,16,0) -> 0 | R15: =VLOOKUP($B15,'[1]TK KHOILUONG'!$B:$AT,17,0) -> 7.8 | S15: =VLOOKUP($B15,'[1]TK KHOILUONG'!$B:$AT,18,0) -> 149 | T15: =VLOOKUP($B15,'[1]TK KHOILUONG'!$B:$AT,19,0) -> 0 | U15: =VLOOKUP($B15,'[1]TK KHOILUONG'!$B:$AT,20,0) -> 142 | V15: =VLOOKUP($B15,'[1]TK KHOILUONG'!$B:$AT,21,0) -> 0.7 | W15: =VLOOKUP($B15,'[1]TK KHOILUONG'!$B:$AT,22,0) -> 0 | X15: =VLOOKUP($B15,'[1]TK KHOILUONG'!$B:$AT,23,0) -> 0 | Y15: =VLOOKUP($B15,'[1]TK KHOILUONG'!$B:$AT,24,0) -> 0 | Z15: =VLOOKUP($B15,'[1]TK KHOILUONG'!$B:$AT,25,0) -> 0 | AA15: =VLOOKUP($B15,'[1]TK KHOILUONG'!$B:$AT,26,0) -> 0 | AB15: =VLOOKUP($B15,'[1]TK KHOILUONG'!$B:$AT,27,0) -> 0 | AC15: =VLOOKUP($B15,'[1]TK KHOILUONG'!$B:$AT,28,0) -> 0 | AD15: =VLOOKUP($B15,'[1]TK KHOILUONG'!$B:$AT,29,0) -> 0 | AE15: =VLOOKUP($B15,'[1]TK KHOILUONG'!$B:$AT,30,0) -> 0 | AF15: =VLOOKUP($B15,'[1]TK KHOILUONG'!$B:$AT,31,0) -> 0 | AG15: =VLOOKUP($B15,'[1]TK KHOILUONG'!$B:$AT,32,0) -> 0 | AH15: =VLOOKUP($B15,'[1]TK KHOILUONG'!$B:$AT,33,0) -> 0 | AI15: =VLOOKUP($B15,'[1]TK KHOILUONG'!$B:$AT,34,0) -> 0 | AJ15: =VLOOKUP($B15,'[1]TK KHOILUONG'!$B:$AT,35,0) -> 0 | AK15: =VLOOKUP($B15,'[1]TK KHOILUONG'!$B:$AT,36,0) -> 0 | AL15: =VLOOKUP($B15,'[1]TK KHOILUONG'!$B:$AT,37,0) -> 0 | AM15: =VLOOKUP($B15,'[1]TK KHOILUONG'!$B:$AT,38,0) -> 0 | AN15: =VLOOKUP($B15,'[1]TK KHOILUONG'!$B:$AT,39,0) -> 0 | AO15: =VLOOKUP($B15,'[1]TK KHOILUONG'!$B:$AT,40,0) -> 0 | AP15: =VLOOKUP($B15,'[1]TK KHOILUONG'!$B:$AT,41,0) -> 0 | AQ15: =VLOOKUP($B15,'[1]TK KHOILUONG'!$B:$AT,42,0) -> 0 | AR15: =VLOOKUP($B15,'[1]TK KHOILUONG'!$B:$AT,43,0) -> 0 | AS15: =VLOOKUP($B15,'[1]TK KHOILUONG'!$B:$AT,44,0) -> 1.4 | AT15: =IF(D15="","",ROUND(M15+R15+V15+Z15+AD15+AH15+AK15+AN15+AQ15+SUM(AR15:AS15),2)) -> 11.9
A16: =IF(D16="","",SUBTOTAL(3,$D$5:D16)) -> 12 | B16: 01012030 | C16: Khoa CN Cơ khí | D16: Hồ Nhật Linh (TG) | E16: =VLOOKUP($B16,'[1]TK KHOILUONG'!$B:$AT,4,0) -> 0 | F16: =VLOOKUP($B16,'[1]TK KHOILUONG'!$B:$AT,5,0) -> 0 | G16: =VLOOKUP($B16,'[1]TK KHOILUONG'!$B:$AT,6,0) -> 0 | H16: =VLOOKUP($B16,'[1]TK KHOILUONG'!$B:$AT,7,0) -> 0 | I16: =VLOOKUP($B16,'[1]TK KHOILUONG'!$B:$AT,8,0) -> 0 | J16: =VLOOKUP($B16,'[1]TK KHOILUONG'!$B:$AT,9,0) -> 0 | K16: =VLOOKUP($B16,'[1]TK KHOILUONG'!$B:$AT,10,0) -> 0 | L16: =VLOOKUP($B16,'[1]TK KHOILUONG'!$B:$AT,11,0) -> 0 | M16: =VLOOKUP($B16,'[1]TK KHOILUONG'!$B:$AT,12,0) -> 0 | N16: =VLOOKUP($B16,'[1]TK KHOILUONG'!$B:$AT,13,0) -> 0 | O16: =VLOOKUP($B16,'[1]TK KHOILUONG'!$B:$AT,14,0) -> 0 | P16: =VLOOKUP($B16,'[1]TK KHOILUONG'!$B:$AT,15,0) -> 0 | Q16: =VLOOKUP($B16,'[1]TK KHOILUONG'!$B:$AT,16,0) -> 0 | R16: =VLOOKUP($B16,'[1]TK KHOILUONG'!$B:$AT,17,0) -> 0 | S16: =VLOOKUP($B16,'[1]TK KHOILUONG'!$B:$AT,18,0) -> 218 | T16: =VLOOKUP($B16,'[1]TK KHOILUONG'!$B:$AT,19,0) -> 0 | U16: =VLOOKUP($B16,'[1]TK KHOILUONG'!$B:$AT,20,0) -> 192 | V16: =VLOOKUP($B16,'[1]TK KHOILUONG'!$B:$AT,21,0) -> 2.6 | W16: =VLOOKUP($B16,'[1]TK KHOILUONG'!$B:$AT,22,0) -> 0 | X16: =VLOOKUP($B16,'[1]TK KHOILUONG'!$B:$AT,23,0) -> 0 | Y16: =VLOOKUP($B16,'[1]TK KHOILUONG'!$B:$AT,24,0) -> 0 | Z16: =VLOOKUP($B16,'[1]TK KHOILUONG'!$B:$AT,25,0) -> 0 | AA16: =VLOOKUP($B16,'[1]TK KHOILUONG'!$B:$AT,26,0) -> 0 | AB16: =VLOOKUP($B16,'[1]TK KHOILUONG'!$B:$AT,27,0) -> 0 | AC16: =VLOOKUP($B16,'[1]TK KHOILUONG'!$B:$AT,28,0) -> 0 | AD16: =VLOOKUP($B16,'[1]TK KHOILUONG'!$B:$AT,29,0) -> 0 | AE16: =VLOOKUP($B16,'[1]TK KHOILUONG'!$B:$AT,30,0) -> 0 | AF16: =VLOOKUP($B16,'[1]TK KHOILUONG'!$B:$AT,31,0) -> 0 | AG16: =VLOOKUP($B16,'[1]TK KHOILUONG'!$B:$AT,32,0) -> 0 | AH16: =VLOOKUP($B16,'[1]TK KHOILUONG'!$B:$AT,33,0) -> 0 | AI16: =VLOOKUP($B16,'[1]TK KHOILUONG'!$B:$AT,34,0) -> 0 | AJ16: =VLOOKUP($B16,'[1]TK KHOILUONG'!$B:$AT,35,0) -> 0 | AK16: =VLOOKUP($B16,'[1]TK KHOILUONG'!$B:$AT,36,0) -> 0 | AL16: =VLOOKUP($B16,'[1]TK KHOILUONG'!$B:$AT,37,0) -> 0 | AM16: =VLOOKUP($B16,'[1]TK KHOILUONG'!$B:$AT,38,0) -> 0 | AN16: =VLOOKUP($B16,'[1]TK KHOILUONG'!$B:$AT,39,0) -> 0 | AO16: =VLOOKUP($B16,'[1]TK KHOILUONG'!$B:$AT,40,0) -> 0 | AP16: =VLOOKUP($B16,'[1]TK KHOILUONG'!$B:$AT,41,0) -> 0 | AQ16: =VLOOKUP($B16,'[1]TK KHOILUONG'!$B:$AT,42,0) -> 0 | AR16: =VLOOKUP($B16,'[1]TK KHOILUONG'!$B:$AT,43,0) -> 0 | AS16: =VLOOKUP($B16,'[1]TK KHOILUONG'!$B:$AT,44,0) -> 0 | AT16: =IF(D16="","",ROUND(M16+R16+V16+Z16+AD16+AH16+AK16+AN16+AQ16+SUM(AR16:AS16),2)) -> 2.6
... A473: =IF(D473="","",SUBTOTAL(3,$D$5:D473)) -> 469 | B473: 01021002 | C473: TT Y tế | D473: Vũ Thị Thanh Nhàn | E473: =VLOOKUP($B473,'[1]TK KHOILUONG'!$B:$AT,4,0) -> 0 | F473: =VLOOKUP($B473,'[1]TK KHOILUONG'!$B:$AT,5,0) -> 0 | G473: =VLOOKUP($B473,'[1]TK KHOILUONG'!$B:$AT,6,0) -> 0 | H473: =VLOOKUP($B473,'[1]TK KHOILUONG'!$B:$AT,7,0) -> 0 | I473: =VLOOKUP($B473,'[1]TK KHOILUONG'!$B:$AT,8,0) -> 0 | J473: =VLOOKUP($B473,'[1]TK KHOILUONG'!$B:$AT,9,0) -> 0 | K473: =VLOOKUP($B473,'[1]TK KHOILUONG'!$B:$AT,10,0) -> 0 | L473: =VLOOKUP($B473,'[1]TK KHOILUONG'!$B:$AT,11,0) -> 0 | M473: =VLOOKUP($B473,'[1]TK KHOILUONG'!$B:$AT,12,0) -> 0 | N473: =VLOOKUP($B473,'[1]TK KHOILUONG'!$B:$AT,13,0) -> 0 | O473: =VLOOKUP($B473,'[1]TK KHOILUONG'!$B:$AT,14,0) -> 0 | P473: =VLOOKUP($B473,'[1]TK KHOILUONG'!$B:$AT,15,0) -> 0 | Q473: =VLOOKUP($B473,'[1]TK KHOILUONG'!$B:$AT,16,0) -> 0 | R473: =VLOOKUP($B473,'[1]TK KHOILUONG'!$B:$AT,17,0) -> 0 | S473: =VLOOKUP($B473,'[1]TK KHOILUONG'!$B:$AT,18,0) -> 0 | T473: =VLOOKUP($B473,'[1]TK KHOILUONG'!$B:$AT,19,0) -> 0 | U473: =VLOOKUP($B473,'[1]TK KHOILUONG'!$B:$AT,20,0) -> 0 | V473: =VLOOKUP($B473,'[1]TK KHOILUONG'!$B:$AT,21,0) -> 0 | W473: =VLOOKUP($B473,'[1]TK KHOILUONG'!$B:$AT,22,0) -> 0 | X473: =VLOOKUP($B473,'[1]TK KHOILUONG'!$B:$AT,23,0) -> 0 | Y473: =VLOOKUP($B473,'[1]TK KHOILUONG'!$B:$AT,24,0) -> 0 | Z473: =VLOOKUP($B473,'[1]TK KHOILUONG'!$B:$AT,25,0) -> 0 | AA473: =VLOOKUP($B473,'[1]TK KHOILUONG'!$B:$AT,26,0) -> 0 | AB473: =VLOOKUP($B473,'[1]TK KHOILUONG'!$B:$AT,27,0) -> 0 | AC473: =VLOOKUP($B473,'[1]TK KHOILUONG'!$B:$AT,28,0) -> 0 | AD473: =VLOOKUP($B473,'[1]TK KHOILUONG'!$B:$AT,29,0) -> 0 | AE473: =VLOOKUP($B473,'[1]TK KHOILUONG'!$B:$AT,30,0) -> 0 | AF473: =VLOOKUP($B473,'[1]TK KHOILUONG'!$B:$AT,31,0) -> 0 | AG473: =VLOOKUP($B473,'[1]TK KHOILUONG'!$B:$AT,32,0) -> 0 | AH473: =VLOOKUP($B473,'[1]TK KHOILUONG'!$B:$AT,33,0) -> 0 | AI473: =VLOOKUP($B473,'[1]TK KHOILUONG'!$B:$AT,34,0) -> 0 | AJ473: =VLOOKUP($B473,'[1]TK KHOILUONG'!$B:$AT,35,0) -> 0 | AK473: =VLOOKUP($B473,'[1]TK KHOILUONG'!$B:$AT,36,0) -> 0 | AL473: =VLOOKUP($B473,'[1]TK KHOILUONG'!$B:$AT,37,0) -> 0 | AM473: =VLOOKUP($B473,'[1]TK KHOILUONG'!$B:$AT,38,0) -> 0 | AN473: =VLOOKUP($B473,'[1]TK KHOILUONG'!$B:$AT,39,0) -> 0 | AO473: =VLOOKUP($B473,'[1]TK KHOILUONG'!$B:$AT,40,0) -> 0 | AP473: =VLOOKUP($B473,'[1]TK KHOILUONG'!$B:$AT,41,0) -> 0 | AQ473: =VLOOKUP($B473,'[1]TK KHOILUONG'!$B:$AT,42,0) -> 0 | AR473: =VLOOKUP($B473,'[1]TK KHOILUONG'!$B:$AT,43,0) -> 0 | AS473: =VLOOKUP($B473,'[1]TK KHOILUONG'!$B:$AT,44,0) -> 0 | AT473: =IF(D473="","",ROUND(M473+R473+V473+Z473+AD473+AH473+AK473+AN473+AQ473+SUM(AR473:AS473),2)) -> 0
A474: =IF(D474="","",SUBTOTAL(3,$D$5:D474)) | E474: =VLOOKUP($B474,'[1]TK KHOILUONG'!$B:$AT,4,0) -> #N/A | F474: =VLOOKUP($B474,'[1]TK KHOILUONG'!$B:$AT,5,0) -> #N/A | G474: =VLOOKUP($B474,'[1]TK KHOILUONG'!$B:$AT,6,0) -> #N/A | H474: =VLOOKUP($B474,'[1]TK KHOILUONG'!$B:$AT,7,0) -> #N/A | I474: =VLOOKUP($B474,'[1]TK KHOILUONG'!$B:$AT,8,0) -> #N/A | J474: =VLOOKUP($B474,'[1]TK KHOILUONG'!$B:$AT,9,0) -> #N/A | K474: =VLOOKUP($B474,'[1]TK KHOILUONG'!$B:$AT,10,0) -> #N/A | L474: =VLOOKUP($B474,'[1]TK KHOILUONG'!$B:$AT,11,0) -> #N/A | M474: =VLOOKUP($B474,'[1]TK KHOILUONG'!$B:$AT,12,0) -> #N/A | N474: =VLOOKUP($B474,'[1]TK KHOILUONG'!$B:$AT,13,0) -> #N/A | O474: =VLOOKUP($B474,'[1]TK KHOILUONG'!$B:$AT,14,0) -> #N/A | P474: =VLOOKUP($B474,'[1]TK KHOILUONG'!$B:$AT,15,0) -> #N/A | Q474: =VLOOKUP($B474,'[1]TK KHOILUONG'!$B:$AT,16,0) -> #N/A | R474: =VLOOKUP($B474,'[1]TK KHOILUONG'!$B:$AT,17,0) -> #N/A | S474: =VLOOKUP($B474,'[1]TK KHOILUONG'!$B:$AT,18,0) -> #N/A | T474: =VLOOKUP($B474,'[1]TK KHOILUONG'!$B:$AT,19,0) -> #N/A | U474: =VLOOKUP($B474,'[1]TK KHOILUONG'!$B:$AT,20,0) -> #N/A | V474: =VLOOKUP($B474,'[1]TK KHOILUONG'!$B:$AT,21,0) -> #N/A | W474: =VLOOKUP($B474,'[1]TK KHOILUONG'!$B:$AT,22,0) -> #N/A | X474: =VLOOKUP($B474,'[1]TK KHOILUONG'!$B:$AT,23,0) -> #N/A | Y474: =VLOOKUP($B474,'[1]TK KHOILUONG'!$B:$AT,24,0) -> #N/A | Z474: =VLOOKUP($B474,'[1]TK KHOILUONG'!$B:$AT,25,0) -> #N/A | AA474: =VLOOKUP($B474,'[1]TK KHOILUONG'!$B:$AT,26,0) -> #N/A | AB474: =VLOOKUP($B474,'[1]TK KHOILUONG'!$B:$AT,27,0) -> #N/A | AC474: =VLOOKUP($B474,'[1]TK KHOILUONG'!$B:$AT,28,0) -> #N/A | AD474: =VLOOKUP($B474,'[1]TK KHOILUONG'!$B:$AT,29,0) -> #N/A | AE474: =VLOOKUP($B474,'[1]TK KHOILUONG'!$B:$AT,30,0) -> #N/A | AF474: =VLOOKUP($B474,'[1]TK KHOILUONG'!$B:$AT,31,0) -> #N/A | AG474: =VLOOKUP($B474,'[1]TK KHOILUONG'!$B:$AT,32,0) -> #N/A | AH474: =VLOOKUP($B474,'[1]TK KHOILUONG'!$B:$AT,33,0) -> #N/A | AI474: =VLOOKUP($B474,'[1]TK KHOILUONG'!$B:$AT,34,0) -> #N/A | AJ474: =VLOOKUP($B474,'[1]TK KHOILUONG'!$B:$AT,35,0) -> #N/A | AK474: =VLOOKUP($B474,'[1]TK KHOILUONG'!$B:$AT,36,0) -> #N/A | AL474: =VLOOKUP($B474,'[1]TK KHOILUONG'!$B:$AT,37,0) -> #N/A | AM474: =VLOOKUP($B474,'[1]TK KHOILUONG'!$B:$AT,38,0) -> #N/A | AN474: =VLOOKUP($B474,'[1]TK KHOILUONG'!$B:$AT,39,0) -> #N/A | AO474: =VLOOKUP($B474,'[1]TK KHOILUONG'!$B:$AT,40,0) -> #N/A | AP474: =VLOOKUP($B474,'[1]TK KHOILUONG'!$B:$AT,41,0) -> #N/A | AQ474: =VLOOKUP($B474,'[1]TK KHOILUONG'!$B:$AT,42,0) -> #N/A | AR474: =VLOOKUP($B474,'[1]TK KHOILUONG'!$B:$AT,43,0) -> #N/A | AS474: =VLOOKUP($B474,'[1]TK KHOILUONG'!$B:$AT,44,0) -> #N/A | AT474: =IF(D474="","",ROUND(M474+R474+V474+Z474+AD474+AH474+AK474+AN474+AQ474+SUM(AR474:AS474),2))
A475: =IF(D475="","",SUBTOTAL(3,$D$5:D475)) | E475: =VLOOKUP($B475,'[1]TK KHOILUONG'!$B:$AT,4,0) -> #N/A | F475: =VLOOKUP($B475,'[1]TK KHOILUONG'!$B:$AT,5,0) -> #N/A | G475: =VLOOKUP($B475,'[1]TK KHOILUONG'!$B:$AT,6,0) -> #N/A | H475: =VLOOKUP($B475,'[1]TK KHOILUONG'!$B:$AT,7,0) -> #N/A | I475: =VLOOKUP($B475,'[1]TK KHOILUONG'!$B:$AT,8,0) -> #N/A | J475: =VLOOKUP($B475,'[1]TK KHOILUONG'!$B:$AT,9,0) -> #N/A | K475: =VLOOKUP($B475,'[1]TK KHOILUONG'!$B:$AT,10,0) -> #N/A | L475: =VLOOKUP($B475,'[1]TK KHOILUONG'!$B:$AT,11,0) -> #N/A | M475: =VLOOKUP($B475,'[1]TK KHOILUONG'!$B:$AT,12,0) -> #N/A | N475: =VLOOKUP($B475,'[1]TK KHOILUONG'!$B:$AT,13,0) -> #N/A | O475: =VLOOKUP($B475,'[1]TK KHOILUONG'!$B:$AT,14,0) -> #N/A | P475: =VLOOKUP($B475,'[1]TK KHOILUONG'!$B:$AT,15,0) -> #N/A | Q475: =VLOOKUP($B475,'[1]TK KHOILUONG'!$B:$AT,16,0) -> #N/A | R475: =VLOOKUP($B475,'[1]TK KHOILUONG'!$B:$AT,17,0) -> #N/A | S475: =VLOOKUP($B475,'[1]TK KHOILUONG'!$B:$AT,18,0) -> #N/A | T475: =VLOOKUP($B475,'[1]TK KHOILUONG'!$B:$AT,19,0) -> #N/A | U475: =VLOOKUP($B475,'[1]TK KHOILUONG'!$B:$AT,20,0) -> #N/A | V475: =VLOOKUP($B475,'[1]TK KHOILUONG'!$B:$AT,21,0) -> #N/A | W475: =VLOOKUP($B475,'[1]TK KHOILUONG'!$B:$AT,22,0) -> #N/A | X475: =VLOOKUP($B475,'[1]TK KHOILUONG'!$B:$AT,23,0) -> #N/A | Y475: =VLOOKUP($B475,'[1]TK KHOILUONG'!$B:$AT,24,0) -> #N/A | Z475: =VLOOKUP($B475,'[1]TK KHOILUONG'!$B:$AT,25,0) -> #N/A | AA475: =VLOOKUP($B475,'[1]TK KHOILUONG'!$B:$AT,26,0) -> #N/A | AB475: =VLOOKUP($B475,'[1]TK KHOILUONG'!$B:$AT,27,0) -> #N/A | AC475: =VLOOKUP($B475,'[1]TK KHOILUONG'!$B:$AT,28,0) -> #N/A | AD475: =VLOOKUP($B475,'[1]TK KHOILUONG'!$B:$AT,29,0) -> #N/A | AE475: =VLOOKUP($B475,'[1]TK KHOILUONG'!$B:$AT,30,0) -> #N/A | AF475: =VLOOKUP($B475,'[1]TK KHOILUONG'!$B:$AT,31,0) -> #N/A | AG475: =VLOOKUP($B475,'[1]TK KHOILUONG'!$B:$AT,32,0) -> #N/A | AH475: =VLOOKUP($B475,'[1]TK KHOILUONG'!$B:$AT,33,0) -> #N/A | AI475: =VLOOKUP($B475,'[1]TK KHOILUONG'!$B:$AT,34,0) -> #N/A | AJ475: =VLOOKUP($B475,'[1]TK KHOILUONG'!$B:$AT,35,0) -> #N/A | AK475: =VLOOKUP($B475,'[1]TK KHOILUONG'!$B:$AT,36,0) -> #N/A | AL475: =VLOOKUP($B475,'[1]TK KHOILUONG'!$B:$AT,37,0) -> #N/A | AM475: =VLOOKUP($B475,'[1]TK KHOILUONG'!$B:$AT,38,0) -> #N/A | AN475: =VLOOKUP($B475,'[1]TK KHOILUONG'!$B:$AT,39,0) -> #N/A | AO475: =VLOOKUP($B475,'[1]TK KHOILUONG'!$B:$AT,40,0) -> #N/A | AP475: =VLOOKUP($B475,'[1]TK KHOILUONG'!$B:$AT,41,0) -> #N/A | AQ475: =VLOOKUP($B475,'[1]TK KHOILUONG'!$B:$AT,42,0) -> #N/A | AR475: =VLOOKUP($B475,'[1]TK KHOILUONG'!$B:$AT,43,0) -> #N/A | AS475: =VLOOKUP($B475,'[1]TK KHOILUONG'!$B:$AT,44,0) -> #N/A | AT475: =IF(D475="","",ROUND(M475+R475+V475+Z475+AD475+AH475+AK475+AN475+AQ475+SUM(AR475:AS475),2))
A476: =IF(D476="","",SUBTOTAL(3,$D$5:D476)) | E476: =VLOOKUP($B476,'[1]TK KHOILUONG'!$B:$AT,4,0) -> #N/A | F476: =VLOOKUP($B476,'[1]TK KHOILUONG'!$B:$AT,5,0) -> #N/A | G476: =VLOOKUP($B476,'[1]TK KHOILUONG'!$B:$AT,6,0) -> #N/A | H476: =VLOOKUP($B476,'[1]TK KHOILUONG'!$B:$AT,7,0) -> #N/A | I476: =VLOOKUP($B476,'[1]TK KHOILUONG'!$B:$AT,8,0) -> #N/A | J476: =VLOOKUP($B476,'[1]TK KHOILUONG'!$B:$AT,9,0) -> #N/A | K476: =VLOOKUP($B476,'[1]TK KHOILUONG'!$B:$AT,10,0) -> #N/A | L476: =VLOOKUP($B476,'[1]TK KHOILUONG'!$B:$AT,11,0) -> #N/A | M476: =VLOOKUP($B476,'[1]TK KHOILUONG'!$B:$AT,12,0) -> #N/A | N476: =VLOOKUP($B476,'[1]TK KHOILUONG'!$B:$AT,13,0) -> #N/A | O476: =VLOOKUP($B476,'[1]TK KHOILUONG'!$B:$AT,14,0) -> #N/A | P476: =VLOOKUP($B476,'[1]TK KHOILUONG'!$B:$AT,15,0) -> #N/A | Q476: =VLOOKUP($B476,'[1]TK KHOILUONG'!$B:$AT,16,0) -> #N/A | R476: =VLOOKUP($B476,'[1]TK KHOILUONG'!$B:$AT,17,0) -> #N/A | S476: =VLOOKUP($B476,'[1]TK KHOILUONG'!$B:$AT,18,0) -> #N/A | T476: =VLOOKUP($B476,'[1]TK KHOILUONG'!$B:$AT,19,0) -> #N/A | U476: =VLOOKUP($B476,'[1]TK KHOILUONG'!$B:$AT,20,0) -> #N/A | V476: =VLOOKUP($B476,'[1]TK KHOILUONG'!$B:$AT,21,0) -> #N/A | W476: =VLOOKUP($B476,'[1]TK KHOILUONG'!$B:$AT,22,0) -> #N/A | X476: =VLOOKUP($B476,'[1]TK KHOILUONG'!$B:$AT,23,0) -> #N/A | Y476: =VLOOKUP($B476,'[1]TK KHOILUONG'!$B:$AT,24,0) -> #N/A | Z476: =VLOOKUP($B476,'[1]TK KHOILUONG'!$B:$AT,25,0) -> #N/A | AA476: =VLOOKUP($B476,'[1]TK KHOILUONG'!$B:$AT,26,0) -> #N/A | AB476: =VLOOKUP($B476,'[1]TK KHOILUONG'!$B:$AT,27,0) -> #N/A | AC476: =VLOOKUP($B476,'[1]TK KHOILUONG'!$B:$AT,28,0) -> #N/A | AD476: =VLOOKUP($B476,'[1]TK KHOILUONG'!$B:$AT,29,0) -> #N/A | AE476: =VLOOKUP($B476,'[1]TK KHOILUONG'!$B:$AT,30,0) -> #N/A | AF476: =VLOOKUP($B476,'[1]TK KHOILUONG'!$B:$AT,31,0) -> #N/A | AG476: =VLOOKUP($B476,'[1]TK KHOILUONG'!$B:$AT,32,0) -> #N/A | AH476: =VLOOKUP($B476,'[1]TK KHOILUONG'!$B:$AT,33,0) -> #N/A | AI476: =VLOOKUP($B476,'[1]TK KHOILUONG'!$B:$AT,34,0) -> #N/A | AJ476: =VLOOKUP($B476,'[1]TK KHOILUONG'!$B:$AT,35,0) -> #N/A | AK476: =VLOOKUP($B476,'[1]TK KHOILUONG'!$B:$AT,36,0) -> #N/A | AL476: =VLOOKUP($B476,'[1]TK KHOILUONG'!$B:$AT,37,0) -> #N/A | AM476: =VLOOKUP($B476,'[1]TK KHOILUONG'!$B:$AT,38,0) -> #N/A | AN476: =VLOOKUP($B476,'[1]TK KHOILUONG'!$B:$AT,39,0) -> #N/A | AO476: =VLOOKUP($B476,'[1]TK KHOILUONG'!$B:$AT,40,0) -> #N/A | AP476: =VLOOKUP($B476,'[1]TK KHOILUONG'!$B:$AT,41,0) -> #N/A | AQ476: =VLOOKUP($B476,'[1]TK KHOILUONG'!$B:$AT,42,0) -> #N/A | AR476: =VLOOKUP($B476,'[1]TK KHOILUONG'!$B:$AT,43,0) -> #N/A | AS476: =VLOOKUP($B476,'[1]TK KHOILUONG'!$B:$AT,44,0) -> #N/A | AT476: =IF(D476="","",ROUND(M476+R476+V476+Z476+AD476+AH476+AK476+AN476+AQ476+SUM(AR476:AS476),2))
A477: =IF(D477="","",SUBTOTAL(3,$D$5:D477)) | E477: =VLOOKUP($B477,'[1]TK KHOILUONG'!$B:$AT,4,0) -> #N/A | F477: =VLOOKUP($B477,'[1]TK KHOILUONG'!$B:$AT,5,0) -> #N/A | G477: =VLOOKUP($B477,'[1]TK KHOILUONG'!$B:$AT,6,0) -> #N/A | H477: =VLOOKUP($B477,'[1]TK KHOILUONG'!$B:$AT,7,0) -> #N/A | I477: =VLOOKUP($B477,'[1]TK KHOILUONG'!$B:$AT,8,0) -> #N/A | J477: =VLOOKUP($B477,'[1]TK KHOILUONG'!$B:$AT,9,0) -> #N/A | K477: =VLOOKUP($B477,'[1]TK KHOILUONG'!$B:$AT,10,0) -> #N/A | L477: =VLOOKUP($B477,'[1]TK KHOILUONG'!$B:$AT,11,0) -> #N/A | M477: =VLOOKUP($B477,'[1]TK KHOILUONG'!$B:$AT,12,0) -> #N/A | N477: =VLOOKUP($B477,'[1]TK KHOILUONG'!$B:$AT,13,0) -> #N/A | O477: =VLOOKUP($B477,'[1]TK KHOILUONG'!$B:$AT,14,0) -> #N/A | P477: =VLOOKUP($B477,'[1]TK KHOILUONG'!$B:$AT,15,0) -> #N/A | Q477: =VLOOKUP($B477,'[1]TK KHOILUONG'!$B:$AT,16,0) -> #N/A | R477: =VLOOKUP($B477,'[1]TK KHOILUONG'!$B:$AT,17,0) -> #N/A | S477: =VLOOKUP($B477,'[1]TK KHOILUONG'!$B:$AT,18,0) -> #N/A | T477: =VLOOKUP($B477,'[1]TK KHOILUONG'!$B:$AT,19,0) -> #N/A | U477: =VLOOKUP($B477,'[1]TK KHOILUONG'!$B:$AT,20,0) -> #N/A | V477: =VLOOKUP($B477,'[1]TK KHOILUONG'!$B:$AT,21,0) -> #N/A | W477: =VLOOKUP($B477,'[1]TK KHOILUONG'!$B:$AT,22,0) -> #N/A | X477: =VLOOKUP($B477,'[1]TK KHOILUONG'!$B:$AT,23,0) -> #N/A | Y477: =VLOOKUP($B477,'[1]TK KHOILUONG'!$B:$AT,24,0) -> #N/A | Z477: =VLOOKUP($B477,'[1]TK KHOILUONG'!$B:$AT,25,0) -> #N/A | AA477: =VLOOKUP($B477,'[1]TK KHOILUONG'!$B:$AT,26,0) -> #N/A | AB477: =VLOOKUP($B477,'[1]TK KHOILUONG'!$B:$AT,27,0) -> #N/A | AC477: =VLOOKUP($B477,'[1]TK KHOILUONG'!$B:$AT,28,0) -> #N/A | AD477: =VLOOKUP($B477,'[1]TK KHOILUONG'!$B:$AT,29,0) -> #N/A | AE477: =VLOOKUP($B477,'[1]TK KHOILUONG'!$B:$AT,30,0) -> #N/A | AF477: =VLOOKUP($B477,'[1]TK KHOILUONG'!$B:$AT,31,0) -> #N/A | AG477: =VLOOKUP($B477,'[1]TK KHOILUONG'!$B:$AT,32,0) -> #N/A | AH477: =VLOOKUP($B477,'[1]TK KHOILUONG'!$B:$AT,33,0) -> #N/A | AI477: =VLOOKUP($B477,'[1]TK KHOILUONG'!$B:$AT,34,0) -> #N/A | AJ477: =VLOOKUP($B477,'[1]TK KHOILUONG'!$B:$AT,35,0) -> #N/A | AK477: =VLOOKUP($B477,'[1]TK KHOILUONG'!$B:$AT,36,0) -> #N/A | AL477: =VLOOKUP($B477,'[1]TK KHOILUONG'!$B:$AT,37,0) -> #N/A | AM477: =VLOOKUP($B477,'[1]TK KHOILUONG'!$B:$AT,38,0) -> #N/A | AN477: =VLOOKUP($B477,'[1]TK KHOILUONG'!$B:$AT,39,0) -> #N/A | AO477: =VLOOKUP($B477,'[1]TK KHOILUONG'!$B:$AT,40,0) -> #N/A | AP477: =VLOOKUP($B477,'[1]TK KHOILUONG'!$B:$AT,41,0) -> #N/A | AQ477: =VLOOKUP($B477,'[1]TK KHOILUONG'!$B:$AT,42,0) -> #N/A | AR477: =VLOOKUP($B477,'[1]TK KHOILUONG'!$B:$AT,43,0) -> #N/A | AS477: =VLOOKUP($B477,'[1]TK KHOILUONG'!$B:$AT,44,0) -> #N/A | AT477: =IF(D477="","",ROUND(M477+R477+V477+Z477+AD477+AH477+AK477+AN477+AQ477+SUM(AR477:AS477),2))
A478: =IF(D478="","",SUBTOTAL(3,$D$5:D478)) | E478: =VLOOKUP($B478,'[1]TK KHOILUONG'!$B:$AT,4,0) -> #N/A | F478: =VLOOKUP($B478,'[1]TK KHOILUONG'!$B:$AT,5,0) -> #N/A | G478: =VLOOKUP($B478,'[1]TK KHOILUONG'!$B:$AT,6,0) -> #N/A | H478: =VLOOKUP($B478,'[1]TK KHOILUONG'!$B:$AT,7,0) -> #N/A | I478: =VLOOKUP($B478,'[1]TK KHOILUONG'!$B:$AT,8,0) -> #N/A | J478: =VLOOKUP($B478,'[1]TK KHOILUONG'!$B:$AT,9,0) -> #N/A | K478: =VLOOKUP($B478,'[1]TK KHOILUONG'!$B:$AT,10,0) -> #N/A | L478: =VLOOKUP($B478,'[1]TK KHOILUONG'!$B:$AT,11,0) -> #N/A | M478: =VLOOKUP($B478,'[1]TK KHOILUONG'!$B:$AT,12,0) -> #N/A | N478: =VLOOKUP($B478,'[1]TK KHOILUONG'!$B:$AT,13,0) -> #N/A | O478: =VLOOKUP($B478,'[1]TK KHOILUONG'!$B:$AT,14,0) -> #N/A | P478: =VLOOKUP($B478,'[1]TK KHOILUONG'!$B:$AT,15,0) -> #N/A | Q478: =VLOOKUP($B478,'[1]TK KHOILUONG'!$B:$AT,16,0) -> #N/A | R478: =VLOOKUP($B478,'[1]TK KHOILUONG'!$B:$AT,17,0) -> #N/A | S478: =VLOOKUP($B478,'[1]TK KHOILUONG'!$B:$AT,18,0) -> #N/A | T478: =VLOOKUP($B478,'[1]TK KHOILUONG'!$B:$AT,19,0) -> #N/A | U478: =VLOOKUP($B478,'[1]TK KHOILUONG'!$B:$AT,20,0) -> #N/A | V478: =VLOOKUP($B478,'[1]TK KHOILUONG'!$B:$AT,21,0) -> #N/A | W478: =VLOOKUP($B478,'[1]TK KHOILUONG'!$B:$AT,22,0) -> #N/A | X478: =VLOOKUP($B478,'[1]TK KHOILUONG'!$B:$AT,23,0) -> #N/A | Y478: =VLOOKUP($B478,'[1]TK KHOILUONG'!$B:$AT,24,0) -> #N/A | Z478: =VLOOKUP($B478,'[1]TK KHOILUONG'!$B:$AT,25,0) -> #N/A | AA478: =VLOOKUP($B478,'[1]TK KHOILUONG'!$B:$AT,26,0) -> #N/A | AB478: =VLOOKUP($B478,'[1]TK KHOILUONG'!$B:$AT,27,0) -> #N/A | AC478: =VLOOKUP($B478,'[1]TK KHOILUONG'!$B:$AT,28,0) -> #N/A | AD478: =VLOOKUP($B478,'[1]TK KHOILUONG'!$B:$AT,29,0) -> #N/A | AE478: =VLOOKUP($B478,'[1]TK KHOILUONG'!$B:$AT,30,0) -> #N/A | AF478: =VLOOKUP($B478,'[1]TK KHOILUONG'!$B:$AT,31,0) -> #N/A | AG478: =VLOOKUP($B478,'[1]TK KHOILUONG'!$B:$AT,32,0) -> #N/A | AH478: =VLOOKUP($B478,'[1]TK KHOILUONG'!$B:$AT,33,0) -> #N/A | AI478: =VLOOKUP($B478,'[1]TK KHOILUONG'!$B:$AT,34,0) -> #N/A | AJ478: =VLOOKUP($B478,'[1]TK KHOILUONG'!$B:$AT,35,0) -> #N/A | AK478: =VLOOKUP($B478,'[1]TK KHOILUONG'!$B:$AT,36,0) -> #N/A | AL478: =VLOOKUP($B478,'[1]TK KHOILUONG'!$B:$AT,37,0) -> #N/A | AM478: =VLOOKUP($B478,'[1]TK KHOILUONG'!$B:$AT,38,0) -> #N/A | AN478: =VLOOKUP($B478,'[1]TK KHOILUONG'!$B:$AT,39,0) -> #N/A | AO478: =VLOOKUP($B478,'[1]TK KHOILUONG'!$B:$AT,40,0) -> #N/A | AP478: =VLOOKUP($B478,'[1]TK KHOILUONG'!$B:$AT,41,0) -> #N/A | AQ478: =VLOOKUP($B478,'[1]TK KHOILUONG'!$B:$AT,42,0) -> #N/A | AR478: =VLOOKUP($B478,'[1]TK KHOILUONG'!$B:$AT,43,0) -> #N/A | AS478: =VLOOKUP($B478,'[1]TK KHOILUONG'!$B:$AT,44,0) -> #N/A | AT478: =IF(D478="","",ROUND(M478+R478+V478+Z478+AD478+AH478+AK478+AN478+AQ478+SUM(AR478:AS478),2))
A479: =IF(D479="","",SUBTOTAL(3,$D$5:D479)) | E479: =VLOOKUP($B479,'[1]TK KHOILUONG'!$B:$AT,4,0) -> #N/A | F479: =VLOOKUP($B479,'[1]TK KHOILUONG'!$B:$AT,5,0) -> #N/A | G479: =VLOOKUP($B479,'[1]TK KHOILUONG'!$B:$AT,6,0) -> #N/A | H479: =VLOOKUP($B479,'[1]TK KHOILUONG'!$B:$AT,7,0) -> #N/A | I479: =VLOOKUP($B479,'[1]TK KHOILUONG'!$B:$AT,8,0) -> #N/A | J479: =VLOOKUP($B479,'[1]TK KHOILUONG'!$B:$AT,9,0) -> #N/A | K479: =VLOOKUP($B479,'[1]TK KHOILUONG'!$B:$AT,10,0) -> #N/A | L479: =VLOOKUP($B479,'[1]TK KHOILUONG'!$B:$AT,11,0) -> #N/A | M479: =VLOOKUP($B479,'[1]TK KHOILUONG'!$B:$AT,12,0) -> #N/A | N479: =VLOOKUP($B479,'[1]TK KHOILUONG'!$B:$AT,13,0) -> #N/A | O479: =VLOOKUP($B479,'[1]TK KHOILUONG'!$B:$AT,14,0) -> #N/A | P479: =VLOOKUP($B479,'[1]TK KHOILUONG'!$B:$AT,15,0) -> #N/A | Q479: =VLOOKUP($B479,'[1]TK KHOILUONG'!$B:$AT,16,0) -> #N/A | R479: =VLOOKUP($B479,'[1]TK KHOILUONG'!$B:$AT,17,0) -> #N/A | S479: =VLOOKUP($B479,'[1]TK KHOILUONG'!$B:$AT,18,0) -> #N/A | T479: =VLOOKUP($B479,'[1]TK KHOILUONG'!$B:$AT,19,0) -> #N/A | U479: =VLOOKUP($B479,'[1]TK KHOILUONG'!$B:$AT,20,0) -> #N/A | V479: =VLOOKUP($B479,'[1]TK KHOILUONG'!$B:$AT,21,0) -> #N/A | W479: =VLOOKUP($B479,'[1]TK KHOILUONG'!$B:$AT,22,0) -> #N/A | X479: =VLOOKUP($B479,'[1]TK KHOILUONG'!$B:$AT,23,0) -> #N/A | Y479: =VLOOKUP($B479,'[1]TK KHOILUONG'!$B:$AT,24,0) -> #N/A | Z479: =VLOOKUP($B479,'[1]TK KHOILUONG'!$B:$AT,25,0) -> #N/A | AA479: =VLOOKUP($B479,'[1]TK KHOILUONG'!$B:$AT,26,0) -> #N/A | AB479: =VLOOKUP($B479,'[1]TK KHOILUONG'!$B:$AT,27,0) -> #N/A | AC479: =VLOOKUP($B479,'[1]TK KHOILUONG'!$B:$AT,28,0) -> #N/A | AD479: =VLOOKUP($B479,'[1]TK KHOILUONG'!$B:$AT,29,0) -> #N/A | AE479: =VLOOKUP($B479,'[1]TK KHOILUONG'!$B:$AT,30,0) -> #N/A | AF479: =VLOOKUP($B479,'[1]TK KHOILUONG'!$B:$AT,31,0) -> #N/A | AG479: =VLOOKUP($B479,'[1]TK KHOILUONG'!$B:$AT,32,0) -> #N/A | AH479: =VLOOKUP($B479,'[1]TK KHOILUONG'!$B:$AT,33,0) -> #N/A | AI479: =VLOOKUP($B479,'[1]TK KHOILUONG'!$B:$AT,34,0) -> #N/A | AJ479: =VLOOKUP($B479,'[1]TK KHOILUONG'!$B:$AT,35,0) -> #N/A | AK479: =VLOOKUP($B479,'[1]TK KHOILUONG'!$B:$AT,36,0) -> #N/A | AL479: =VLOOKUP($B479,'[1]TK KHOILUONG'!$B:$AT,37,0) -> #N/A | AM479: =VLOOKUP($B479,'[1]TK KHOILUONG'!$B:$AT,38,0) -> #N/A | AN479: =VLOOKUP($B479,'[1]TK KHOILUONG'!$B:$AT,39,0) -> #N/A | AO479: =VLOOKUP($B479,'[1]TK KHOILUONG'!$B:$AT,40,0) -> #N/A | AP479: =VLOOKUP($B479,'[1]TK KHOILUONG'!$B:$AT,41,0) -> #N/A | AQ479: =VLOOKUP($B479,'[1]TK KHOILUONG'!$B:$AT,42,0) -> #N/A | AR479: =VLOOKUP($B479,'[1]TK KHOILUONG'!$B:$AT,43,0) -> #N/A | AS479: =VLOOKUP($B479,'[1]TK KHOILUONG'!$B:$AT,44,0) -> #N/A | AT479: =IF(D479="","",ROUND(M479+R479+V479+Z479+AD479+AH479+AK479+AN479+AQ479+SUM(AR479:AS479),2))
A480: =IF(D480="","",SUBTOTAL(3,$D$5:D480)) | E480: =VLOOKUP($B480,'[1]TK KHOILUONG'!$B:$AT,4,0) -> #N/A | F480: =VLOOKUP($B480,'[1]TK KHOILUONG'!$B:$AT,5,0) -> #N/A | G480: =VLOOKUP($B480,'[1]TK KHOILUONG'!$B:$AT,6,0) -> #N/A | H480: =VLOOKUP($B480,'[1]TK KHOILUONG'!$B:$AT,7,0) -> #N/A | I480: =VLOOKUP($B480,'[1]TK KHOILUONG'!$B:$AT,8,0) -> #N/A | J480: =VLOOKUP($B480,'[1]TK KHOILUONG'!$B:$AT,9,0) -> #N/A | K480: =VLOOKUP($B480,'[1]TK KHOILUONG'!$B:$AT,10,0) -> #N/A | L480: =VLOOKUP($B480,'[1]TK KHOILUONG'!$B:$AT,11,0) -> #N/A | M480: =VLOOKUP($B480,'[1]TK KHOILUONG'!$B:$AT,12,0) -> #N/A | N480: =VLOOKUP($B480,'[1]TK KHOILUONG'!$B:$AT,13,0) -> #N/A | O480: =VLOOKUP($B480,'[1]TK KHOILUONG'!$B:$AT,14,0) -> #N/A | P480: =VLOOKUP($B480,'[1]TK KHOILUONG'!$B:$AT,15,0) -> #N/A | Q480: =VLOOKUP($B480,'[1]TK KHOILUONG'!$B:$AT,16,0) -> #N/A | R480: =VLOOKUP($B480,'[1]TK KHOILUONG'!$B:$AT,17,0) -> #N/A | S480: =VLOOKUP($B480,'[1]TK KHOILUONG'!$B:$AT,18,0) -> #N/A | T480: =VLOOKUP($B480,'[1]TK KHOILUONG'!$B:$AT,19,0) -> #N/A | U480: =VLOOKUP($B480,'[1]TK KHOILUONG'!$B:$AT,20,0) -> #N/A | V480: =VLOOKUP($B480,'[1]TK KHOILUONG'!$B:$AT,21,0) -> #N/A | W480: =VLOOKUP($B480,'[1]TK KHOILUONG'!$B:$AT,22,0) -> #N/A | X480: =VLOOKUP($B480,'[1]TK KHOILUONG'!$B:$AT,23,0) -> #N/A | Y480: =VLOOKUP($B480,'[1]TK KHOILUONG'!$B:$AT,24,0) -> #N/A | Z480: =VLOOKUP($B480,'[1]TK KHOILUONG'!$B:$AT,25,0) -> #N/A | AA480: =VLOOKUP($B480,'[1]TK KHOILUONG'!$B:$AT,26,0) -> #N/A | AB480: =VLOOKUP($B480,'[1]TK KHOILUONG'!$B:$AT,27,0) -> #N/A | AC480: =VLOOKUP($B480,'[1]TK KHOILUONG'!$B:$AT,28,0) -> #N/A | AD480: =VLOOKUP($B480,'[1]TK KHOILUONG'!$B:$AT,29,0) -> #N/A | AE480: =VLOOKUP($B480,'[1]TK KHOILUONG'!$B:$AT,30,0) -> #N/A | AF480: =VLOOKUP($B480,'[1]TK KHOILUONG'!$B:$AT,31,0) -> #N/A | AG480: =VLOOKUP($B480,'[1]TK KHOILUONG'!$B:$AT,32,0) -> #N/A | AH480: =VLOOKUP($B480,'[1]TK KHOILUONG'!$B:$AT,33,0) -> #N/A | AI480: =VLOOKUP($B480,'[1]TK KHOILUONG'!$B:$AT,34,0) -> #N/A | AJ480: =VLOOKUP($B480,'[1]TK KHOILUONG'!$B:$AT,35,0) -> #N/A | AK480: =VLOOKUP($B480,'[1]TK KHOILUONG'!$B:$AT,36,0) -> #N/A | AL480: =VLOOKUP($B480,'[1]TK KHOILUONG'!$B:$AT,37,0) -> #N/A | AM480: =VLOOKUP($B480,'[1]TK KHOILUONG'!$B:$AT,38,0) -> #N/A | AN480: =VLOOKUP($B480,'[1]TK KHOILUONG'!$B:$AT,39,0) -> #N/A | AO480: =VLOOKUP($B480,'[1]TK KHOILUONG'!$B:$AT,40,0) -> #N/A | AP480: =VLOOKUP($B480,'[1]TK KHOILUONG'!$B:$AT,41,0) -> #N/A | AQ480: =VLOOKUP($B480,'[1]TK KHOILUONG'!$B:$AT,42,0) -> #N/A | AR480: =VLOOKUP($B480,'[1]TK KHOILUONG'!$B:$AT,43,0) -> #N/A | AS480: =VLOOKUP($B480,'[1]TK KHOILUONG'!$B:$AT,44,0) -> #N/A | AT480: =IF(D480="","",ROUND(M480+R480+V480+Z480+AD480+AH480+AK480+AN480+AQ480+SUM(AR480:AS480),2))
A481: =IF(D481="","",SUBTOTAL(3,$D$5:D481)) | E481: =VLOOKUP($B481,'[1]TK KHOILUONG'!$B:$AT,4,0) -> #N/A | F481: =VLOOKUP($B481,'[1]TK KHOILUONG'!$B:$AT,5,0) -> #N/A | G481: =VLOOKUP($B481,'[1]TK KHOILUONG'!$B:$AT,6,0) -> #N/A | H481: =VLOOKUP($B481,'[1]TK KHOILUONG'!$B:$AT,7,0) -> #N/A | I481: =VLOOKUP($B481,'[1]TK KHOILUONG'!$B:$AT,8,0) -> #N/A | J481: =VLOOKUP($B481,'[1]TK KHOILUONG'!$B:$AT,9,0) -> #N/A | K481: =VLOOKUP($B481,'[1]TK KHOILUONG'!$B:$AT,10,0) -> #N/A | L481: =VLOOKUP($B481,'[1]TK KHOILUONG'!$B:$AT,11,0) -> #N/A | M481: =VLOOKUP($B481,'[1]TK KHOILUONG'!$B:$AT,12,0) -> #N/A | N481: =VLOOKUP($B481,'[1]TK KHOILUONG'!$B:$AT,13,0) -> #N/A | O481: =VLOOKUP($B481,'[1]TK KHOILUONG'!$B:$AT,14,0) -> #N/A | P481: =VLOOKUP($B481,'[1]TK KHOILUONG'!$B:$AT,15,0) -> #N/A | Q481: =VLOOKUP($B481,'[1]TK KHOILUONG'!$B:$AT,16,0) -> #N/A | R481: =VLOOKUP($B481,'[1]TK KHOILUONG'!$B:$AT,17,0) -> #N/A | S481: =VLOOKUP($B481,'[1]TK KHOILUONG'!$B:$AT,18,0) -> #N/A | T481: =VLOOKUP($B481,'[1]TK KHOILUONG'!$B:$AT,19,0) -> #N/A | U481: =VLOOKUP($B481,'[1]TK KHOILUONG'!$B:$AT,20,0) -> #N/A | V481: =VLOOKUP($B481,'[1]TK KHOILUONG'!$B:$AT,21,0) -> #N/A | W481: =VLOOKUP($B481,'[1]TK KHOILUONG'!$B:$AT,22,0) -> #N/A | X481: =VLOOKUP($B481,'[1]TK KHOILUONG'!$B:$AT,23,0) -> #N/A | Y481: =VLOOKUP($B481,'[1]TK KHOILUONG'!$B:$AT,24,0) -> #N/A | Z481: =VLOOKUP($B481,'[1]TK KHOILUONG'!$B:$AT,25,0) -> #N/A | AA481: =VLOOKUP($B481,'[1]TK KHOILUONG'!$B:$AT,26,0) -> #N/A | AB481: =VLOOKUP($B481,'[1]TK KHOILUONG'!$B:$AT,27,0) -> #N/A | AC481: =VLOOKUP($B481,'[1]TK KHOILUONG'!$B:$AT,28,0) -> #N/A | AD481: =VLOOKUP($B481,'[1]TK KHOILUONG'!$B:$AT,29,0) -> #N/A | AE481: =VLOOKUP($B481,'[1]TK KHOILUONG'!$B:$AT,30,0) -> #N/A | AF481: =VLOOKUP($B481,'[1]TK KHOILUONG'!$B:$AT,31,0) -> #N/A | AG481: =VLOOKUP($B481,'[1]TK KHOILUONG'!$B:$AT,32,0) -> #N/A | AH481: =VLOOKUP($B481,'[1]TK KHOILUONG'!$B:$AT,33,0) -> #N/A | AI481: =VLOOKUP($B481,'[1]TK KHOILUONG'!$B:$AT,34,0) -> #N/A | AJ481: =VLOOKUP($B481,'[1]TK KHOILUONG'!$B:$AT,35,0) -> #N/A | AK481: =VLOOKUP($B481,'[1]TK KHOILUONG'!$B:$AT,36,0) -> #N/A | AL481: =VLOOKUP($B481,'[1]TK KHOILUONG'!$B:$AT,37,0) -> #N/A | AM481: =VLOOKUP($B481,'[1]TK KHOILUONG'!$B:$AT,38,0) -> #N/A | AN481: =VLOOKUP($B481,'[1]TK KHOILUONG'!$B:$AT,39,0) -> #N/A | AO481: =VLOOKUP($B481,'[1]TK KHOILUONG'!$B:$AT,40,0) -> #N/A | AP481: =VLOOKUP($B481,'[1]TK KHOILUONG'!$B:$AT,41,0) -> #N/A | AQ481: =VLOOKUP($B481,'[1]TK KHOILUONG'!$B:$AT,42,0) -> #N/A | AR481: =VLOOKUP($B481,'[1]TK KHOILUONG'!$B:$AT,43,0) -> #N/A | AS481: =VLOOKUP($B481,'[1]TK KHOILUONG'!$B:$AT,44,0) -> #N/A | AT481: =IF(D481="","",ROUND(M481+R481+V481+Z481+AD481+AH481+AK481+AN481+AQ481+SUM(AR481:AS481),2))
A482: =IF(D482="","",SUBTOTAL(3,$D$5:D482)) | E482: =VLOOKUP($B482,'[1]TK KHOILUONG'!$B:$AT,4,0) -> #N/A | F482: =VLOOKUP($B482,'[1]TK KHOILUONG'!$B:$AT,5,0) -> #N/A | G482: =VLOOKUP($B482,'[1]TK KHOILUONG'!$B:$AT,6,0) -> #N/A | H482: =VLOOKUP($B482,'[1]TK KHOILUONG'!$B:$AT,7,0) -> #N/A | I482: =VLOOKUP($B482,'[1]TK KHOILUONG'!$B:$AT,8,0) -> #N/A | J482: =VLOOKUP($B482,'[1]TK KHOILUONG'!$B:$AT,9,0) -> #N/A | K482: =VLOOKUP($B482,'[1]TK KHOILUONG'!$B:$AT,10,0) -> #N/A | L482: =VLOOKUP($B482,'[1]TK KHOILUONG'!$B:$AT,11,0) -> #N/A | M482: =VLOOKUP($B482,'[1]TK KHOILUONG'!$B:$AT,12,0) -> #N/A | N482: =VLOOKUP($B482,'[1]TK KHOILUONG'!$B:$AT,13,0) -> #N/A | O482: =VLOOKUP($B482,'[1]TK KHOILUONG'!$B:$AT,14,0) -> #N/A | P482: =VLOOKUP($B482,'[1]TK KHOILUONG'!$B:$AT,15,0) -> #N/A | Q482: =VLOOKUP($B482,'[1]TK KHOILUONG'!$B:$AT,16,0) -> #N/A | R482: =VLOOKUP($B482,'[1]TK KHOILUONG'!$B:$AT,17,0) -> #N/A | S482: =VLOOKUP($B482,'[1]TK KHOILUONG'!$B:$AT,18,0) -> #N/A | T482: =VLOOKUP($B482,'[1]TK KHOILUONG'!$B:$AT,19,0) -> #N/A | U482: =VLOOKUP($B482,'[1]TK KHOILUONG'!$B:$AT,20,0) -> #N/A | V482: =VLOOKUP($B482,'[1]TK KHOILUONG'!$B:$AT,21,0) -> #N/A | W482: =VLOOKUP($B482,'[1]TK KHOILUONG'!$B:$AT,22,0) -> #N/A | X482: =VLOOKUP($B482,'[1]TK KHOILUONG'!$B:$AT,23,0) -> #N/A | Y482: =VLOOKUP($B482,'[1]TK KHOILUONG'!$B:$AT,24,0) -> #N/A | Z482: =VLOOKUP($B482,'[1]TK KHOILUONG'!$B:$AT,25,0) -> #N/A | AA482: =VLOOKUP($B482,'[1]TK KHOILUONG'!$B:$AT,26,0) -> #N/A | AB482: =VLOOKUP($B482,'[1]TK KHOILUONG'!$B:$AT,27,0) -> #N/A | AC482: =VLOOKUP($B482,'[1]TK KHOILUONG'!$B:$AT,28,0) -> #N/A | AD482: =VLOOKUP($B482,'[1]TK KHOILUONG'!$B:$AT,29,0) -> #N/A | AE482: =VLOOKUP($B482,'[1]TK KHOILUONG'!$B:$AT,30,0) -> #N/A | AF482: =VLOOKUP($B482,'[1]TK KHOILUONG'!$B:$AT,31,0) -> #N/A | AG482: =VLOOKUP($B482,'[1]TK KHOILUONG'!$B:$AT,32,0) -> #N/A | AH482: =VLOOKUP($B482,'[1]TK KHOILUONG'!$B:$AT,33,0) -> #N/A | AI482: =VLOOKUP($B482,'[1]TK KHOILUONG'!$B:$AT,34,0) -> #N/A | AJ482: =VLOOKUP($B482,'[1]TK KHOILUONG'!$B:$AT,35,0) -> #N/A | AK482: =VLOOKUP($B482,'[1]TK KHOILUONG'!$B:$AT,36,0) -> #N/A | AL482: =VLOOKUP($B482,'[1]TK KHOILUONG'!$B:$AT,37,0) -> #N/A | AM482: =VLOOKUP($B482,'[1]TK KHOILUONG'!$B:$AT,38,0) -> #N/A | AN482: =VLOOKUP($B482,'[1]TK KHOILUONG'!$B:$AT,39,0) -> #N/A | AO482: =VLOOKUP($B482,'[1]TK KHOILUONG'!$B:$AT,40,0) -> #N/A | AP482: =VLOOKUP($B482,'[1]TK KHOILUONG'!$B:$AT,41,0) -> #N/A | AQ482: =VLOOKUP($B482,'[1]TK KHOILUONG'!$B:$AT,42,0) -> #N/A | AR482: =VLOOKUP($B482,'[1]TK KHOILUONG'!$B:$AT,43,0) -> #N/A | AS482: =VLOOKUP($B482,'[1]TK KHOILUONG'!$B:$AT,44,0) -> #N/A | AT482: =IF(D482="","",ROUND(M482+R482+V482+Z482+AD482+AH482+AK482+AN482+AQ482+SUM(AR482:AS482),2))
A483: =IF(D483="","",SUBTOTAL(3,$D$5:D483)) | E483: =VLOOKUP($B483,'[1]TK KHOILUONG'!$B:$AT,4,0) -> #N/A | F483: =VLOOKUP($B483,'[1]TK KHOILUONG'!$B:$AT,5,0) -> #N/A | G483: =VLOOKUP($B483,'[1]TK KHOILUONG'!$B:$AT,6,0) -> #N/A | H483: =VLOOKUP($B483,'[1]TK KHOILUONG'!$B:$AT,7,0) -> #N/A | I483: =VLOOKUP($B483,'[1]TK KHOILUONG'!$B:$AT,8,0) -> #N/A | J483: =VLOOKUP($B483,'[1]TK KHOILUONG'!$B:$AT,9,0) -> #N/A | K483: =VLOOKUP($B483,'[1]TK KHOILUONG'!$B:$AT,10,0) -> #N/A | L483: =VLOOKUP($B483,'[1]TK KHOILUONG'!$B:$AT,11,0) -> #N/A | M483: =VLOOKUP($B483,'[1]TK KHOILUONG'!$B:$AT,12,0) -> #N/A | N483: =VLOOKUP($B483,'[1]TK KHOILUONG'!$B:$AT,13,0) -> #N/A | O483: =VLOOKUP($B483,'[1]TK KHOILUONG'!$B:$AT,14,0) -> #N/A | P483: =VLOOKUP($B483,'[1]TK KHOILUONG'!$B:$AT,15,0) -> #N/A | Q483: =VLOOKUP($B483,'[1]TK KHOILUONG'!$B:$AT,16,0) -> #N/A | R483: =VLOOKUP($B483,'[1]TK KHOILUONG'!$B:$AT,17,0) -> #N/A | S483: =VLOOKUP($B483,'[1]TK KHOILUONG'!$B:$AT,18,0) -> #N/A | T483: =VLOOKUP($B483,'[1]TK KHOILUONG'!$B:$AT,19,0) -> #N/A | U483: =VLOOKUP($B483,'[1]TK KHOILUONG'!$B:$AT,20,0) -> #N/A | V483: =VLOOKUP($B483,'[1]TK KHOILUONG'!$B:$AT,21,0) -> #N/A | W483: =VLOOKUP($B483,'[1]TK KHOILUONG'!$B:$AT,22,0) -> #N/A | X483: =VLOOKUP($B483,'[1]TK KHOILUONG'!$B:$AT,23,0) -> #N/A | Y483: =VLOOKUP($B483,'[1]TK KHOILUONG'!$B:$AT,24,0) -> #N/A | Z483: =VLOOKUP($B483,'[1]TK KHOILUONG'!$B:$AT,25,0) -> #N/A | AA483: =VLOOKUP($B483,'[1]TK KHOILUONG'!$B:$AT,26,0) -> #N/A | AB483: =VLOOKUP($B483,'[1]TK KHOILUONG'!$B:$AT,27,0) -> #N/A | AC483: =VLOOKUP($B483,'[1]TK KHOILUONG'!$B:$AT,28,0) -> #N/A | AD483: =VLOOKUP($B483,'[1]TK KHOILUONG'!$B:$AT,29,0) -> #N/A | AE483: =VLOOKUP($B483,'[1]TK KHOILUONG'!$B:$AT,30,0) -> #N/A | AF483: =VLOOKUP($B483,'[1]TK KHOILUONG'!$B:$AT,31,0) -> #N/A | AG483: =VLOOKUP($B483,'[1]TK KHOILUONG'!$B:$AT,32,0) -> #N/A | AH483: =VLOOKUP($B483,'[1]TK KHOILUONG'!$B:$AT,33,0) -> #N/A | AI483: =VLOOKUP($B483,'[1]TK KHOILUONG'!$B:$AT,34,0) -> #N/A | AJ483: =VLOOKUP($B483,'[1]TK KHOILUONG'!$B:$AT,35,0) -> #N/A | AK483: =VLOOKUP($B483,'[1]TK KHOILUONG'!$B:$AT,36,0) -> #N/A | AL483: =VLOOKUP($B483,'[1]TK KHOILUONG'!$B:$AT,37,0) -> #N/A | AM483: =VLOOKUP($B483,'[1]TK KHOILUONG'!$B:$AT,38,0) -> #N/A | AN483: =VLOOKUP($B483,'[1]TK KHOILUONG'!$B:$AT,39,0) -> #N/A | AO483: =VLOOKUP($B483,'[1]TK KHOILUONG'!$B:$AT,40,0) -> #N/A | AP483: =VLOOKUP($B483,'[1]TK KHOILUONG'!$B:$AT,41,0) -> #N/A | AQ483: =VLOOKUP($B483,'[1]TK KHOILUONG'!$B:$AT,42,0) -> #N/A | AR483: =VLOOKUP($B483,'[1]TK KHOILUONG'!$B:$AT,43,0) -> #N/A | AS483: =VLOOKUP($B483,'[1]TK KHOILUONG'!$B:$AT,44,0) -> #N/A | AT483: =IF(D483="","",ROUND(M483+R483+V483+Z483+AD483+AH483+AK483+AN483+AQ483+SUM(AR483:AS483),2))
A484: =IF(D484="","",SUBTOTAL(3,$D$5:D484)) | E484: =VLOOKUP($B484,'[1]TK KHOILUONG'!$B:$AT,4,0) -> #N/A | F484: =VLOOKUP($B484,'[1]TK KHOILUONG'!$B:$AT,5,0) -> #N/A | G484: =VLOOKUP($B484,'[1]TK KHOILUONG'!$B:$AT,6,0) -> #N/A | H484: =VLOOKUP($B484,'[1]TK KHOILUONG'!$B:$AT,7,0) -> #N/A | I484: =VLOOKUP($B484,'[1]TK KHOILUONG'!$B:$AT,8,0) -> #N/A | J484: =VLOOKUP($B484,'[1]TK KHOILUONG'!$B:$AT,9,0) -> #N/A | K484: =VLOOKUP($B484,'[1]TK KHOILUONG'!$B:$AT,10,0) -> #N/A | L484: =VLOOKUP($B484,'[1]TK KHOILUONG'!$B:$AT,11,0) -> #N/A | M484: =VLOOKUP($B484,'[1]TK KHOILUONG'!$B:$AT,12,0) -> #N/A | N484: =VLOOKUP($B484,'[1]TK KHOILUONG'!$B:$AT,13,0) -> #N/A | O484: =VLOOKUP($B484,'[1]TK KHOILUONG'!$B:$AT,14,0) -> #N/A | P484: =VLOOKUP($B484,'[1]TK KHOILUONG'!$B:$AT,15,0) -> #N/A | Q484: =VLOOKUP($B484,'[1]TK KHOILUONG'!$B:$AT,16,0) -> #N/A | R484: =VLOOKUP($B484,'[1]TK KHOILUONG'!$B:$AT,17,0) -> #N/A | S484: =VLOOKUP($B484,'[1]TK KHOILUONG'!$B:$AT,18,0) -> #N/A | T484: =VLOOKUP($B484,'[1]TK KHOILUONG'!$B:$AT,19,0) -> #N/A | U484: =VLOOKUP($B484,'[1]TK KHOILUONG'!$B:$AT,20,0) -> #N/A | V484: =VLOOKUP($B484,'[1]TK KHOILUONG'!$B:$AT,21,0) -> #N/A | W484: =VLOOKUP($B484,'[1]TK KHOILUONG'!$B:$AT,22,0) -> #N/A | X484: =VLOOKUP($B484,'[1]TK KHOILUONG'!$B:$AT,23,0) -> #N/A | Y484: =VLOOKUP($B484,'[1]TK KHOILUONG'!$B:$AT,24,0) -> #N/A | Z484: =VLOOKUP($B484,'[1]TK KHOILUONG'!$B:$AT,25,0) -> #N/A | AA484: =VLOOKUP($B484,'[1]TK KHOILUONG'!$B:$AT,26,0) -> #N/A | AB484: =VLOOKUP($B484,'[1]TK KHOILUONG'!$B:$AT,27,0) -> #N/A | AC484: =VLOOKUP($B484,'[1]TK KHOILUONG'!$B:$AT,28,0) -> #N/A | AD484: =VLOOKUP($B484,'[1]TK KHOILUONG'!$B:$AT,29,0) -> #N/A | AE484: =VLOOKUP($B484,'[1]TK KHOILUONG'!$B:$AT,30,0) -> #N/A | AF484: =VLOOKUP($B484,'[1]TK KHOILUONG'!$B:$AT,31,0) -> #N/A | AG484: =VLOOKUP($B484,'[1]TK KHOILUONG'!$B:$AT,32,0) -> #N/A | AH484: =VLOOKUP($B484,'[1]TK KHOILUONG'!$B:$AT,33,0) -> #N/A | AI484: =VLOOKUP($B484,'[1]TK KHOILUONG'!$B:$AT,34,0) -> #N/A | AJ484: =VLOOKUP($B484,'[1]TK KHOILUONG'!$B:$AT,35,0) -> #N/A | AK484: =VLOOKUP($B484,'[1]TK KHOILUONG'!$B:$AT,36,0) -> #N/A | AL484: =VLOOKUP($B484,'[1]TK KHOILUONG'!$B:$AT,37,0) -> #N/A | AM484: =VLOOKUP($B484,'[1]TK KHOILUONG'!$B:$AT,38,0) -> #N/A | AN484: =VLOOKUP($B484,'[1]TK KHOILUONG'!$B:$AT,39,0) -> #N/A | AO484: =VLOOKUP($B484,'[1]TK KHOILUONG'!$B:$AT,40,0) -> #N/A | AP484: =VLOOKUP($B484,'[1]TK KHOILUONG'!$B:$AT,41,0) -> #N/A | AQ484: =VLOOKUP($B484,'[1]TK KHOILUONG'!$B:$AT,42,0) -> #N/A | AR484: =VLOOKUP($B484,'[1]TK KHOILUONG'!$B:$AT,43,0) -> #N/A | AS484: =VLOOKUP($B484,'[1]TK KHOILUONG'!$B:$AT,44,0) -> #N/A | AT484: =IF(D484="","",ROUND(M484+R484+V484+Z484+AD484+AH484+AK484+AN484+AQ484+SUM(AR484:AS484),2))
A485: =IF(D485="","",SUBTOTAL(3,$D$5:D485)) | E485: =VLOOKUP($B485,'[1]TK KHOILUONG'!$B:$AT,4,0) -> #N/A | F485: =VLOOKUP($B485,'[1]TK KHOILUONG'!$B:$AT,5,0) -> #N/A | G485: =VLOOKUP($B485,'[1]TK KHOILUONG'!$B:$AT,6,0) -> #N/A | H485: =VLOOKUP($B485,'[1]TK KHOILUONG'!$B:$AT,7,0) -> #N/A | I485: =VLOOKUP($B485,'[1]TK KHOILUONG'!$B:$AT,8,0) -> #N/A | J485: =VLOOKUP($B485,'[1]TK KHOILUONG'!$B:$AT,9,0) -> #N/A | K485: =VLOOKUP($B485,'[1]TK KHOILUONG'!$B:$AT,10,0) -> #N/A | L485: =VLOOKUP($B485,'[1]TK KHOILUONG'!$B:$AT,11,0) -> #N/A | M485: =VLOOKUP($B485,'[1]TK KHOILUONG'!$B:$AT,12,0) -> #N/A | N485: =VLOOKUP($B485,'[1]TK KHOILUONG'!$B:$AT,13,0) -> #N/A | O485: =VLOOKUP($B485,'[1]TK KHOILUONG'!$B:$AT,14,0) -> #N/A | P485: =VLOOKUP($B485,'[1]TK KHOILUONG'!$B:$AT,15,0) -> #N/A | Q485: =VLOOKUP($B485,'[1]TK KHOILUONG'!$B:$AT,16,0) -> #N/A | R485: =VLOOKUP($B485,'[1]TK KHOILUONG'!$B:$AT,17,0) -> #N/A | S485: =VLOOKUP($B485,'[1]TK KHOILUONG'!$B:$AT,18,0) -> #N/A | T485: =VLOOKUP($B485,'[1]TK KHOILUONG'!$B:$AT,19,0) -> #N/A | U485: =VLOOKUP($B485,'[1]TK KHOILUONG'!$B:$AT,20,0) -> #N/A | V485: =VLOOKUP($B485,'[1]TK KHOILUONG'!$B:$AT,21,0) -> #N/A | W485: =VLOOKUP($B485,'[1]TK KHOILUONG'!$B:$AT,22,0) -> #N/A | X485: =VLOOKUP($B485,'[1]TK KHOILUONG'!$B:$AT,23,0) -> #N/A | Y485: =VLOOKUP($B485,'[1]TK KHOILUONG'!$B:$AT,24,0) -> #N/A | Z485: =VLOOKUP($B485,'[1]TK KHOILUONG'!$B:$AT,25,0) -> #N/A | AA485: =VLOOKUP($B485,'[1]TK KHOILUONG'!$B:$AT,26,0) -> #N/A | AB485: =VLOOKUP($B485,'[1]TK KHOILUONG'!$B:$AT,27,0) -> #N/A | AC485: =VLOOKUP($B485,'[1]TK KHOILUONG'!$B:$AT,28,0) -> #N/A | AD485: =VLOOKUP($B485,'[1]TK KHOILUONG'!$B:$AT,29,0) -> #N/A | AE485: =VLOOKUP($B485,'[1]TK KHOILUONG'!$B:$AT,30,0) -> #N/A | AF485: =VLOOKUP($B485,'[1]TK KHOILUONG'!$B:$AT,31,0) -> #N/A | AG485: =VLOOKUP($B485,'[1]TK KHOILUONG'!$B:$AT,32,0) -> #N/A | AH485: =VLOOKUP($B485,'[1]TK KHOILUONG'!$B:$AT,33,0) -> #N/A | AI485: =VLOOKUP($B485,'[1]TK KHOILUONG'!$B:$AT,34,0) -> #N/A | AJ485: =VLOOKUP($B485,'[1]TK KHOILUONG'!$B:$AT,35,0) -> #N/A | AK485: =VLOOKUP($B485,'[1]TK KHOILUONG'!$B:$AT,36,0) -> #N/A | AL485: =VLOOKUP($B485,'[1]TK KHOILUONG'!$B:$AT,37,0) -> #N/A | AM485: =VLOOKUP($B485,'[1]TK KHOILUONG'!$B:$AT,38,0) -> #N/A | AN485: =VLOOKUP($B485,'[1]TK KHOILUONG'!$B:$AT,39,0) -> #N/A | AO485: =VLOOKUP($B485,'[1]TK KHOILUONG'!$B:$AT,40,0) -> #N/A | AP485: =VLOOKUP($B485,'[1]TK KHOILUONG'!$B:$AT,41,0) -> #N/A | AQ485: =VLOOKUP($B485,'[1]TK KHOILUONG'!$B:$AT,42,0) -> #N/A | AR485: =VLOOKUP($B485,'[1]TK KHOILUONG'!$B:$AT,43,0) -> #N/A | AS485: =VLOOKUP($B485,'[1]TK KHOILUONG'!$B:$AT,44,0) -> #N/A | AT485: =IF(D485="","",ROUND(M485+R485+V485+Z485+AD485+AH485+AK485+AN485+AQ485+SUM(AR485:AS485),2))
... A500: =IF(D500="","",SUBTOTAL(3,$D$5:D500)) | E500: =VLOOKUP($B500,'[1]TK KHOILUONG'!$B:$AT,4,0) -> #N/A | F500: =VLOOKUP($B500,'[1]TK KHOILUONG'!$B:$AT,5,0) -> #N/A | G500: =VLOOKUP($B500,'[1]TK KHOILUONG'!$B:$AT,6,0) -> #N/A | H500: =VLOOKUP($B500,'[1]TK KHOILUONG'!$B:$AT,7,0) -> #N/A | I500: =VLOOKUP($B500,'[1]TK KHOILUONG'!$B:$AT,8,0) -> #N/A | J500: =VLOOKUP($B500,'[1]TK KHOILUONG'!$B:$AT,9,0) -> #N/A | K500: =VLOOKUP($B500,'[1]TK KHOILUONG'!$B:$AT,10,0) -> #N/A | L500: =VLOOKUP($B500,'[1]TK KHOILUONG'!$B:$AT,11,0) -> #N/A | M500: =VLOOKUP($B500,'[1]TK KHOILUONG'!$B:$AT,12,0) -> #N/A | N500: =VLOOKUP($B500,'[1]TK KHOILUONG'!$B:$AT,13,0) -> #N/A | O500: =VLOOKUP($B500,'[1]TK KHOILUONG'!$B:$AT,14,0) -> #N/A | P500: =VLOOKUP($B500,'[1]TK KHOILUONG'!$B:$AT,15,0) -> #N/A | Q500: =VLOOKUP($B500,'[1]TK KHOILUONG'!$B:$AT,16,0) -> #N/A | R500: =VLOOKUP($B500,'[1]TK KHOILUONG'!$B:$AT,17,0) -> #N/A | S500: =VLOOKUP($B500,'[1]TK KHOILUONG'!$B:$AT,18,0) -> #N/A | T500: =VLOOKUP($B500,'[1]TK KHOILUONG'!$B:$AT,19,0) -> #N/A | U500: =VLOOKUP($B500,'[1]TK KHOILUONG'!$B:$AT,20,0) -> #N/A | V500: =VLOOKUP($B500,'[1]TK KHOILUONG'!$B:$AT,21,0) -> #N/A | W500: =VLOOKUP($B500,'[1]TK KHOILUONG'!$B:$AT,22,0) -> #N/A | X500: =VLOOKUP($B500,'[1]TK KHOILUONG'!$B:$AT,23,0) -> #N/A | Y500: =VLOOKUP($B500,'[1]TK KHOILUONG'!$B:$AT,24,0) -> #N/A | Z500: =VLOOKUP($B500,'[1]TK KHOILUONG'!$B:$AT,25,0) -> #N/A | AA500: =VLOOKUP($B500,'[1]TK KHOILUONG'!$B:$AT,26,0) -> #N/A | AB500: =VLOOKUP($B500,'[1]TK KHOILUONG'!$B:$AT,27,0) -> #N/A | AC500: =VLOOKUP($B500,'[1]TK KHOILUONG'!$B:$AT,28,0) -> #N/A | AD500: =VLOOKUP($B500,'[1]TK KHOILUONG'!$B:$AT,29,0) -> #N/A | AE500: =VLOOKUP($B500,'[1]TK KHOILUONG'!$B:$AT,30,0) -> #N/A | AF500: =VLOOKUP($B500,'[1]TK KHOILUONG'!$B:$AT,31,0) -> #N/A | AG500: =VLOOKUP($B500,'[1]TK KHOILUONG'!$B:$AT,32,0) -> #N/A | AH500: =VLOOKUP($B500,'[1]TK KHOILUONG'!$B:$AT,33,0) -> #N/A | AI500: =VLOOKUP($B500,'[1]TK KHOILUONG'!$B:$AT,34,0) -> #N/A | AJ500: =VLOOKUP($B500,'[1]TK KHOILUONG'!$B:$AT,35,0) -> #N/A | AK500: =VLOOKUP($B500,'[1]TK KHOILUONG'!$B:$AT,36,0) -> #N/A | AL500: =VLOOKUP($B500,'[1]TK KHOILUONG'!$B:$AT,37,0) -> #N/A | AM500: =VLOOKUP($B500,'[1]TK KHOILUONG'!$B:$AT,38,0) -> #N/A | AN500: =VLOOKUP($B500,'[1]TK KHOILUONG'!$B:$AT,39,0) -> #N/A | AO500: =VLOOKUP($B500,'[1]TK KHOILUONG'!$B:$AT,40,0) -> #N/A | AP500: =VLOOKUP($B500,'[1]TK KHOILUONG'!$B:$AT,41,0) -> #N/A | AQ500: =VLOOKUP($B500,'[1]TK KHOILUONG'!$B:$AT,42,0) -> #N/A | AR500: =VLOOKUP($B500,'[1]TK KHOILUONG'!$B:$AT,43,0) -> #N/A | AS500: =VLOOKUP($B500,'[1]TK KHOILUONG'!$B:$AT,44,0) -> #N/A | AT500: =IF(D500="","",ROUND(M500+R500+V500+Z500+AD500+AH500+AK500+AN500+AQ500+SUM(AR500:AS500),2))
E501: =SUBTOTAL(9,E3:E500) -> #N/A | F501: =SUBTOTAL(9,F3:F500) -> #N/A | G501: =SUBTOTAL(9,G3:G500) -> #N/A | H501: =SUBTOTAL(9,H3:H500) -> #N/A | I501: =SUBTOTAL(9,I3:I500) -> #N/A | J501: =SUBTOTAL(9,J3:J500) -> #N/A | K501: =SUBTOTAL(9,K3:K500) -> #N/A | L501: =SUBTOTAL(9,L3:L500) -> #N/A | ... T501: =SUBTOTAL(9,T3:T500) -> #N/A | V501: =SUBTOTAL(9,V3:V500) -> #N/A | W501: =SUBTOTAL(9,W3:W500) -> #N/A | X501: =SUBTOTAL(9,X3:X500) -> #N/A | Z501: =SUBTOTAL(9,Z3:Z500) -> #N/A | AA501: =SUBTOTAL(9,AA3:AA500) -> #N/A | AB501: =SUBTOTAL(9,AB3:AB500) -> #N/A | AD501: =SUBTOTAL(9,AD3:AD500) -> #N/A | AE501: =SUBTOTAL(9,AE3:AE500) -> #N/A | AF501: =SUBTOTAL(9,AF3:AF500) -> #N/A | AH501: =SUBTOTAL(9,AH3:AH500) -> #N/A | AI501: =SUBTOTAL(9,AI3:AI500) -> #N/A | AJ501: =SUBTOTAL(9,AJ3:AJ500) -> #N/A | AK501: =SUBTOTAL(9,AK3:AK500) -> #N/A | AL501: =SUBTOTAL(9,AL3:AL500) -> #N/A | AM501: =SUBTOTAL(9,AM3:AM500) -> #N/A | AN501: =SUBTOTAL(9,AN3:AN500) -> #N/A | AO501: =SUBTOTAL(9,AO3:AO500) -> #N/A | ... AT501: =SUBTOTAL(9,AT3:AT500) -> 5699.46

Sheet HKII
E1: =SUBTOTAL(9,E5:E473) -> 545 | F1: =SUBTOTAL(9,F5:F473) -> 159 | G1: =SUBTOTAL(9,G5:G473) -> 0 | H1: =SUBTOTAL(9,H5:H473) -> 9 | I1: =SUBTOTAL(9,I5:I473) -> 0 | J1: =SUBTOTAL(9,J5:J473) -> 0 | K1: =SUBTOTAL(9,K5:K473) -> 0 | L1: =SUBTOTAL(9,L5:L473) -> 0 | ... AT1: =SUBTOTAL(9,AT5:AT473) -> 4881.4
A2: STT | B2: Mã nhân sự | C2: Đơn vị | D2: HỌ VÀ TÊN GIẢNG VIÊN | E2: ĐỀ THI | N2: COI THI | S2: CHẤM THI KTHP | AI2: CHẤM THI TỐT NGHIỆP | AR2: DỰ PHÒNG KỲ THI | AS2: GIÁM SÁT | AT2: TỔNG KHỐI LƯỢNG | AU2: =SUBTOTAL(9,AT:AT) -> 4881.4
S3: LÝ THUYẾT (TV+TN) | W3: VẤN ĐÁP | AA3: TIỂU LUẬN | AE3: THỰC HÀNH | AI3: LÝ THUYẾT (TV+TN) | AL3: VẤN ĐÁP | AO3: THỰC HÀNH
E4: SL ĐỀ LT KTHP | F4: SL ĐỀ TN KTHP | G4: SL ĐỀ VĐ KTHP | H4: SL ĐỀ TH KTHP | I4: SL ĐỀ LT ThiTN | J4: SL ĐỀ TN ThiTN | K4: SL ĐỀ VĐ ThiTN | L4: SL ĐỀ TH ThiTN | M4: KL SOẠN ĐỀ (tiết) | N4: COITHI 2 KTHP | O4: COITHI 1 KTHP | P4: COITHI 1 Thi TN | Q4: COITHI 2 Thi TN | R4: KL COITHI (tiết) | S4: SL CHẤM LT 1 | T4: SL CHẤM LT 2 | U4: SL CHẤM NV | V4: KL CHẤM LT (tiết) | W4: SL CHẤM TL 1 | X4: SL CHẤM TL 2 | Y4: SL CHẤM NV | Z4: KL CHẤM TL (tiết) | AA4: SL CHẤM TL 1 | AB4: SL CHẤM TL 2 | AC4: SL CHẤM NV | AD4: KL CHẤM TL (tiết) | AE4: SL CHẤM TL 1 | AF4: SL CHẤM TL 2 | AG4: SL CHẤM NV | AH4: KL CHẤM TL (tiết) | AI4: SL BÀI LT CHẤM 1 | AJ4: SL BÀI LT CHẤM 2 | AK4: KL CHẤM LT (tiết) | AL4: SL BÀI VĐ CHẤM 1 | AM4: SL BÀI VĐ CHẤM 2 | AN4: KL CHẤM VĐ (tiết) | AO4: SL BÀI TL CHẤM 1 | AP4: SL BÀI TL CHẤM 2 | AQ4: KL CHẤM TL (tiết)
A5: =IF(D5="","",SUBTOTAL(3,$D$5:D5)) -> 1 | B5: 01001001 | C5: Ban Giám hiệu | D5: Đinh Hồng Minh | E5: =VLOOKUP($B5,'[2]TK KHOILUONG'!$B:$AT,4,0) -> 0 | F5: =VLOOKUP($B5,'[2]TK KHOILUONG'!$B:$AT,5,0) -> 0 | G5: =VLOOKUP($B5,'[2]TK KHOILUONG'!$B:$AT,6,0) -> 0 | H5: =VLOOKUP($B5,'[2]TK KHOILUONG'!$B:$AT,7,0) -> 0 | I5: =VLOOKUP($B5,'[2]TK KHOILUONG'!$B:$AT,8,0) -> 0 | J5: =VLOOKUP($B5,'[2]TK KHOILUONG'!$B:$AT,9,0) -> 0 | K5: =VLOOKUP($B5,'[2]TK KHOILUONG'!$B:$AT,10,0) -> 0 | L5: =VLOOKUP($B5,'[2]TK KHOILUONG'!$B:$AT,11,0) -> 0 | M5: =VLOOKUP($B5,'[2]TK KHOILUONG'!$B:$AT,12,0) -> 0 | N5: =VLOOKUP($B5,'[2]TK KHOILUONG'!$B:$AT,13,0) -> 0 | O5: =VLOOKUP($B5,'[2]TK KHOILUONG'!$B:$AT,14,0) -> 0 | P5: =VLOOKUP($B5,'[2]TK KHOILUONG'!$B:$AT,15,0) -> 0 | Q5: =VLOOKUP($B5,'[2]TK KHOILUONG'!$B:$AT,16,0) -> 0 | R5: =VLOOKUP($B5,'[2]TK KHOILUONG'!$B:$AT,17,0) -> 0 | S5: =VLOOKUP($B5,'[2]TK KHOILUONG'!$B:$AT,18,0) -> 0 | T5: =VLOOKUP($B5,'[2]TK KHOILUONG'!$B:$AT,19,0) -> 0 | U5: =VLOOKUP($B5,'[2]TK KHOILUONG'!$B:$AT,20,0) -> 0 | V5: =VLOOKUP($B5,'[2]TK KHOILUONG'!$B:$AT,21,0) -> 0 | W5: =VLOOKUP($B5,'[2]TK KHOILUONG'!$B:$AT,22,0) -> 0 | X5: =VLOOKUP($B5,'[2]TK KHOILUONG'!$B:$AT,23,0) -> 0 | Y5: =VLOOKUP($B5,'[2]TK KHOILUONG'!$B:$AT,24,0) -> 0 | Z5: =VLOOKUP($B5,'[2]TK KHOILUONG'!$B:$AT,25,0) -> 0 | AA5: =VLOOKUP($B5,'[2]TK KHOILUONG'!$B:$AT,26,0) -> 0 | AB5: =VLOOKUP($B5,'[2]TK KHOILUONG'!$B:$AT,27,0) -> 0 | AC5: =VLOOKUP($B5,'[2]TK KHOILUONG'!$B:$AT,28,0) -> 0 | AD5: =VLOOKUP($B5,'[2]TK KHOILUONG'!$B:$AT,29,0) -> 0 | AE5: =VLOOKUP($B5,'[2]TK KHOILUONG'!$B:$AT,30,0) -> 0 | AF5: =VLOOKUP($B5,'[2]TK KHOILUONG'!$B:$AT,31,0) -> 0 | AG5: =VLOOKUP($B5,'[2]TK KHOILUONG'!$B:$AT,32,0) -> 0 | AH5: =VLOOKUP($B5,'[2]TK KHOILUONG'!$B:$AT,33,0) -> 0 | AI5: =VLOOKUP($B5,'[2]TK KHOILUONG'!$B:$AT,34,0) -> 0 | AJ5: =VLOOKUP($B5,'[2]TK KHOILUONG'!$B:$AT,35,0) -> 0 | AK5: =VLOOKUP($B5,'[2]TK KHOILUONG'!$B:$AT,36,0) -> 0 | AL5: =VLOOKUP($B5,'[2]TK KHOILUONG'!$B:$AT,37,0) -> 0 | AM5: =VLOOKUP($B5,'[2]TK KHOILUONG'!$B:$AT,38,0) -> 0 | AN5: =VLOOKUP($B5,'[2]TK KHOILUONG'!$B:$AT,39,0) -> 0 | AO5: =VLOOKUP($B5,'[2]TK KHOILUONG'!$B:$AT,40,0) -> 0 | AP5: =VLOOKUP($B5,'[2]TK KHOILUONG'!$B:$AT,41,0) -> 0 | AQ5: =VLOOKUP($B5,'[2]TK KHOILUONG'!$B:$AT,42,0) -> 0 | AR5: =VLOOKUP($B5,'[2]TK KHOILUONG'!$B:$AT,43,0) -> 0 | AS5: =VLOOKUP($B5,'[2]TK KHOILUONG'!$B:$AT,44,0) -> 0 | AT5: =IF(D5="","",ROUND(M5+R5+V5+Z5+AD5+AH5+AK5+AN5+AQ5+SUM(AR5:AS5),2)) -> 0
A6: =IF(D6="","",SUBTOTAL(3,$D$5:D6)) -> 2 | B6: 01002001 | C6: Ban Giám hiệu | D6: Đinh Văn Đệ | E6: =VLOOKUP($B6,'[2]TK KHOILUONG'!$B:$AT,4,0) -> 2 | F6: =VLOOKUP($B6,'[2]TK KHOILUONG'!$B:$AT,5,0) -> 0 | G6: =VLOOKUP($B6,'[2]TK KHOILUONG'!$B:$AT,6,0) -> 0 | H6: =VLOOKUP($B6,'[2]TK KHOILUONG'!$B:$AT,7,0) -> 0 | I6: =VLOOKUP($B6,'[2]TK KHOILUONG'!$B:$AT,8,0) -> 0 | J6: =VLOOKUP($B6,'[2]TK KHOILUONG'!$B:$AT,9,0) -> 0 | K6: =VLOOKUP($B6,'[2]TK KHOILUONG'!$B:$AT,10,0) -> 0 | L6: =VLOOKUP($B6,'[2]TK KHOILUONG'!$B:$AT,11,0) -> 0 | M6: =VLOOKUP($B6,'[2]TK KHOILUONG'!$B:$AT,12,0) -> 2 | N6: =VLOOKUP($B6,'[2]TK KHOILUONG'!$B:$AT,13,0) -> 0 | O6: =VLOOKUP($B6,'[2]TK KHOILUONG'!$B:$AT,14,0) -> 0 | P6: =VLOOKUP($B6,'[2]TK KHOILUONG'!$B:$AT,15,0) -> 0 | Q6: =VLOOKUP($B6,'[2]TK KHOILUONG'!$B:$AT,16,0) -> 0 | R6: =VLOOKUP($B6,'[2]TK KHOILUONG'!$B:$AT,17,0) -> 0 | S6: =VLOOKUP($B6,'[2]TK KHOILUONG'!$B:$AT,18,0) -> 69 | T6: =VLOOKUP($B6,'[2]TK KHOILUONG'!$B:$AT,19,0) -> 0 | U6: =VLOOKUP($B6,'[2]TK KHOILUONG'!$B:$AT,20,0) -> 69 | V6: =VLOOKUP($B6,'[2]TK KHOILUONG'!$B:$AT,21,0) -> 0 | W6: =VLOOKUP($B6,'[2]TK KHOILUONG'!$B:$AT,22,0) -> 0 | X6: =VLOOKUP($B6,'[2]TK KHOILUONG'!$B:$AT,23,0) -> 0 | Y6: =VLOOKUP($B6,'[2]TK KHOILUONG'!$B:$AT,24,0) -> 0 | Z6: =VLOOKUP($B6,'[2]TK KHOILUONG'!$B:$AT,25,0) -> 0 | AA6: =VLOOKUP($B6,'[2]TK KHOILUONG'!$B:$AT,26,0) -> 0 | AB6: =VLOOKUP($B6,'[2]TK KHOILUONG'!$B:$AT,27,0) -> 0 | AC6: =VLOOKUP($B6,'[2]TK KHOILUONG'!$B:$AT,28,0) -> 0 | AD6: =VLOOKUP($B6,'[2]TK KHOILUONG'!$B:$AT,29,0) -> 0 | AE6: =VLOOKUP($B6,'[2]TK KHOILUONG'!$B:$AT,30,0) -> 0 | AF6: =VLOOKUP($B6,'[2]TK KHOILUONG'!$B:$AT,31,0) -> 0 | AG6: =VLOOKUP($B6,'[2]TK KHOILUONG'!$B:$AT,32,0) -> 0 | AH6: =VLOOKUP($B6,'[2]TK KHOILUONG'!$B:$AT,33,0) -> 0 | AI6: =VLOOKUP($B6,'[2]TK KHOILUONG'!$B:$AT,34,0) -> 0 | AJ6: =VLOOKUP($B6,'[2]TK KHOILUONG'!$B:$AT,35,0) -> 0 | AK6: =VLOOKUP($B6,'[2]TK KHOILUONG'!$B:$AT,36,0) -> 0 | AL6: =VLOOKUP($B6,'[2]TK KHOILUONG'!$B:$AT,37,0) -> 0 | AM6: =VLOOKUP($B6,'[2]TK KHOILUONG'!$B:$AT,38,0) -> 0 | AN6: =VLOOKUP($B6,'[2]TK KHOILUONG'!$B:$AT,39,0) -> 0 | AO6: =VLOOKUP($B6,'[2]TK KHOILUONG'!$B:$AT,40,0) -> 0 | AP6: =VLOOKUP($B6,'[2]TK KHOILUONG'!$B:$AT,41,0) -> 0 | AQ6: =VLOOKUP($B6,'[2]TK KHOILUONG'!$B:$AT,42,0) -> 0 | AR6: =VLOOKUP($B6,'[2]TK KHOILUONG'!$B:$AT,43,0) -> 0 | AS6: =VLOOKUP($B6,'[2]TK KHOILUONG'!$B:$AT,44,0) -> 0 | AT6: =IF(D6="","",ROUND(M6+R6+V6+Z6+AD6+AH6+AK6+AN6+AQ6+SUM(AR6:AS6),2)) -> 2
A7: =IF(D7="","",SUBTOTAL(3,$D$5:D7)) -> 3 | B7: 01001006 | C7: Ban Giám hiệu | D7: Nguyễn Văn Dũng | E7: =VLOOKUP($B7,'[2]TK KHOILUONG'!$B:$AT,4,0) -> 0 | F7: =VLOOKUP($B7,'[2]TK KHOILUONG'!$B:$AT,5,0) -> 0 | G7: =VLOOKUP($B7,'[2]TK KHOILUONG'!$B:$AT,6,0) -> 0 | H7: =VLOOKUP($B7,'[2]TK KHOILUONG'!$B:$AT,7,0) -> 0 | I7: =VLOOKUP($B7,'[2]TK KHOILUONG'!$B:$AT,8,0) -> 0 | J7: =VLOOKUP($B7,'[2]TK KHOILUONG'!$B:$AT,9,0) -> 0 | K7: =VLOOKUP($B7,'[2]TK KHOILUONG'!$B:$AT,10,0) -> 0 | L7: =VLOOKUP($B7,'[2]TK KHOILUONG'!$B:$AT,11,0) -> 0 | M7: =VLOOKUP($B7,'[2]TK KHOILUONG'!$B:$AT,12,0) -> 0 | N7: =VLOOKUP($B7,'[2]TK KHOILUONG'!$B:$AT,13,0) -> 0 | O7: =VLOOKUP($B7,'[2]TK KHOILUONG'!$B:$AT,14,0) -> 0 | P7: =VLOOKUP($B7,'[2]TK KHOILUONG'!$B:$AT,15,0) -> 0 | Q7: =VLOOKUP($B7,'[2]TK KHOILUONG'!$B:$AT,16,0) -> 0 | R7: =VLOOKUP($B7,'[2]TK KHOILUONG'!$B:$AT,17,0) -> 0 | S7: =VLOOKUP($B7,'[2]TK KHOILUONG'!$B:$AT,18,0) -> 0 | T7: =VLOOKUP($B7,'[2]TK KHOILUONG'!$B:$AT,19,0) -> 0 | U7: =VLOOKUP($B7,'[2]TK KHOILUONG'!$B:$AT,20,0) -> 0 | V7: =VLOOKUP($B7,'[2]TK KHOILUONG'!$B:$AT,21,0) -> 0 | W7: =VLOOKUP($B7,'[2]TK KHOILUONG'!$B:$AT,22,0) -> 0 | X7: =VLOOKUP($B7,'[2]TK KHOILUONG'!$B:$AT,23,0) -> 0 | Y7: =VLOOKUP($B7,'[2]TK KHOILUONG'!$B:$AT,24,0) -> 0 | Z7: =VLOOKUP($B7,'[2]TK KHOILUONG'!$B:$AT,25,0) -> 0 | AA7: =VLOOKUP($B7,'[2]TK KHOILUONG'!$B:$AT,26,0) -> 0 | AB7: =VLOOKUP($B7,'[2]TK KHOILUONG'!$B:$AT,27,0) -> 0 | AC7: =VLOOKUP($B7,'[2]TK KHOILUONG'!$B:$AT,28,0) -> 0 | AD7: =VLOOKUP($B7,'[2]TK KHOILUONG'!$B:$AT,29,0) -> 0 | AE7: =VLOOKUP($B7,'[2]TK KHOILUONG'!$B:$AT,30,0) -> 0 | AF7: =VLOOKUP($B7,'[2]TK KHOILUONG'!$B:$AT,31,0) -> 0 | AG7: =VLOOKUP($B7,'[2]TK KHOILUONG'!$B:$AT,32,0) -> 0 | AH7: =VLOOKUP($B7,'[2]TK KHOILUONG'!$B:$AT,33,0) -> 0 | AI7: =VLOOKUP($B7,'[2]TK KHOILUONG'!$B:$AT,34,0) -> 0 | AJ7: =VLOOKUP($B7,'[2]TK KHOILUONG'!$B:$AT,35,0) -> 0 | AK7: =VLOOKUP($B7,'[2]TK KHOILUONG'!$B:$AT,36,0) -> 0 | AL7: =VLOOKUP($B7,'[2]TK KHOILUONG'!$B:$AT,37,0) -> 0 | AM7: =VLOOKUP($B7,'[2]TK KHOILUONG'!$B:$AT,38,0) -> 0 | AN7: =VLOOKUP($B7,'[2]TK KHOILUONG'!$B:$AT,39,0) -> 0 | AO7: =VLOOKUP($B7,'[2]TK KHOILUONG'!$B:$AT,40,0) -> 0 | AP7: =VLOOKUP($B7,'[2]TK KHOILUONG'!$B:$AT,41,0) -> 0 | AQ7: =VLOOKUP($B7,'[2]TK KHOILUONG'!$B:$AT,42,0) -> 0 | AR7: =VLOOKUP($B7,'[2]TK KHOILUONG'!$B:$AT,43,0) -> 0 | AS7: =VLOOKUP($B7,'[2]TK KHOILUONG'!$B:$AT,44,0) -> 0 | AT7: =IF(D7="","",ROUND(M7+R7+V7+Z7+AD7+AH7+AK7+AN7+AQ7+SUM(AR7:AS7),2)) -> 0
A8: =IF(D8="","",SUBTOTAL(3,$D$5:D8)) -> 4 | B8: 01001003 | C8: Ban Giám hiệu | D8: Phạm Hữu Lộc | E8: =VLOOKUP($B8,'[2]TK KHOILUONG'!$B:$AT,4,0) -> 0 | F8: =VLOOKUP($B8,'[2]TK KHOILUONG'!$B:$AT,5,0) -> 0 | G8: =VLOOKUP($B8,'[2]TK KHOILUONG'!$B:$AT,6,0) -> 0 | H8: =VLOOKUP($B8,'[2]TK KHOILUONG'!$B:$AT,7,0) -> 0 | I8: =VLOOKUP($B8,'[2]TK KHOILUONG'!$B:$AT,8,0) -> 0 | J8: =VLOOKUP($B8,'[2]TK KHOILUONG'!$B:$AT,9,0) -> 0 | K8: =VLOOKUP($B8,'[2]TK KHOILUONG'!$B:$AT,10,0) -> 0 | L8: =VLOOKUP($B8,'[2]TK KHOILUONG'!$B:$AT,11,0) -> 0 | M8: =VLOOKUP($B8,'[2]TK KHOILUONG'!$B:$AT,12,0) -> 0 | N8: =VLOOKUP($B8,'[2]TK KHOILUONG'!$B:$AT,13,0) -> 0 | O8: =VLOOKUP($B8,'[2]TK KHOILUONG'!$B:$AT,14,0) -> 0 | P8: =VLOOKUP($B8,'[2]TK KHOILUONG'!$B:$AT,15,0) -> 0 | Q8: =VLOOKUP($B8,'[2]TK KHOILUONG'!$B:$AT,16,0) -> 0 | R8: =VLOOKUP($B8,'[2]TK KHOILUONG'!$B:$AT,17,0) -> 0 | S8: =VLOOKUP($B8,'[2]TK KHOILUONG'!$B:$AT,18,0) -> 0 | T8: =VLOOKUP($B8,'[2]TK KHOILUONG'!$B:$AT,19,0) -> 0 | U8: =VLOOKUP($B8,'[2]TK KHOILUONG'!$B:$AT,20,0) -> 0 | V8: =VLOOKUP($B8,'[2]TK KHOILUONG'!$B:$AT,21,0) -> 0 | W8: =VLOOKUP($B8,'[2]TK KHOILUONG'!$B:$AT,22,0) -> 0 | X8: =VLOOKUP($B8,'[2]TK KHOILUONG'!$B:$AT,23,0) -> 0 | Y8: =VLOOKUP($B8,'[2]TK KHOILUONG'!$B:$AT,24,0) -> 0 | Z8: =VLOOKUP($B8,'[2]TK KHOILUONG'!$B:$AT,25,0) -> 0 | AA8: =VLOOKUP($B8,'[2]TK KHOILUONG'!$B:$AT,26,0) -> 0 | AB8: =VLOOKUP($B8,'[2]TK KHOILUONG'!$B:$AT,27,0) -> 0 | AC8: =VLOOKUP($B8,'[2]TK KHOILUONG'!$B:$AT,28,0) -> 0 | AD8: =VLOOKUP($B8,'[2]TK KHOILUONG'!$B:$AT,29,0) -> 0 | AE8: =VLOOKUP($B8,'[2]TK KHOILUONG'!$B:$AT,30,0) -> 0 | AF8: =VLOOKUP($B8,'[2]TK KHOILUONG'!$B:$AT,31,0) -> 0 | AG8: =VLOOKUP($B8,'[2]TK KHOILUONG'!$B:$AT,32,0) -> 0 | AH8: =VLOOKUP($B8,'[2]TK KHOILUONG'!$B:$AT,33,0) -> 0 | AI8: =VLOOKUP($B8,'[2]TK KHOILUONG'!$B:$AT,34,0) -> 0 | AJ8: =VLOOKUP($B8,'[2]TK KHOILUONG'!$B:$AT,35,0) -> 0 | AK8: =VLOOKUP($B8,'[2]TK KHOILUONG'!$B:$AT,36,0) -> 0 | AL8: =VLOOKUP($B8,'[2]TK KHOILUONG'!$B:$AT,37,0) -> 0 | AM8: =VLOOKUP($B8,'[2]TK KHOILUONG'!$B:$AT,38,0) -> 0 | AN8: =VLOOKUP($B8,'[2]TK KHOILUONG'!$B:$AT,39,0) -> 0 | AO8: =VLOOKUP($B8,'[2]TK KHOILUONG'!$B:$AT,40,0) -> 0 | AP8: =VLOOKUP($B8,'[2]TK KHOILUONG'!$B:$AT,41,0) -> 0 | AQ8: =VLOOKUP($B8,'[2]TK KHOILUONG'!$B:$AT,42,0) -> 0 | AR8: =VLOOKUP($B8,'[2]TK KHOILUONG'!$B:$AT,43,0) -> 0 | AS8: =VLOOKUP($B8,'[2]TK KHOILUONG'!$B:$AT,44,0) -> 0 | AT8: =IF(D8="","",ROUND(M8+R8+V8+Z8+AD8+AH8+AK8+AN8+AQ8+SUM(AR8:AS8),2)) -> 0
A9: =IF(D9="","",SUBTOTAL(3,$D$5:D9)) -> 5 | B9: 01012023 | C9: Khoa CN Cơ khí | D9: Bùi Anh Tuấn | E9: =VLOOKUP($B9,'[2]TK KHOILUONG'!$B:$AT,4,0) -> 2 | F9: =VLOOKUP($B9,'[2]TK KHOILUONG'!$B:$AT,5,0) -> 0 | G9: =VLOOKUP($B9,'[2]TK KHOILUONG'!$B:$AT,6,0) -> 0 | H9: =VLOOKUP($B9,'[2]TK KHOILUONG'!$B:$AT,7,0) -> 0 | I9: =VLOOKUP($B9,'[2]TK KHOILUONG'!$B:$AT,8,0) -> 0 | J9: =VLOOKUP($B9,'[2]TK KHOILUONG'!$B:$AT,9,0) -> 0 | K9: =VLOOKUP($B9,'[2]TK KHOILUONG'!$B:$AT,10,0) -> 0 | L9: =VLOOKUP($B9,'[2]TK KHOILUONG'!$B:$AT,11,0) -> 0 | M9: =VLOOKUP($B9,'[2]TK KHOILUONG'!$B:$AT,12,0) -> 2 | N9: =VLOOKUP($B9,'[2]TK KHOILUONG'!$B:$AT,13,0) -> 4.8 | O9: =VLOOKUP($B9,'[2]TK KHOILUONG'!$B:$AT,14,0) -> 7.35 | P9: =VLOOKUP($B9,'[2]TK KHOILUONG'!$B:$AT,15,0) -> 0 | Q9: =VLOOKUP($B9,'[2]TK KHOILUONG'!$B:$AT,16,0) -> 0 | R9: =VLOOKUP($B9,'[2]TK KHOILUONG'!$B:$AT,17,0) -> 12.15 | S9: =VLOOKUP($B9,'[2]TK KHOILUONG'!$B:$AT,18,0) -> 150 | T9: =VLOOKUP($B9,'[2]TK KHOILUONG'!$B:$AT,19,0) -> 320 | U9: =VLOOKUP($B9,'[2]TK KHOILUONG'!$B:$AT,20,0) -> 247 | V9: =VLOOKUP($B9,'[2]TK KHOILUONG'!$B:$AT,21,0) -> 22.3 | W9: =VLOOKUP($B9,'[2]TK KHOILUONG'!$B:$AT,22,0) -> 0 | X9: =VLOOKUP($B9,'[2]TK KHOILUONG'!$B:$AT,23,0) -> 0 | Y9: =VLOOKUP($B9,'[2]TK KHOILUONG'!$B:$AT,24,0) -> 0 | Z9: =VLOOKUP($B9,'[2]TK KHOILUONG'!$B:$AT,25,0) -> 0 | AA9: =VLOOKUP($B9,'[2]TK KHOILUONG'!$B:$AT,26,0) -> 0 | AB9: =VLOOKUP($B9,'[2]TK KHOILUONG'!$B:$AT,27,0) -> 49 | AC9: =VLOOKUP($B9,'[2]TK KHOILUONG'!$B:$AT,28,0) -> 0 | AD9: =VLOOKUP($B9,'[2]TK KHOILUONG'!$B:$AT,29,0) -> 4.9 | AE9: =VLOOKUP($B9,'[2]TK KHOILUONG'!$B:$AT,30,0) -> 50 | AF9: =VLOOKUP($B9,'[2]TK KHOILUONG'!$B:$AT,31,0) -> 64 | AG9: =VLOOKUP($B9,'[2]TK KHOILUONG'!$B:$AT,32,0) -> 50 | AH9: =VLOOKUP($B9,'[2]TK KHOILUONG'!$B:$AT,33,0) -> 12.8 | AI9: =VLOOKUP($B9,'[2]TK KHOILUONG'!$B:$AT,34,0) -> 0 | AJ9: =VLOOKUP($B9,'[2]TK KHOILUONG'!$B:$AT,35,0) -> 0 | AK9: =VLOOKUP($B9,'[2]TK KHOILUONG'!$B:$AT,36,0) -> 0 | AL9: =VLOOKUP($B9,'[2]TK KHOILUONG'!$B:$AT,37,0) -> 0 | AM9: =VLOOKUP($B9,'[2]TK KHOILUONG'!$B:$AT,38,0) -> 0 | AN9: =VLOOKUP($B9,'[2]TK KHOILUONG'!$B:$AT,39,0) -> 0 | AO9: =VLOOKUP($B9,'[2]TK KHOILUONG'!$B:$AT,40,0) -> 0 | AP9: =VLOOKUP($B9,'[2]TK KHOILUONG'!$B:$AT,41,0) -> 0 | AQ9: =VLOOKUP($B9,'[2]TK KHOILUONG'!$B:$AT,42,0) -> 0 | AR9: =VLOOKUP($B9,'[2]TK KHOILUONG'!$B:$AT,43,0) -> 0 | AS9: =VLOOKUP($B9,'[2]TK KHOILUONG'!$B:$AT,44,0) -> 0.5 | AT9: =IF(D9="","",ROUND(M9+R9+V9+Z9+AD9+AH9+AK9+AN9+AQ9+SUM(AR9:AS9),2)) -> 54.65
A10: =IF(D10="","",SUBTOTAL(3,$D$5:D10)) -> 6 | B10: 01012003 | C10: Khoa CN Cơ khí | D10: Chung Trần Thế Vinh | E10: =VLOOKUP($B10,'[2]TK KHOILUONG'!$B:$AT,4,0) -> 2 | F10: =VLOOKUP($B10,'[2]TK KHOILUONG'!$B:$AT,5,0) -> 0 | G10: =VLOOKUP($B10,'[2]TK KHOILUONG'!$B:$AT,6,0) -> 0 | H10: =VLOOKUP($B10,'[2]TK KHOILUONG'!$B:$AT,7,0) -> 3 | I10: =VLOOKUP($B10,'[2]TK KHOILUONG'!$B:$AT,8,0) -> 0 | J10: =VLOOKUP($B10,'[2]TK KHOILUONG'!$B:$AT,9,0) -> 0 | K10: =VLOOKUP($B10,'[2]TK KHOILUONG'!$B:$AT,10,0) -> 0 | L10: =VLOOKUP($B10,'[2]TK KHOILUONG'!$B:$AT,11,0) -> 0 | M10: =VLOOKUP($B10,'[2]TK KHOILUONG'!$B:$AT,12,0) -> 3.5 | N10: =VLOOKUP($B10,'[2]TK KHOILUONG'!$B:$AT,13,0) -> 1.35 | O10: =VLOOKUP($B10,'[2]TK KHOILUONG'!$B:$AT,14,0) -> 0.75 | P10: =VLOOKUP($B10,'[2]TK KHOILUONG'!$B:$AT,15,0) -> 0 | Q10: =VLOOKUP($B10,'[2]TK KHOILUONG'!$B:$AT,16,0) -> 0 | R10: =VLOOKUP($B10,'[2]TK KHOILUONG'!$B:$AT,17,0) -> 2.1 | S10: =VLOOKUP($B10,'[2]TK KHOILUONG'!$B:$AT,18,0) -> 46 | T10: =VLOOKUP($B10,'[2]TK KHOILUONG'!$B:$AT,19,0) -> 69 | U10: =VLOOKUP($B10,'[2]TK KHOILUONG'!$B:$AT,20,0) -> 115 | V10: =VLOOKUP($B10,'[2]TK KHOILUONG'!$B:$AT,21,0) -> 0 | W10: =VLOOKUP($B10,'[2]TK KHOILUONG'!$B:$AT,22,0) -> 0 | X10: =VLOOKUP($B10,'[2]TK KHOILUONG'!$B:$AT,23,0) -> 0 | Y10: =VLOOKUP($B10,'[2]TK KHOILUONG'!$B:$AT,24,0) -> 0 | Z10: =VLOOKUP($B10,'[2]TK KHOILUONG'!$B:$AT,25,0) -> 0 | AA10: =VLOOKUP($B10,'[2]TK KHOILUONG'!$B:$AT,26,0) -> 49 | AB10: =VLOOKUP($B10,'[2]TK KHOILUONG'!$B:$AT,27,0) -> 90 | AC10: =VLOOKUP($B10,'[2]TK KHOILUONG'!$B:$AT,28,0) -> 49 | AD10: =VLOOKUP($B10,'[2]TK KHOILUONG'!$B:$AT,29,0) -> 9 | AE10: =VLOOKUP($B10,'[2]TK KHOILUONG'!$B:$AT,30,0) -> 64 | AF10: =VLOOKUP($B10,'[2]TK KHOILUONG'!$B:$AT,31,0) -> 34 | AG10: =VLOOKUP($B10,'[2]TK KHOILUONG'!$B:$AT,32,0) -> 48 | AH10: =VLOOKUP($B10,'[2]TK KHOILUONG'!$B:$AT,33,0) -> 10 | AI10: =VLOOKUP($B10,'[2]TK KHOILUONG'!$B:$AT,34,0) -> 0 | AJ10: =VLOOKUP($B10,'[2]TK KHOILUONG'!$B:$AT,35,0) -> 0 | AK10: =VLOOKUP($B10,'[2]TK KHOILUONG'!$B:$AT,36,0) -> 0 | AL10: =VLOOKUP($B10,'[2]TK KHOILUONG'!$B:$AT,37,0) -> 0 | AM10: =VLOOKUP($B10,'[2]TK KHOILUONG'!$B:$AT,38,0) -> 0 | AN10: =VLOOKUP($B10,'[2]TK KHOILUONG'!$B:$AT,39,0) -> 0 | AO10: =VLOOKUP($B10,'[2]TK KHOILUONG'!$B:$AT,40,0) -> 0 | AP10: =VLOOKUP($B10,'[2]TK KHOILUONG'!$B:$AT,41,0) -> 0 | AQ10: =VLOOKUP($B10,'[2]TK KHOILUONG'!$B:$AT,42,0) -> 0 | AR10: =VLOOKUP($B10,'[2]TK KHOILUONG'!$B:$AT,43,0) -> 0 | AS10: =VLOOKUP($B10,'[2]TK KHOILUONG'!$B:$AT,44,0) -> 0 | AT10: =IF(D10="","",ROUND(M10+R10+V10+Z10+AD10+AH10+AK10+AN10+AQ10+SUM(AR10:AS10),2)) -> 24.6
A11: =IF(D11="","",SUBTOTAL(3,$D$5:D11)) -> 7 | B11: 01012005 | C11: Khoa CN Cơ khí | D11: Đỗ Thị Phương Khanh | E11: =VLOOKUP($B11,'[2]TK KHOILUONG'!$B:$AT,4,0) -> 2 | F11: =VLOOKUP($B11,'[2]TK KHOILUONG'!$B:$AT,5,0) -> 0 | G11: =VLOOKUP($B11,'[2]TK KHOILUONG'!$B:$AT,6,0) -> 0 | H11: =VLOOKUP($B11,'[2]TK KHOILUONG'!$B:$AT,7,0) -> 2 | I11: =VLOOKUP($B11,'[2]TK KHOILUONG'!$B:$AT,8,0) -> 0 | J11: =VLOOKUP($B11,'[2]TK KHOILUONG'!$B:$AT,9,0) -> 0 | K11: =VLOOKUP($B11,'[2]TK KHOILUONG'!$B:$AT,10,0) -> 0 | L11: =VLOOKUP($B11,'[2]TK KHOILUONG'!$B:$AT,11,0) -> 0 | M11: =VLOOKUP($B11,'[2]TK KHOILUONG'!$B:$AT,12,0) -> 3 | N11: =VLOOKUP($B11,'[2]TK KHOILUONG'!$B:$AT,13,0) -> 2.85 | O11: =VLOOKUP($B11,'[2]TK KHOILUONG'!$B:$AT,14,0) -> 0.75 | P11: =VLOOKUP($B11,'[2]TK KHOILUONG'!$B:$AT,15,0) -> 0 | Q11: =VLOOKUP($B11,'[2]TK KHOILUONG'!$B:$AT,16,0) -> 0 | R11: =VLOOKUP($B11,'[2]TK KHOILUONG'!$B:$AT,17,0) -> 3.6 | S11: =VLOOKUP($B11,'[2]TK KHOILUONG'!$B:$AT,18,0) -> 34 | T11: =VLOOKUP($B11,'[2]TK KHOILUONG'!$B:$AT,19,0) -> 88 | U11: =VLOOKUP($B11,'[2]TK KHOILUONG'!$B:$AT,20,0) -> 202 | V11: =VLOOKUP($B11,'[2]TK KHOILUONG'!$B:$AT,21,0) -> -8 | W11: =VLOOKUP($B11,'[2]TK KHOILUONG'!$B:$AT,22,0) -> 0 | X11: =VLOOKUP($B11,'[2]TK KHOILUONG'!$B:$AT,23,0) -> 0 | Y11: =VLOOKUP($B11,'[2]TK KHOILUONG'!$B:$AT,24,0) -> 0 | Z11: =VLOOKUP($B11,'[2]TK KHOILUONG'!$B:$AT,25,0) -> 0 | AA11: =VLOOKUP($B11,'[2]TK KHOILUONG'!$B:$AT,26,0) -> 0 | AB11: =VLOOKUP($B11,'[2]TK KHOILUONG'!$B:$AT,27,0) -> 0 | AC11: =VLOOKUP($B11,'[2]TK KHOILUONG'!$B:$AT,28,0) -> 0 | AD11: =VLOOKUP($B11,'[2]TK KHOILUONG'!$B:$AT,29,0) -> 0 | AE11: =VLOOKUP($B11,'[2]TK KHOILUONG'!$B:$AT,30,0) -> 54 | AF11: =VLOOKUP($B11,'[2]TK KHOILUONG'!$B:$AT,31,0) -> 0 | AG11: =VLOOKUP($B11,'[2]TK KHOILUONG'!$B:$AT,32,0) -> 106 | AH11: =VLOOKUP($B11,'[2]TK KHOILUONG'!$B:$AT,33,0) -> -10.4 | AI11: =VLOOKUP($B11,'[2]TK KHOILUONG'!$B:$AT,34,0) -> 0 | AJ11: =VLOOKUP($B11,'[2]TK KHOILUONG'!$B:$AT,35,0) -> 0 | AK11: =VLOOKUP($B11,'[2]TK KHOILUONG'!$B:$AT,36,0) -> 0 | AL11: =VLOOKUP($B11,'[2]TK KHOILUONG'!$B:$AT,37,0) -> 0 | AM11: =VLOOKUP($B11,'[2]TK KHOILUONG'!$B:$AT,38,0) -> 0 | AN11: =VLOOKUP($B11,'[2]TK KHOILUONG'!$B:$AT,39,0) -> 0 | AO11: =VLOOKUP($B11,'[2]TK KHOILUONG'!$B:$AT,40,0) -> 0 | AP11: =VLOOKUP($B11,'[2]TK KHOILUONG'!$B:$AT,41,0) -> 0 | AQ11: =VLOOKUP($B11,'[2]TK KHOILUONG'!$B:$AT,42,0) -> 0 | AR11: =VLOOKUP($B11,'[2]TK KHOILUONG'!$B:$AT,43,0) -> 0 | AS11: =VLOOKUP($B11,'[2]TK KHOILUONG'!$B:$AT,44,0) -> 0 | AT11: =IF(D11="","",ROUND(M11+R11+V11+Z11+AD11+AH11+AK11+AN11+AQ11+SUM(AR11:AS11),2)) -> -11.8
A12: =IF(D12="","",SUBTOTAL(3,$D$5:D12)) -> 8 | B12: 01012014 | C12: Khoa CN Cơ khí | D12: Dương Minh Chung | E12: =VLOOKUP($B12,'[2]TK KHOILUONG'!$B:$AT,4,0) -> 6 | F12: =VLOOKUP($B12,'[2]TK KHOILUONG'!$B:$AT,5,0) -> 0 | G12: =VLOOKUP($B12,'[2]TK KHOILUONG'!$B:$AT,6,0) -> 0 | H12: =VLOOKUP($B12,'[2]TK KHOILUONG'!$B:$AT,7,0) -> 0 | I12: =VLOOKUP($B12,'[2]TK KHOILUONG'!$B:$AT,8,0) -> 0 | J12: =VLOOKUP($B12,'[2]TK KHOILUONG'!$B:$AT,9,0) -> 0 | K12: =VLOOKUP($B12,'[2]TK KHOILUONG'!$B:$AT,10,0) -> 0 | L12: =VLOOKUP($B12,'[2]TK KHOILUONG'!$B:$AT,11,0) -> 0 | M12: =VLOOKUP($B12,'[2]TK KHOILUONG'!$B:$AT,12,0) -> 6 | N12: =VLOOKUP($B12,'[2]TK KHOILUONG'!$B:$AT,13,0) -> 1.65 | O12: =VLOOKUP($B12,'[2]TK KHOILUONG'!$B:$AT,14,0) -> 0.75 | P12: =VLOOKUP($B12,'[2]TK KHOILUONG'!$B:$AT,15,0) -> 0 | Q12: =VLOOKUP($B12,'[2]TK KHOILUONG'!$B:$AT,16,0) -> 0 | R12: =VLOOKUP($B12,'[2]TK KHOILUONG'!$B:$AT,17,0) -> 2.4 | S12: =VLOOKUP($B12,'[2]TK KHOILUONG'!$B:$AT,18,0) -> 146 | T12: =VLOOKUP($B12,'[2]TK KHOILUONG'!$B:$AT,19,0) -> 152 | U12: =VLOOKUP($B12,'[2]TK KHOILUONG'!$B:$AT,20,0) -> 136 | V12: =VLOOKUP($B12,'[2]TK KHOILUONG'!$B:$AT,21,0) -> 16.2 | W12: =VLOOKUP($B12,'[2]TK KHOILUONG'!$B:$AT,22,0) -> 0 | X12: =VLOOKUP($B12,'[2]TK KHOILUONG'!$B:$AT,23,0) -> 0 | Y12: =VLOOKUP($B12,'[2]TK KHOILUONG'!$B:$AT,24,0) -> 0 | Z12: =VLOOKUP($B12,'[2]TK KHOILUONG'!$B:$AT,25,0) -> 0 | AA12: =VLOOKUP($B12,'[2]TK KHOILUONG'!$B:$AT,26,0) -> 0 | AB12: =VLOOKUP($B12,'[2]TK KHOILUONG'!$B:$AT,27,0) -> 0 | AC12: =VLOOKUP($B12,'[2]TK KHOILUONG'!$B:$AT,28,0) -> 0 | AD12: =VLOOKUP($B12,'[2]TK KHOILUONG'!$B:$AT,29,0) -> 0 | AE12: =VLOOKUP($B12,'[2]TK KHOILUONG'!$B:$AT,30,0) -> 0 | AF12: =VLOOKUP($B12,'[2]TK KHOILUONG'!$B:$AT,31,0) -> 0 | AG12: =VLOOKUP($B12,'[2]TK KHOILUONG'!$B:$AT,32,0) -> 0 | AH12: =VLOOKUP($B12,'[2]TK KHOILUONG'!$B:$AT,33,0) -> 0 | AI12: =VLOOKUP($B12,'[2]TK KHOILUONG'!$B:$AT,34,0) -> 0 | AJ12: =VLOOKUP($B12,'[2]TK KHOILUONG'!$B:$AT,35,0) -> 0 | AK12: =VLOOKUP($B12,'[2]TK KHOILUONG'!$B:$AT,36,0) -> 0 | AL12: =VLOOKUP($B12,'[2]TK KHOILUONG'!$B:$AT,37,0) -> 0 | AM12: =VLOOKUP($B12,'[2]TK KHOILUONG'!$B:$AT,38,0) -> 0 | AN12: =VLOOKUP($B12,'[2]TK KHOILUONG'!$B:$AT,39,0) -> 0 | AO12: =VLOOKUP($B12,'[2]TK KHOILUONG'!$B:$AT,40,0) -> 0 | AP12: =VLOOKUP($B12,'[2]TK KHOILUONG'!$B:$AT,41,0) -> 0 | AQ12: =VLOOKUP($B12,'[2]TK KHOILUONG'!$B:$AT,42,0) -> 0 | AR12: =VLOOKUP($B12,'[2]TK KHOILUONG'!$B:$AT,43,0) -> 0 | AS12: =VLOOKUP($B12,'[2]TK KHOILUONG'!$B:$AT,44,0) -> 0.9 | AT12: =IF(D12="","",ROUND(M12+R12+V12+Z12+AD12+AH12+AK12+AN12+AQ12+SUM(AR12:AS12),2)) -> 25.5
A13: =IF(D13="","",SUBTOTAL(3,$D$5:D13)) -> 9 | B13: 01012029 | C13: Khoa CN Cơ khí | D13: Dương Ngọc Hưng | E13: =VLOOKUP($B13,'[2]TK KHOILUONG'!$B:$AT,4,0) -> 0 | F13: =VLOOKUP($B13,'[2]TK KHOILUONG'!$B:$AT,5,0) -> 0 | G13: =VLOOKUP($B13,'[2]TK KHOILUONG'!$B:$AT,6,0) -> 0 | H13: =VLOOKUP($B13,'[2]TK KHOILUONG'!$B:$AT,7,0) -> 0 | I13: =VLOOKUP($B13,'[2]TK KHOILUONG'!$B:$AT,8,0) -> 0 | J13: =VLOOKUP($B13,'[2]TK KHOILUONG'!$B:$AT,9,0) -> 0 | K13: =VLOOKUP($B13,'[2]TK KHOILUONG'!$B:$AT,10,0) -> 0 | L13: =VLOOKUP($B13,'[2]TK KHOILUONG'!$B:$AT,11,0) -> 0 | M13: =VLOOKUP($B13,'[2]TK KHOILUONG'!$B:$AT,12,0) -> 0 | N13: =VLOOKUP($B13,'[2]TK KHOILUONG'!$B:$AT,13,0) -> 0 | O13: =VLOOKUP($B13,'[2]TK KHOILUONG'!$B:$AT,14,0) -> 0 | P13: =VLOOKUP($B13,'[2]TK KHOILUONG'!$B:$AT,15,0) -> 0 | Q13: =VLOOKUP($B13,'[2]TK KHOILUONG'!$B:$AT,16,0) -> 0 | R13: =VLOOKUP($B13,'[2]TK KHOILUONG'!$B:$AT,17,0) -> 0 | S13: =VLOOKUP($B13,'[2]TK KHOILUONG'!$B:$AT,18,0) -> 0 | T13: =VLOOKUP($B13,'[2]TK KHOILUONG'!$B:$AT,19,0) -> 0 | U13: =VLOOKUP($B13,'[2]TK KHOILUONG'!$B:$AT,20,0) -> 0 | V13: =VLOOKUP($B13,'[2]TK KHOILUONG'!$B:$AT,21,0) -> 0 | W13: =VLOOKUP($B13,'[2]TK KHOILUONG'!$B:$AT,22,0) -> 0 | X13: =VLOOKUP($B13,'[2]TK KHOILUONG'!$B:$AT,23,0) -> 0 | Y13: =VLOOKUP($B13,'[2]TK KHOILUONG'!$B:$AT,24,0) -> 0 | Z13: =VLOOKUP($B13,'[2]TK KHOILUONG'!$B:$AT,25,0) -> 0 | AA13: =VLOOKUP($B13,'[2]TK KHOILUONG'!$B:$AT,26,0) -> 0 | AB13: =VLOOKUP($B13,'[2]TK KHOILUONG'!$B:$AT,27,0) -> 0 | AC13: =VLOOKUP($B13,'[2]TK KHOILUONG'!$B:$AT,28,0) -> 0 | AD13: =VLOOKUP($B13,'[2]TK KHOILUONG'!$B:$AT,29,0) -> 0 | AE13: =VLOOKUP($B13,'[2]TK KHOILUONG'!$B:$AT,30,0) -> 0 | AF13: =VLOOKUP($B13,'[2]TK KHOILUONG'!$B:$AT,31,0) -> 0 | AG13: =VLOOKUP($B13,'[2]TK KHOILUONG'!$B:$AT,32,0) -> 0 | AH13: =VLOOKUP($B13,'[2]TK KHOILUONG'!$B:$AT,33,0) -> 0 | AI13: =VLOOKUP($B13,'[2]TK KHOILUONG'!$B:$AT,34,0) -> 0 | AJ13: =VLOOKUP($B13,'[2]TK KHOILUONG'!$B:$AT,35,0) -> 0 | AK13: =VLOOKUP($B13,'[2]TK KHOILUONG'!$B:$AT,36,0) -> 0 | AL13: =VLOOKUP($B13,'[2]TK KHOILUONG'!$B:$AT,37,0) -> 0 | AM13: =VLOOKUP($B13,'[2]TK KHOILUONG'!$B:$AT,38,0) -> 0 | AN13: =VLOOKUP($B13,'[2]TK KHOILUONG'!$B:$AT,39,0) -> 0 | AO13: =VLOOKUP($B13,'[2]TK KHOILUONG'!$B:$AT,40,0) -> 0 | AP13: =VLOOKUP($B13,'[2]TK KHOILUONG'!$B:$AT,41,0) -> 0 | AQ13: =VLOOKUP($B13,'[2]TK KHOILUONG'!$B:$AT,42,0) -> 0 | AR13: =VLOOKUP($B13,'[2]TK KHOILUONG'!$B:$AT,43,0) -> 0 | AS13: =VLOOKUP($B13,'[2]TK KHOILUONG'!$B:$AT,44,0) -> 0 | AT13: =IF(D13="","",ROUND(M13+R13+V13+Z13+AD13+AH13+AK13+AN13+AQ13+SUM(AR13:AS13),2)) -> 0
A14: =IF(D14="","",SUBTOTAL(3,$D$5:D14)) -> 10 | B14: 01012028 | C14: Khoa CN Cơ khí | D14: Dương Thị Hồng | E14: =VLOOKUP($B14,'[2]TK KHOILUONG'!$B:$AT,4,0) -> 6 | F14: =VLOOKUP($B14,'[2]TK KHOILUONG'!$B:$AT,5,0) -> 0 | G14: =VLOOKUP($B14,'[2]TK KHOILUONG'!$B:$AT,6,0) -> 0 | H14: =VLOOKUP($B14,'[2]TK KHOILUONG'!$B:$AT,7,0) -> 0 | I14: =VLOOKUP($B14,'[2]TK KHOILUONG'!$B:$AT,8,0) -> 0 | J14: =VLOOKUP($B14,'[2]TK KHOILUONG'!$B:$AT,9,0) -> 0 | K14: =VLOOKUP($B14,'[2]TK KHOILUONG'!$B:$AT,10,0) -> 0 | L14: =VLOOKUP($B14,'[2]TK KHOILUONG'!$B:$AT,11,0) -> 0 | M14: =VLOOKUP($B14,'[2]TK KHOILUONG'!$B:$AT,12,0) -> 6 | N14: =VLOOKUP($B14,'[2]TK KHOILUONG'!$B:$AT,13,0) -> 1.8 | O14: =VLOOKUP($B14,'[2]TK KHOILUONG'!$B:$AT,14,0) -> 1.2 | P14: =VLOOKUP($B14,'[2]TK KHOILUONG'!$B:$AT,15,0) -> 0 | Q14: =VLOOKUP($B14,'[2]TK KHOILUONG'!$B:$AT,16,0) -> 0 | R14: =VLOOKUP($B14,'[2]TK KHOILUONG'!$B:$AT,17,0) -> 3 | S14: =VLOOKUP($B14,'[2]TK KHOILUONG'!$B:$AT,18,0) -> 429 | T14: =VLOOKUP($B14,'[2]TK KHOILUONG'!$B:$AT,19,0) -> 376 | U14: =VLOOKUP($B14,'[2]TK KHOILUONG'!$B:$AT,20,0) -> 395 | V14: =VLOOKUP($B14,'[2]TK KHOILUONG'!$B:$AT,21,0) -> 41 | W14: =VLOOKUP($B14,'[2]TK KHOILUONG'!$B:$AT,22,0) -> 0 | X14: =VLOOKUP($B14,'[2]TK KHOILUONG'!$B:$AT,23,0) -> 0 | Y14: =VLOOKUP($B14,'[2]TK KHOILUONG'!$B:$AT,24,0) -> 0 | Z14: =VLOOKUP($B14,'[2]TK KHOILUONG'!$B:$AT,25,0) -> 0 | AA14: =VLOOKUP($B14,'[2]TK KHOILUONG'!$B:$AT,26,0) -> 0 | AB14: =VLOOKUP($B14,'[2]TK KHOILUONG'!$B:$AT,27,0) -> 0 | AC14: =VLOOKUP($B14,'[2]TK KHOILUONG'!$B:$AT,28,0) -> 0 | AD14: =VLOOKUP($B14,'[2]TK KHOILUONG'!$B:$AT,29,0) -> 0 | AE14: =VLOOKUP($B14,'[2]TK KHOILUONG'!$B:$AT,30,0) -> 0 | AF14: =VLOOKUP($B14,'[2]TK KHOILUONG'!$B:$AT,31,0) -> 0 | AG14: =VLOOKUP($B14,'[2]TK KHOILUONG'!$B:$AT,32,0) -> 0 | AH14: =VLOOKUP($B14,'[2]TK KHOILUONG'!$B:$AT,33,0) -> 0 | AI14: =VLOOKUP($B14,'[2]TK KHOILUONG'!$B:$AT,34,0) -> 0 | AJ14: =VLOOKUP($B14,'[2]TK KHOILUONG'!$B:$AT,35,0) -> 0 | AK14: =VLOOKUP($B14,'[2]TK KHOILUONG'!$B:$AT,36,0) -> 0 | AL14: =VLOOKUP($B14,'[2]TK KHOILUONG'!$B:$AT,37,0) -> 0 | AM14: =VLOOKUP($B14,'[2]TK KHOILUONG'!$B:$AT,38,0) -> 0 | AN14: =VLOOKUP($B14,'[2]TK KHOILUONG'!$B:$AT,39,0) -> 0 | AO14: =VLOOKUP($B14,'[2]TK KHOILUONG'!$B:$AT,40,0) -> 0 | AP14: =VLOOKUP($B14,'[2]TK KHOILUONG'!$B:$AT,41,0) -> 0 | AQ14: =VLOOKUP($B14,'[2]TK KHOILUONG'!$B:$AT,42,0) -> 0 | AR14: =VLOOKUP($B14,'[2]TK KHOILUONG'!$B:$AT,43,0) -> 0 | AS14: =VLOOKUP($B14,'[2]TK KHOILUONG'!$B:$AT,44,0) -> 0.5 | AT14: =IF(D14="","",ROUND(M14+R14+V14+Z14+AD14+AH14+AK14+AN14+AQ14+SUM(AR14:AS14),2)) -> 50.5
A15: =IF(D15="","",SUBTOTAL(3,$D$5:D15)) -> 11 | B15: 01006001 | C15: Khoa CN Cơ khí | D15: Hà Phước Tuấn | E15: =VLOOKUP($B15,'[2]TK KHOILUONG'!$B:$AT,4,0) -> 0 | F15: =VLOOKUP($B15,'[2]TK KHOILUONG'!$B:$AT,5,0) -> 0 | G15: =VLOOKUP($B15,'[2]TK KHOILUONG'!$B:$AT,6,0) -> 0 | H15: =VLOOKUP($B15,'[2]TK KHOILUONG'!$B:$AT,7,0) -> 0 | I15: =VLOOKUP($B15,'[2]TK KHOILUONG'!$B:$AT,8,0) -> 0 | J15: =VLOOKUP($B15,'[2]TK KHOILUONG'!$B:$AT,9,0) -> 0 | K15: =VLOOKUP($B15,'[2]TK KHOILUONG'!$B:$AT,10,0) -> 0 | L15: =VLOOKUP($B15,'[2]TK KHOILUONG'!$B:$AT,11,0) -> 0 | M15: =VLOOKUP($B15,'[2]TK KHOILUONG'!$B:$AT,12,0) -> 0 | N15: =VLOOKUP($B15,'[2]TK KHOILUONG'!$B:$AT,13,0) -> 0 | O15: =VLOOKUP($B15,'[2]TK KHOILUONG'!$B:$AT,14,0) -> 3.3 | P15: =VLOOKUP($B15,'[2]TK KHOILUONG'!$B:$AT,15,0) -> 0 | Q15: =VLOOKUP($B15,'[2]TK KHOILUONG'!$B:$AT,16,0) -> 0 | R15: =VLOOKUP($B15,'[2]TK KHOILUONG'!$B:$AT,17,0) -> 3.3 | S15: =VLOOKUP($B15,'[2]TK KHOILUONG'!$B:$AT,18,0) -> 355 | T15: =VLOOKUP($B15,'[2]TK KHOILUONG'!$B:$AT,19,0) -> 253 | U15: =VLOOKUP($B15,'[2]TK KHOILUONG'!$B:$AT,20,0) -> 314 | V15: =VLOOKUP($B15,'[2]TK KHOILUONG'!$B:$AT,21,0) -> 29.4 | W15: =VLOOKUP($B15,'[2]TK KHOILUONG'!$B:$AT,22,0) -> 0 | X15: =VLOOKUP($B15,'[2]TK KHOILUONG'!$B:$AT,23,0) -> 0 | Y15: =VLOOKUP($B15,'[2]TK KHOILUONG'!$B:$AT,24,0) -> 0 | Z15: =VLOOKUP($B15,'[2]TK KHOILUONG'!$B:$AT,25,0) -> 0 | AA15: =VLOOKUP($B15,'[2]TK KHOILUONG'!$B:$AT,26,0) -> 0 | AB15: =VLOOKUP($B15,'[2]TK KHOILUONG'!$B:$AT,27,0) -> 0 | AC15: =VLOOKUP($B15,'[2]TK KHOILUONG'!$B:$AT,28,0) -> 0 | AD15: =VLOOKUP($B15,'[2]TK KHOILUONG'!$B:$AT,29,0) -> 0 | AE15: =VLOOKUP($B15,'[2]TK KHOILUONG'!$B:$AT,30,0) -> 0 | AF15: =VLOOKUP($B15,'[2]TK KHOILUONG'!$B:$AT,31,0) -> 0 | AG15: =VLOOKUP($B15,'[2]TK KHOILUONG'!$B:$AT,32,0) -> 0 | AH15: =VLOOKUP($B15,'[2]TK KHOILUONG'!$B:$AT,33,0) -> 0 | AI15: =VLOOKUP($B15,'[2]TK KHOILUONG'!$B:$AT,34,0) -> 0 | AJ15: =VLOOKUP($B15,'[2]TK KHOILUONG'!$B:$AT,35,0) -> 0 | AK15: =VLOOKUP($B15,'[2]TK KHOILUONG'!$B:$AT,36,0) -> 0 | AL15: =VLOOKUP($B15,'[2]TK KHOILUONG'!$B:$AT,37,0) -> 0 | AM15: =VLOOKUP($B15,'[2]TK KHOILUONG'!$B:$AT,38,0) -> 0 | AN15: =VLOOKUP($B15,'[2]TK KHOILUONG'!$B:$AT,39,0) -> 0 | AO15: =VLOOKUP($B15,'[2]TK KHOILUONG'!$B:$AT,40,0) -> 0 | AP15: =VLOOKUP($B15,'[2]TK KHOILUONG'!$B:$AT,41,0) -> 0 | AQ15: =VLOOKUP($B15,'[2]TK KHOILUONG'!$B:$AT,42,0) -> 0 | AR15: =VLOOKUP($B15,'[2]TK KHOILUONG'!$B:$AT,43,0) -> 0 | AS15: =VLOOKUP($B15,'[2]TK KHOILUONG'!$B:$AT,44,0) -> 0.9 | AT15: =IF(D15="","",ROUND(M15+R15+V15+Z15+AD15+AH15+AK15+AN15+AQ15+SUM(AR15:AS15),2)) -> 33.6
A16: =IF(D16="","",SUBTOTAL(3,$D$5:D16)) -> 12 | B16: 01012030 | C16: Khoa CN Cơ khí | D16: Hồ Nhật Linh (TG) | E16: =VLOOKUP($B16,'[2]TK KHOILUONG'!$B:$AT,4,0) -> 0 | F16: =VLOOKUP($B16,'[2]TK KHOILUONG'!$B:$AT,5,0) -> 0 | G16: =VLOOKUP($B16,'[2]TK KHOILUONG'!$B:$AT,6,0) -> 0 | H16: =VLOOKUP($B16,'[2]TK KHOILUONG'!$B:$AT,7,0) -> 0 | I16: =VLOOKUP($B16,'[2]TK KHOILUONG'!$B:$AT,8,0) -> 0 | J16: =VLOOKUP($B16,'[2]TK KHOILUONG'!$B:$AT,9,0) -> 0 | K16: =VLOOKUP($B16,'[2]TK KHOILUONG'!$B:$AT,10,0) -> 0 | L16: =VLOOKUP($B16,'[2]TK KHOILUONG'!$B:$AT,11,0) -> 0 | M16: =VLOOKUP($B16,'[2]TK KHOILUONG'!$B:$AT,12,0) -> 0 | N16: =VLOOKUP($B16,'[2]TK KHOILUONG'!$B:$AT,13,0) -> 0 | O16: =VLOOKUP($B16,'[2]TK KHOILUONG'!$B:$AT,14,0) -> 0 | P16: =VLOOKUP($B16,'[2]TK KHOILUONG'!$B:$AT,15,0) -> 0 | Q16: =VLOOKUP($B16,'[2]TK KHOILUONG'!$B:$AT,16,0) -> 0 | R16: =VLOOKUP($B16,'[2]TK KHOILUONG'!$B:$AT,17,0) -> 0 | S16: =VLOOKUP($B16,'[2]TK KHOILUONG'!$B:$AT,18,0) -> 0 | T16: =VLOOKUP($B16,'[2]TK KHOILUONG'!$B:$AT,19,0) -> 0 | U16: =VLOOKUP($B16,'[2]TK KHOILUONG'!$B:$AT,20,0) -> 18 | V16: =VLOOKUP($B16,'[2]TK KHOILUONG'!$B:$AT,21,0) -> -1.8 | W16: =VLOOKUP($B16,'[2]TK KHOILUONG'!$B:$AT,22,0) -> 0 | X16: =VLOOKUP($B16,'[2]TK KHOILUONG'!$B:$AT,23,0) -> 0 | Y16: =VLOOKUP($B16,'[2]TK KHOILUONG'!$B:$AT,24,0) -> 0 | Z16: =VLOOKUP($B16,'[2]TK KHOILUONG'!$B:$AT,25,0) -> 0 | AA16: =VLOOKUP($B16,'[2]TK KHOILUONG'!$B:$AT,26,0) -> 0 | AB16: =VLOOKUP($B16,'[2]TK KHOILUONG'!$B:$AT,27,0) -> 0 | AC16: =VLOOKUP($B16,'[2]TK KHOILUONG'!$B:$AT,28,0) -> 0 | AD16: =VLOOKUP($B16,'[2]TK KHOILUONG'!$B:$AT,29,0) -> 0 | AE16: =VLOOKUP($B16,'[2]TK KHOILUONG'!$B:$AT,30,0) -> 0 | AF16: =VLOOKUP($B16,'[2]TK KHOILUONG'!$B:$AT,31,0) -> 0 | AG16: =VLOOKUP($B16,'[2]TK KHOILUONG'!$B:$AT,32,0) -> 0 | AH16: =VLOOKUP($B16,'[2]TK KHOILUONG'!$B:$AT,33,0) -> 0 | AI16: =VLOOKUP($B16,'[2]TK KHOILUONG'!$B:$AT,34,0) -> 0 | AJ16: =VLOOKUP($B16,'[2]TK KHOILUONG'!$B:$AT,35,0) -> 0 | AK16: =VLOOKUP($B16,'[2]TK KHOILUONG'!$B:$AT,36,0) -> 0 | AL16: =VLOOKUP($B16,'[2]TK KHOILUONG'!$B:$AT,37,0) -> 0 | AM16: =VLOOKUP($B16,'[2]TK KHOILUONG'!$B:$AT,38,0) -> 0 | AN16: =VLOOKUP($B16,'[2]TK KHOILUONG'!$B:$AT,39,0) -> 0 | AO16: =VLOOKUP($B16,'[2]TK KHOILUONG'!$B:$AT,40,0) -> 0 | AP16: =VLOOKUP($B16,'[2]TK KHOILUONG'!$B:$AT,41,0) -> 0 | AQ16: =VLOOKUP($B16,'[2]TK KHOILUONG'!$B:$AT,42,0) -> 0 | AR16: =VLOOKUP($B16,'[2]TK KHOILUONG'!$B:$AT,43,0) -> 0 | AS16: =VLOOKUP($B16,'[2]TK KHOILUONG'!$B:$AT,44,0) -> 0 | AT16: =IF(D16="","",ROUND(M16+R16+V16+Z16+AD16+AH16+AK16+AN16+AQ16+SUM(AR16:AS16),2)) -> -1.8
... A473: =IF(D473="","",SUBTOTAL(3,$D$5:D473)) -> 469 | B473: 01021002 | C473: TT Y tế | D473: Vũ Thị Thanh Nhàn | E473: =VLOOKUP($B473,'[2]TK KHOILUONG'!$B:$AT,4,0) -> 0 | F473: =VLOOKUP($B473,'[2]TK KHOILUONG'!$B:$AT,5,0) -> 0 | G473: =VLOOKUP($B473,'[2]TK KHOILUONG'!$B:$AT,6,0) -> 0 | H473: =VLOOKUP($B473,'[2]TK KHOILUONG'!$B:$AT,7,0) -> 0 | I473: =VLOOKUP($B473,'[2]TK KHOILUONG'!$B:$AT,8,0) -> 0 | J473: =VLOOKUP($B473,'[2]TK KHOILUONG'!$B:$AT,9,0) -> 0 | K473: =VLOOKUP($B473,'[2]TK KHOILUONG'!$B:$AT,10,0) -> 0 | L473: =VLOOKUP($B473,'[2]TK KHOILUONG'!$B:$AT,11,0) -> 0 | M473: =VLOOKUP($B473,'[2]TK KHOILUONG'!$B:$AT,12,0) -> 0 | N473: =VLOOKUP($B473,'[2]TK KHOILUONG'!$B:$AT,13,0) -> 0 | O473: =VLOOKUP($B473,'[2]TK KHOILUONG'!$B:$AT,14,0) -> 0 | P473: =VLOOKUP($B473,'[2]TK KHOILUONG'!$B:$AT,15,0) -> 0 | Q473: =VLOOKUP($B473,'[2]TK KHOILUONG'!$B:$AT,16,0) -> 0 | R473: =VLOOKUP($B473,'[2]TK KHOILUONG'!$B:$AT,17,0) -> 0 | S473: =VLOOKUP($B473,'[2]TK KHOILUONG'!$B:$AT,18,0) -> 0 | T473: =VLOOKUP($B473,'[2]TK KHOILUONG'!$B:$AT,19,0) -> 0 | U473: =VLOOKUP($B473,'[2]TK KHOILUONG'!$B:$AT,20,0) -> 0 | V473: =VLOOKUP($B473,'[2]TK KHOILUONG'!$B:$AT,21,0) -> 0 | W473: =VLOOKUP($B473,'[2]TK KHOILUONG'!$B:$AT,22,0) -> 0 | X473: =VLOOKUP($B473,'[2]TK KHOILUONG'!$B:$AT,23,0) -> 0 | Y473: =VLOOKUP($B473,'[2]TK KHOILUONG'!$B:$AT,24,0) -> 0 | Z473: =VLOOKUP($B473,'[2]TK KHOILUONG'!$B:$AT,25,0) -> 0 | AA473: =VLOOKUP($B473,'[2]TK KHOILUONG'!$B:$AT,26,0) -> 0 | AB473: =VLOOKUP($B473,'[2]TK KHOILUONG'!$B:$AT,27,0) -> 0 | AC473: =VLOOKUP($B473,'[2]TK KHOILUONG'!$B:$AT,28,0) -> 0 | AD473: =VLOOKUP($B473,'[2]TK KHOILUONG'!$B:$AT,29,0) -> 0 | AE473: =VLOOKUP($B473,'[2]TK KHOILUONG'!$B:$AT,30,0) -> 0 | AF473: =VLOOKUP($B473,'[2]TK KHOILUONG'!$B:$AT,31,0) -> 0 | AG473: =VLOOKUP($B473,'[2]TK KHOILUONG'!$B:$AT,32,0) -> 0 | AH473: =VLOOKUP($B473,'[2]TK KHOILUONG'!$B:$AT,33,0) -> 0 | AI473: =VLOOKUP($B473,'[2]TK KHOILUONG'!$B:$AT,34,0) -> 0 | AJ473: =VLOOKUP($B473,'[2]TK KHOILUONG'!$B:$AT,35,0) -> 0 | AK473: =VLOOKUP($B473,'[2]TK KHOILUONG'!$B:$AT,36,0) -> 0 | AL473: =VLOOKUP($B473,'[2]TK KHOILUONG'!$B:$AT,37,0) -> 0 | AM473: =VLOOKUP($B473,'[2]TK KHOILUONG'!$B:$AT,38,0) -> 0 | AN473: =VLOOKUP($B473,'[2]TK KHOILUONG'!$B:$AT,39,0) -> 0 | AO473: =VLOOKUP($B473,'[2]TK KHOILUONG'!$B:$AT,40,0) -> 0 | AP473: =VLOOKUP($B473,'[2]TK KHOILUONG'!$B:$AT,41,0) -> 0 | AQ473: =VLOOKUP($B473,'[2]TK KHOILUONG'!$B:$AT,42,0) -> 0 | AR473: =VLOOKUP($B473,'[2]TK KHOILUONG'!$B:$AT,43,0) -> 0 | AS473: =VLOOKUP($B473,'[2]TK KHOILUONG'!$B:$AT,44,0) -> 0 | AT473: =IF(D473="","",ROUND(M473+R473+V473+Z473+AD473+AH473+AK473+AN473+AQ473+SUM(AR473:AS473),2)) -> 0
A474: =IF(D474="","",SUBTOTAL(3,$D$5:D474)) | E474: =VLOOKUP($B474,'[2]TK KHOILUONG'!$B:$AT,4,0) -> #N/A | F474: =VLOOKUP($B474,'[2]TK KHOILUONG'!$B:$AT,5,0) -> #N/A | G474: =VLOOKUP($B474,'[2]TK KHOILUONG'!$B:$AT,6,0) -> #N/A | H474: =VLOOKUP($B474,'[2]TK KHOILUONG'!$B:$AT,7,0) -> #N/A | I474: =VLOOKUP($B474,'[2]TK KHOILUONG'!$B:$AT,8,0) -> #N/A | J474: =VLOOKUP($B474,'[2]TK KHOILUONG'!$B:$AT,9,0) -> #N/A | K474: =VLOOKUP($B474,'[2]TK KHOILUONG'!$B:$AT,10,0) -> #N/A | L474: =VLOOKUP($B474,'[2]TK KHOILUONG'!$B:$AT,11,0) -> #N/A | M474: =VLOOKUP($B474,'[2]TK KHOILUONG'!$B:$AT,12,0) -> #N/A | N474: =VLOOKUP($B474,'[2]TK KHOILUONG'!$B:$AT,13,0) -> #N/A | O474: =VLOOKUP($B474,'[2]TK KHOILUONG'!$B:$AT,14,0) -> #N/A | P474: =VLOOKUP($B474,'[2]TK KHOILUONG'!$B:$AT,15,0) -> #N/A | Q474: =VLOOKUP($B474,'[2]TK KHOILUONG'!$B:$AT,16,0) -> #N/A | R474: =VLOOKUP($B474,'[2]TK KHOILUONG'!$B:$AT,17,0) -> #N/A | S474: =VLOOKUP($B474,'[2]TK KHOILUONG'!$B:$AT,18,0) -> #N/A | T474: =VLOOKUP($B474,'[2]TK KHOILUONG'!$B:$AT,19,0) -> #N/A | U474: =VLOOKUP($B474,'[2]TK KHOILUONG'!$B:$AT,20,0) -> #N/A | V474: =VLOOKUP($B474,'[2]TK KHOILUONG'!$B:$AT,21,0) -> #N/A | W474: =VLOOKUP($B474,'[2]TK KHOILUONG'!$B:$AT,22,0) -> #N/A | X474: =VLOOKUP($B474,'[2]TK KHOILUONG'!$B:$AT,23,0) -> #N/A | Y474: =VLOOKUP($B474,'[2]TK KHOILUONG'!$B:$AT,24,0) -> #N/A | Z474: =VLOOKUP($B474,'[2]TK KHOILUONG'!$B:$AT,25,0) -> #N/A | AA474: =VLOOKUP($B474,'[2]TK KHOILUONG'!$B:$AT,26,0) -> #N/A | AB474: =VLOOKUP($B474,'[2]TK KHOILUONG'!$B:$AT,27,0) -> #N/A | AC474: =VLOOKUP($B474,'[2]TK KHOILUONG'!$B:$AT,28,0) -> #N/A | AD474: =VLOOKUP($B474,'[2]TK KHOILUONG'!$B:$AT,29,0) -> #N/A | AE474: =VLOOKUP($B474,'[2]TK KHOILUONG'!$B:$AT,30,0) -> #N/A | AF474: =VLOOKUP($B474,'[2]TK KHOILUONG'!$B:$AT,31,0) -> #N/A | AG474: =VLOOKUP($B474,'[2]TK KHOILUONG'!$B:$AT,32,0) -> #N/A | AH474: =VLOOKUP($B474,'[2]TK KHOILUONG'!$B:$AT,33,0) -> #N/A | AI474: =VLOOKUP($B474,'[2]TK KHOILUONG'!$B:$AT,34,0) -> #N/A | AJ474: =VLOOKUP($B474,'[2]TK KHOILUONG'!$B:$AT,35,0) -> #N/A | AK474: =VLOOKUP($B474,'[2]TK KHOILUONG'!$B:$AT,36,0) -> #N/A | AL474: =VLOOKUP($B474,'[2]TK KHOILUONG'!$B:$AT,37,0) -> #N/A | AM474: =VLOOKUP($B474,'[2]TK KHOILUONG'!$B:$AT,38,0) -> #N/A | AN474: =VLOOKUP($B474,'[2]TK KHOILUONG'!$B:$AT,39,0) -> #N/A | AO474: =VLOOKUP($B474,'[2]TK KHOILUONG'!$B:$AT,40,0) -> #N/A | AP474: =VLOOKUP($B474,'[2]TK KHOILUONG'!$B:$AT,41,0) -> #N/A | AQ474: =VLOOKUP($B474,'[2]TK KHOILUONG'!$B:$AT,42,0) -> #N/A | AR474: =VLOOKUP($B474,'[2]TK KHOILUONG'!$B:$AT,43,0) -> #N/A | AS474: =VLOOKUP($B474,'[2]TK KHOILUONG'!$B:$AT,44,0) -> #N/A | AT474: =IF(D474="","",ROUND(M474+R474+V474+Z474+AD474+AH474+AK474+AN474+AQ474+SUM(AR474:AS474),2))
A475: =IF(D475="","",SUBTOTAL(3,$D$5:D475)) | E475: =VLOOKUP($B475,'[2]TK KHOILUONG'!$B:$AT,4,0) -> #N/A | F475: =VLOOKUP($B475,'[2]TK KHOILUONG'!$B:$AT,5,0) -> #N/A | G475: =VLOOKUP($B475,'[2]TK KHOILUONG'!$B:$AT,6,0) -> #N/A | H475: =VLOOKUP($B475,'[2]TK KHOILUONG'!$B:$AT,7,0) -> #N/A | I475: =VLOOKUP($B475,'[2]TK KHOILUONG'!$B:$AT,8,0) -> #N/A | J475: =VLOOKUP($B475,'[2]TK KHOILUONG'!$B:$AT,9,0) -> #N/A | K475: =VLOOKUP($B475,'[2]TK KHOILUONG'!$B:$AT,10,0) -> #N/A | L475: =VLOOKUP($B475,'[2]TK KHOILUONG'!$B:$AT,11,0) -> #N/A | M475: =VLOOKUP($B475,'[2]TK KHOILUONG'!$B:$AT,12,0) -> #N/A | N475: =VLOOKUP($B475,'[2]TK KHOILUONG'!$B:$AT,13,0) -> #N/A | O475: =VLOOKUP($B475,'[2]TK KHOILUONG'!$B:$AT,14,0) -> #N/A | P475: =VLOOKUP($B475,'[2]TK KHOILUONG'!$B:$AT,15,0) -> #N/A | Q475: =VLOOKUP($B475,'[2]TK KHOILUONG'!$B:$AT,16,0) -> #N/A | R475: =VLOOKUP($B475,'[2]TK KHOILUONG'!$B:$AT,17,0) -> #N/A | S475: =VLOOKUP($B475,'[2]TK KHOILUONG'!$B:$AT,18,0) -> #N/A | T475: =VLOOKUP($B475,'[2]TK KHOILUONG'!$B:$AT,19,0) -> #N/A | U475: =VLOOKUP($B475,'[2]TK KHOILUONG'!$B:$AT,20,0) -> #N/A | V475: =VLOOKUP($B475,'[2]TK KHOILUONG'!$B:$AT,21,0) -> #N/A | W475: =VLOOKUP($B475,'[2]TK KHOILUONG'!$B:$AT,22,0) -> #N/A | X475: =VLOOKUP($B475,'[2]TK KHOILUONG'!$B:$AT,23,0) -> #N/A | Y475: =VLOOKUP($B475,'[2]TK KHOILUONG'!$B:$AT,24,0) -> #N/A | Z475: =VLOOKUP($B475,'[2]TK KHOILUONG'!$B:$AT,25,0) -> #N/A | AA475: =VLOOKUP($B475,'[2]TK KHOILUONG'!$B:$AT,26,0) -> #N/A | AB475: =VLOOKUP($B475,'[2]TK KHOILUONG'!$B:$AT,27,0) -> #N/A | AC475: =VLOOKUP($B475,'[2]TK KHOILUONG'!$B:$AT,28,0) -> #N/A | AD475: =VLOOKUP($B475,'[2]TK KHOILUONG'!$B:$AT,29,0) -> #N/A | AE475: =VLOOKUP($B475,'[2]TK KHOILUONG'!$B:$AT,30,0) -> #N/A | AF475: =VLOOKUP($B475,'[2]TK KHOILUONG'!$B:$AT,31,0) -> #N/A | AG475: =VLOOKUP($B475,'[2]TK KHOILUONG'!$B:$AT,32,0) -> #N/A | AH475: =VLOOKUP($B475,'[2]TK KHOILUONG'!$B:$AT,33,0) -> #N/A | AI475: =VLOOKUP($B475,'[2]TK KHOILUONG'!$B:$AT,34,0) -> #N/A | AJ475: =VLOOKUP($B475,'[2]TK KHOILUONG'!$B:$AT,35,0) -> #N/A | AK475: =VLOOKUP($B475,'[2]TK KHOILUONG'!$B:$AT,36,0) -> #N/A | AL475: =VLOOKUP($B475,'[2]TK KHOILUONG'!$B:$AT,37,0) -> #N/A | AM475: =VLOOKUP($B475,'[2]TK KHOILUONG'!$B:$AT,38,0) -> #N/A | AN475: =VLOOKUP($B475,'[2]TK KHOILUONG'!$B:$AT,39,0) -> #N/A | AO475: =VLOOKUP($B475,'[2]TK KHOILUONG'!$B:$AT,40,0) -> #N/A | AP475: =VLOOKUP($B475,'[2]TK KHOILUONG'!$B:$AT,41,0) -> #N/A | AQ475: =VLOOKUP($B475,'[2]TK KHOILUONG'!$B:$AT,42,0) -> #N/A | AR475: =VLOOKUP($B475,'[2]TK KHOILUONG'!$B:$AT,43,0) -> #N/A | AS475: =VLOOKUP($B475,'[2]TK KHOILUONG'!$B:$AT,44,0) -> #N/A | AT475: =IF(D475="","",ROUND(M475+R475+V475+Z475+AD475+AH475+AK475+AN475+AQ475+SUM(AR475:AS475),2))
A476: =IF(D476="","",SUBTOTAL(3,$D$5:D476)) | E476: =VLOOKUP($B476,'[2]TK KHOILUONG'!$B:$AT,4,0) -> #N/A | F476: =VLOOKUP($B476,'[2]TK KHOILUONG'!$B:$AT,5,0) -> #N/A | G476: =VLOOKUP($B476,'[2]TK KHOILUONG'!$B:$AT,6,0) -> #N/A | H476: =VLOOKUP($B476,'[2]TK KHOILUONG'!$B:$AT,7,0) -> #N/A | I476: =VLOOKUP($B476,'[2]TK KHOILUONG'!$B:$AT,8,0) -> #N/A | J476: =VLOOKUP($B476,'[2]TK KHOILUONG'!$B:$AT,9,0) -> #N/A | K476: =VLOOKUP($B476,'[2]TK KHOILUONG'!$B:$AT,10,0) -> #N/A | L476: =VLOOKUP($B476,'[2]TK KHOILUONG'!$B:$AT,11,0) -> #N/A | M476: =VLOOKUP($B476,'[2]TK KHOILUONG'!$B:$AT,12,0) -> #N/A | N476: =VLOOKUP($B476,'[2]TK KHOILUONG'!$B:$AT,13,0) -> #N/A | O476: =VLOOKUP($B476,'[2]TK KHOILUONG'!$B:$AT,14,0) -> #N/A | P476: =VLOOKUP($B476,'[2]TK KHOILUONG'!$B:$AT,15,0) -> #N/A | Q476: =VLOOKUP($B476,'[2]TK KHOILUONG'!$B:$AT,16,0) -> #N/A | R476: =VLOOKUP($B476,'[2]TK KHOILUONG'!$B:$AT,17,0) -> #N/A | S476: =VLOOKUP($B476,'[2]TK KHOILUONG'!$B:$AT,18,0) -> #N/A | T476: =VLOOKUP($B476,'[2]TK KHOILUONG'!$B:$AT,19,0) -> #N/A | U476: =VLOOKUP($B476,'[2]TK KHOILUONG'!$B:$AT,20,0) -> #N/A | V476: =VLOOKUP($B476,'[2]TK KHOILUONG'!$B:$AT,21,0) -> #N/A | W476: =VLOOKUP($B476,'[2]TK KHOILUONG'!$B:$AT,22,0) -> #N/A | X476: =VLOOKUP($B476,'[2]TK KHOILUONG'!$B:$AT,23,0) -> #N/A | Y476: =VLOOKUP($B476,'[2]TK KHOILUONG'!$B:$AT,24,0) -> #N/A | Z476: =VLOOKUP($B476,'[2]TK KHOILUONG'!$B:$AT,25,0) -> #N/A | AA476: =VLOOKUP($B476,'[2]TK KHOILUONG'!$B:$AT,26,0) -> #N/A | AB476: =VLOOKUP($B476,'[2]TK KHOILUONG'!$B:$AT,27,0) -> #N/A | AC476: =VLOOKUP($B476,'[2]TK KHOILUONG'!$B:$AT,28,0) -> #N/A | AD476: =VLOOKUP($B476,'[2]TK KHOILUONG'!$B:$AT,29,0) -> #N/A | AE476: =VLOOKUP($B476,'[2]TK KHOILUONG'!$B:$AT,30,0) -> #N/A | AF476: =VLOOKUP($B476,'[2]TK KHOILUONG'!$B:$AT,31,0) -> #N/A | AG476: =VLOOKUP($B476,'[2]TK KHOILUONG'!$B:$AT,32,0) -> #N/A | AH476: =VLOOKUP($B476,'[2]TK KHOILUONG'!$B:$AT,33,0) -> #N/A | AI476: =VLOOKUP($B476,'[2]TK KHOILUONG'!$B:$AT,34,0) -> #N/A | AJ476: =VLOOKUP($B476,'[2]TK KHOILUONG'!$B:$AT,35,0) -> #N/A | AK476: =VLOOKUP($B476,'[2]TK KHOILUONG'!$B:$AT,36,0) -> #N/A | AL476: =VLOOKUP($B476,'[2]TK KHOILUONG'!$B:$AT,37,0) -> #N/A | AM476: =VLOOKUP($B476,'[2]TK KHOILUONG'!$B:$AT,38,0) -> #N/A | AN476: =VLOOKUP($B476,'[2]TK KHOILUONG'!$B:$AT,39,0) -> #N/A | AO476: =VLOOKUP($B476,'[2]TK KHOILUONG'!$B:$AT,40,0) -> #N/A | AP476: =VLOOKUP($B476,'[2]TK KHOILUONG'!$B:$AT,41,0) -> #N/A | AQ476: =VLOOKUP($B476,'[2]TK KHOILUONG'!$B:$AT,42,0) -> #N/A | AR476: =VLOOKUP($B476,'[2]TK KHOILUONG'!$B:$AT,43,0) -> #N/A | AS476: =VLOOKUP($B476,'[2]TK KHOILUONG'!$B:$AT,44,0) -> #N/A | AT476: =IF(D476="","",ROUND(M476+R476+V476+Z476+AD476+AH476+AK476+AN476+AQ476+SUM(AR476:AS476),2))
A477: =IF(D477="","",SUBTOTAL(3,$D$5:D477)) | E477: =VLOOKUP($B477,'[2]TK KHOILUONG'!$B:$AT,4,0) -> #N/A | F477: =VLOOKUP($B477,'[2]TK KHOILUONG'!$B:$AT,5,0) -> #N/A | G477: =VLOOKUP($B477,'[2]TK KHOILUONG'!$B:$AT,6,0) -> #N/A | H477: =VLOOKUP($B477,'[2]TK KHOILUONG'!$B:$AT,7,0) -> #N/A | I477: =VLOOKUP($B477,'[2]TK KHOILUONG'!$B:$AT,8,0) -> #N/A | J477: =VLOOKUP($B477,'[2]TK KHOILUONG'!$B:$AT,9,0) -> #N/A | K477: =VLOOKUP($B477,'[2]TK KHOILUONG'!$B:$AT,10,0) -> #N/A | L477: =VLOOKUP($B477,'[2]TK KHOILUONG'!$B:$AT,11,0) -> #N/A | M477: =VLOOKUP($B477,'[2]TK KHOILUONG'!$B:$AT,12,0) -> #N/A | N477: =VLOOKUP($B477,'[2]TK KHOILUONG'!$B:$AT,13,0) -> #N/A | O477: =VLOOKUP($B477,'[2]TK KHOILUONG'!$B:$AT,14,0) -> #N/A | P477: =VLOOKUP($B477,'[2]TK KHOILUONG'!$B:$AT,15,0) -> #N/A | Q477: =VLOOKUP($B477,'[2]TK KHOILUONG'!$B:$AT,16,0) -> #N/A | R477: =VLOOKUP($B477,'[2]TK KHOILUONG'!$B:$AT,17,0) -> #N/A | S477: =VLOOKUP($B477,'[2]TK KHOILUONG'!$B:$AT,18,0) -> #N/A | T477: =VLOOKUP($B477,'[2]TK KHOILUONG'!$B:$AT,19,0) -> #N/A | U477: =VLOOKUP($B477,'[2]TK KHOILUONG'!$B:$AT,20,0) -> #N/A | V477: =VLOOKUP($B477,'[2]TK KHOILUONG'!$B:$AT,21,0) -> #N/A | W477: =VLOOKUP($B477,'[2]TK KHOILUONG'!$B:$AT,22,0) -> #N/A | X477: =VLOOKUP($B477,'[2]TK KHOILUONG'!$B:$AT,23,0) -> #N/A | Y477: =VLOOKUP($B477,'[2]TK KHOILUONG'!$B:$AT,24,0) -> #N/A | Z477: =VLOOKUP($B477,'[2]TK KHOILUONG'!$B:$AT,25,0) -> #N/A | AA477: =VLOOKUP($B477,'[2]TK KHOILUONG'!$B:$AT,26,0) -> #N/A | AB477: =VLOOKUP($B477,'[2]TK KHOILUONG'!$B:$AT,27,0) -> #N/A | AC477: =VLOOKUP($B477,'[2]TK KHOILUONG'!$B:$AT,28,0) -> #N/A | AD477: =VLOOKUP($B477,'[2]TK KHOILUONG'!$B:$AT,29,0) -> #N/A | AE477: =VLOOKUP($B477,'[2]TK KHOILUONG'!$B:$AT,30,0) -> #N/A | AF477: =VLOOKUP($B477,'[2]TK KHOILUONG'!$B:$AT,31,0) -> #N/A | AG477: =VLOOKUP($B477,'[2]TK KHOILUONG'!$B:$AT,32,0) -> #N/A | AH477: =VLOOKUP($B477,'[2]TK KHOILUONG'!$B:$AT,33,0) -> #N/A | AI477: =VLOOKUP($B477,'[2]TK KHOILUONG'!$B:$AT,34,0) -> #N/A | AJ477: =VLOOKUP($B477,'[2]TK KHOILUONG'!$B:$AT,35,0) -> #N/A | AK477: =VLOOKUP($B477,'[2]TK KHOILUONG'!$B:$AT,36,0) -> #N/A | AL477: =VLOOKUP($B477,'[2]TK KHOILUONG'!$B:$AT,37,0) -> #N/A | AM477: =VLOOKUP($B477,'[2]TK KHOILUONG'!$B:$AT,38,0) -> #N/A | AN477: =VLOOKUP($B477,'[2]TK KHOILUONG'!$B:$AT,39,0) -> #N/A | AO477: =VLOOKUP($B477,'[2]TK KHOILUONG'!$B:$AT,40,0) -> #N/A | AP477: =VLOOKUP($B477,'[2]TK KHOILUONG'!$B:$AT,41,0) -> #N/A | AQ477: =VLOOKUP($B477,'[2]TK KHOILUONG'!$B:$AT,42,0) -> #N/A | AR477: =VLOOKUP($B477,'[2]TK KHOILUONG'!$B:$AT,43,0) -> #N/A | AS477: =VLOOKUP($B477,'[2]TK KHOILUONG'!$B:$AT,44,0) -> #N/A | AT477: =IF(D477="","",ROUND(M477+R477+V477+Z477+AD477+AH477+AK477+AN477+AQ477+SUM(AR477:AS477),2))
A478: =IF(D478="","",SUBTOTAL(3,$D$5:D478)) | E478: =VLOOKUP($B478,'[2]TK KHOILUONG'!$B:$AT,4,0) -> #N/A | F478: =VLOOKUP($B478,'[2]TK KHOILUONG'!$B:$AT,5,0) -> #N/A | G478: =VLOOKUP($B478,'[2]TK KHOILUONG'!$B:$AT,6,0) -> #N/A | H478: =VLOOKUP($B478,'[2]TK KHOILUONG'!$B:$AT,7,0) -> #N/A | I478: =VLOOKUP($B478,'[2]TK KHOILUONG'!$B:$AT,8,0) -> #N/A | J478: =VLOOKUP($B478,'[2]TK KHOILUONG'!$B:$AT,9,0) -> #N/A | K478: =VLOOKUP($B478,'[2]TK KHOILUONG'!$B:$AT,10,0) -> #N/A | L478: =VLOOKUP($B478,'[2]TK KHOILUONG'!$B:$AT,11,0) -> #N/A | M478: =VLOOKUP($B478,'[2]TK KHOILUONG'!$B:$AT,12,0) -> #N/A | N478: =VLOOKUP($B478,'[2]TK KHOILUONG'!$B:$AT,13,0) -> #N/A | O478: =VLOOKUP($B478,'[2]TK KHOILUONG'!$B:$AT,14,0) -> #N/A | P478: =VLOOKUP($B478,'[2]TK KHOILUONG'!$B:$AT,15,0) -> #N/A | Q478: =VLOOKUP($B478,'[2]TK KHOILUONG'!$B:$AT,16,0) -> #N/A | R478: =VLOOKUP($B478,'[2]TK KHOILUONG'!$B:$AT,17,0) -> #N/A | S478: =VLOOKUP($B478,'[2]TK KHOILUONG'!$B:$AT,18,0) -> #N/A | T478: =VLOOKUP($B478,'[2]TK KHOILUONG'!$B:$AT,19,0) -> #N/A | U478: =VLOOKUP($B478,'[2]TK KHOILUONG'!$B:$AT,20,0) -> #N/A | V478: =VLOOKUP($B478,'[2]TK KHOILUONG'!$B:$AT,21,0) -> #N/A | W478: =VLOOKUP($B478,'[2]TK KHOILUONG'!$B:$AT,22,0) -> #N/A | X478: =VLOOKUP($B478,'[2]TK KHOILUONG'!$B:$AT,23,0) -> #N/A | Y478: =VLOOKUP($B478,'[2]TK KHOILUONG'!$B:$AT,24,0) -> #N/A | Z478: =VLOOKUP($B478,'[2]TK KHOILUONG'!$B:$AT,25,0) -> #N/A | AA478: =VLOOKUP($B478,'[2]TK KHOILUONG'!$B:$AT,26,0) -> #N/A | AB478: =VLOOKUP($B478,'[2]TK KHOILUONG'!$B:$AT,27,0) -> #N/A | AC478: =VLOOKUP($B478,'[2]TK KHOILUONG'!$B:$AT,28,0) -> #N/A | AD478: =VLOOKUP($B478,'[2]TK KHOILUONG'!$B:$AT,29,0) -> #N/A | AE478: =VLOOKUP($B478,'[2]TK KHOILUONG'!$B:$AT,30,0) -> #N/A | AF478: =VLOOKUP($B478,'[2]TK KHOILUONG'!$B:$AT,31,0) -> #N/A | AG478: =VLOOKUP($B478,'[2]TK KHOILUONG'!$B:$AT,32,0) -> #N/A | AH478: =VLOOKUP($B478,'[2]TK KHOILUONG'!$B:$AT,33,0) -> #N/A | AI478: =VLOOKUP($B478,'[2]TK KHOILUONG'!$B:$AT,34,0) -> #N/A | AJ478: =VLOOKUP($B478,'[2]TK KHOILUONG'!$B:$AT,35,0) -> #N/A | AK478: =VLOOKUP($B478,'[2]TK KHOILUONG'!$B:$AT,36,0) -> #N/A | AL478: =VLOOKUP($B478,'[2]TK KHOILUONG'!$B:$AT,37,0) -> #N/A | AM478: =VLOOKUP($B478,'[2]TK KHOILUONG'!$B:$AT,38,0) -> #N/A | AN478: =VLOOKUP($B478,'[2]TK KHOILUONG'!$B:$AT,39,0) -> #N/A | AO478: =VLOOKUP($B478,'[2]TK KHOILUONG'!$B:$AT,40,0) -> #N/A | AP478: =VLOOKUP($B478,'[2]TK KHOILUONG'!$B:$AT,41,0) -> #N/A | AQ478: =VLOOKUP($B478,'[2]TK KHOILUONG'!$B:$AT,42,0) -> #N/A | AR478: =VLOOKUP($B478,'[2]TK KHOILUONG'!$B:$AT,43,0) -> #N/A | AS478: =VLOOKUP($B478,'[2]TK KHOILUONG'!$B:$AT,44,0) -> #N/A | AT478: =IF(D478="","",ROUND(M478+R478+V478+Z478+AD478+AH478+AK478+AN478+AQ478+SUM(AR478:AS478),2))
A479: =IF(D479="","",SUBTOTAL(3,$D$5:D479)) | E479: =VLOOKUP($B479,'[2]TK KHOILUONG'!$B:$AT,4,0) -> #N/A | F479: =VLOOKUP($B479,'[2]TK KHOILUONG'!$B:$AT,5,0) -> #N/A | G479: =VLOOKUP($B479,'[2]TK KHOILUONG'!$B:$AT,6,0) -> #N/A | H479: =VLOOKUP($B479,'[2]TK KHOILUONG'!$B:$AT,7,0) -> #N/A | I479: =VLOOKUP($B479,'[2]TK KHOILUONG'!$B:$AT,8,0) -> #N/A | J479: =VLOOKUP($B479,'[2]TK KHOILUONG'!$B:$AT,9,0) -> #N/A | K479: =VLOOKUP($B479,'[2]TK KHOILUONG'!$B:$AT,10,0) -> #N/A | L479: =VLOOKUP($B479,'[2]TK KHOILUONG'!$B:$AT,11,0) -> #N/A | M479: =VLOOKUP($B479,'[2]TK KHOILUONG'!$B:$AT,12,0) -> #N/A | N479: =VLOOKUP($B479,'[2]TK KHOILUONG'!$B:$AT,13,0) -> #N/A | O479: =VLOOKUP($B479,'[2]TK KHOILUONG'!$B:$AT,14,0) -> #N/A | P479: =VLOOKUP($B479,'[2]TK KHOILUONG'!$B:$AT,15,0) -> #N/A | Q479: =VLOOKUP($B479,'[2]TK KHOILUONG'!$B:$AT,16,0) -> #N/A | R479: =VLOOKUP($B479,'[2]TK KHOILUONG'!$B:$AT,17,0) -> #N/A | S479: =VLOOKUP($B479,'[2]TK KHOILUONG'!$B:$AT,18,0) -> #N/A | T479: =VLOOKUP($B479,'[2]TK KHOILUONG'!$B:$AT,19,0) -> #N/A | U479: =VLOOKUP($B479,'[2]TK KHOILUONG'!$B:$AT,20,0) -> #N/A | V479: =VLOOKUP($B479,'[2]TK KHOILUONG'!$B:$AT,21,0) -> #N/A | W479: =VLOOKUP($B479,'[2]TK KHOILUONG'!$B:$AT,22,0) -> #N/A | X479: =VLOOKUP($B479,'[2]TK KHOILUONG'!$B:$AT,23,0) -> #N/A | Y479: =VLOOKUP($B479,'[2]TK KHOILUONG'!$B:$AT,24,0) -> #N/A | Z479: =VLOOKUP($B479,'[2]TK KHOILUONG'!$B:$AT,25,0) -> #N/A | AA479: =VLOOKUP($B479,'[2]TK KHOILUONG'!$B:$AT,26,0) -> #N/A | AB479: =VLOOKUP($B479,'[2]TK KHOILUONG'!$B:$AT,27,0) -> #N/A | AC479: =VLOOKUP($B479,'[2]TK KHOILUONG'!$B:$AT,28,0) -> #N/A | AD479: =VLOOKUP($B479,'[2]TK KHOILUONG'!$B:$AT,29,0) -> #N/A | AE479: =VLOOKUP($B479,'[2]TK KHOILUONG'!$B:$AT,30,0) -> #N/A | AF479: =VLOOKUP($B479,'[2]TK KHOILUONG'!$B:$AT,31,0) -> #N/A | AG479: =VLOOKUP($B479,'[2]TK KHOILUONG'!$B:$AT,32,0) -> #N/A | AH479: =VLOOKUP($B479,'[2]TK KHOILUONG'!$B:$AT,33,0) -> #N/A | AI479: =VLOOKUP($B479,'[2]TK KHOILUONG'!$B:$AT,34,0) -> #N/A | AJ479: =VLOOKUP($B479,'[2]TK KHOILUONG'!$B:$AT,35,0) -> #N/A | AK479: =VLOOKUP($B479,'[2]TK KHOILUONG'!$B:$AT,36,0) -> #N/A | AL479: =VLOOKUP($B479,'[2]TK KHOILUONG'!$B:$AT,37,0) -> #N/A | AM479: =VLOOKUP($B479,'[2]TK KHOILUONG'!$B:$AT,38,0) -> #N/A | AN479: =VLOOKUP($B479,'[2]TK KHOILUONG'!$B:$AT,39,0) -> #N/A | AO479: =VLOOKUP($B479,'[2]TK KHOILUONG'!$B:$AT,40,0) -> #N/A | AP479: =VLOOKUP($B479,'[2]TK KHOILUONG'!$B:$AT,41,0) -> #N/A | AQ479: =VLOOKUP($B479,'[2]TK KHOILUONG'!$B:$AT,42,0) -> #N/A | AR479: =VLOOKUP($B479,'[2]TK KHOILUONG'!$B:$AT,43,0) -> #N/A | AS479: =VLOOKUP($B479,'[2]TK KHOILUONG'!$B:$AT,44,0) -> #N/A | AT479: =IF(D479="","",ROUND(M479+R479+V479+Z479+AD479+AH479+AK479+AN479+AQ479+SUM(AR479:AS479),2))
A480: =IF(D480="","",SUBTOTAL(3,$D$5:D480)) | E480: =VLOOKUP($B480,'[2]TK KHOILUONG'!$B:$AT,4,0) -> #N/A | F480: =VLOOKUP($B480,'[2]TK KHOILUONG'!$B:$AT,5,0) -> #N/A | G480: =VLOOKUP($B480,'[2]TK KHOILUONG'!$B:$AT,6,0) -> #N/A | H480: =VLOOKUP($B480,'[2]TK KHOILUONG'!$B:$AT,7,0) -> #N/A | I480: =VLOOKUP($B480,'[2]TK KHOILUONG'!$B:$AT,8,0) -> #N/A | J480: =VLOOKUP($B480,'[2]TK KHOILUONG'!$B:$AT,9,0) -> #N/A | K480: =VLOOKUP($B480,'[2]TK KHOILUONG'!$B:$AT,10,0) -> #N/A | L480: =VLOOKUP($B480,'[2]TK KHOILUONG'!$B:$AT,11,0) -> #N/A | M480: =VLOOKUP($B480,'[2]TK KHOILUONG'!$B:$AT,12,0) -> #N/A | N480: =VLOOKUP($B480,'[2]TK KHOILUONG'!$B:$AT,13,0) -> #N/A | O480: =VLOOKUP($B480,'[2]TK KHOILUONG'!$B:$AT,14,0) -> #N/A | P480: =VLOOKUP($B480,'[2]TK KHOILUONG'!$B:$AT,15,0) -> #N/A | Q480: =VLOOKUP($B480,'[2]TK KHOILUONG'!$B:$AT,16,0) -> #N/A | R480: =VLOOKUP($B480,'[2]TK KHOILUONG'!$B:$AT,17,0) -> #N/A | S480: =VLOOKUP($B480,'[2]TK KHOILUONG'!$B:$AT,18,0) -> #N/A | T480: =VLOOKUP($B480,'[2]TK KHOILUONG'!$B:$AT,19,0) -> #N/A | U480: =VLOOKUP($B480,'[2]TK KHOILUONG'!$B:$AT,20,0) -> #N/A | V480: =VLOOKUP($B480,'[2]TK KHOILUONG'!$B:$AT,21,0) -> #N/A | W480: =VLOOKUP($B480,'[2]TK KHOILUONG'!$B:$AT,22,0) -> #N/A | X480: =VLOOKUP($B480,'[2]TK KHOILUONG'!$B:$AT,23,0) -> #N/A | Y480: =VLOOKUP($B480,'[2]TK KHOILUONG'!$B:$AT,24,0) -> #N/A | Z480: =VLOOKUP($B480,'[2]TK KHOILUONG'!$B:$AT,25,0) -> #N/A | AA480: =VLOOKUP($B480,'[2]TK KHOILUONG'!$B:$AT,26,0) -> #N/A | AB480: =VLOOKUP($B480,'[2]TK KHOILUONG'!$B:$AT,27,0) -> #N/A | AC480: =VLOOKUP($B480,'[2]TK KHOILUONG'!$B:$AT,28,0) -> #N/A | AD480: =VLOOKUP($B480,'[2]TK KHOILUONG'!$B:$AT,29,0) -> #N/A | AE480: =VLOOKUP($B480,'[2]TK KHOILUONG'!$B:$AT,30,0) -> #N/A | AF480: =VLOOKUP($B480,'[2]TK KHOILUONG'!$B:$AT,31,0) -> #N/A | AG480: =VLOOKUP($B480,'[2]TK KHOILUONG'!$B:$AT,32,0) -> #N/A | AH480: =VLOOKUP($B480,'[2]TK KHOILUONG'!$B:$AT,33,0) -> #N/A | AI480: =VLOOKUP($B480,'[2]TK KHOILUONG'!$B:$AT,34,0) -> #N/A | AJ480: =VLOOKUP($B480,'[2]TK KHOILUONG'!$B:$AT,35,0) -> #N/A | AK480: =VLOOKUP($B480,'[2]TK KHOILUONG'!$B:$AT,36,0) -> #N/A | AL480: =VLOOKUP($B480,'[2]TK KHOILUONG'!$B:$AT,37,0) -> #N/A | AM480: =VLOOKUP($B480,'[2]TK KHOILUONG'!$B:$AT,38,0) -> #N/A | AN480: =VLOOKUP($B480,'[2]TK KHOILUONG'!$B:$AT,39,0) -> #N/A | AO480: =VLOOKUP($B480,'[2]TK KHOILUONG'!$B:$AT,40,0) -> #N/A | AP480: =VLOOKUP($B480,'[2]TK KHOILUONG'!$B:$AT,41,0) -> #N/A | AQ480: =VLOOKUP($B480,'[2]TK KHOILUONG'!$B:$AT,42,0) -> #N/A | AR480: =VLOOKUP($B480,'[2]TK KHOILUONG'!$B:$AT,43,0) -> #N/A | AS480: =VLOOKUP($B480,'[2]TK KHOILUONG'!$B:$AT,44,0) -> #N/A | AT480: =IF(D480="","",ROUND(M480+R480+V480+Z480+AD480+AH480+AK480+AN480+AQ480+SUM(AR480:AS480),2))
A481: =IF(D481="","",SUBTOTAL(3,$D$5:D481)) | E481: =VLOOKUP($B481,'[2]TK KHOILUONG'!$B:$AT,4,0) -> #N/A | F481: =VLOOKUP($B481,'[2]TK KHOILUONG'!$B:$AT,5,0) -> #N/A | G481: =VLOOKUP($B481,'[2]TK KHOILUONG'!$B:$AT,6,0) -> #N/A | H481: =VLOOKUP($B481,'[2]TK KHOILUONG'!$B:$AT,7,0) -> #N/A | I481: =VLOOKUP($B481,'[2]TK KHOILUONG'!$B:$AT,8,0) -> #N/A | J481: =VLOOKUP($B481,'[2]TK KHOILUONG'!$B:$AT,9,0) -> #N/A | K481: =VLOOKUP($B481,'[2]TK KHOILUONG'!$B:$AT,10,0) -> #N/A | L481: =VLOOKUP($B481,'[2]TK KHOILUONG'!$B:$AT,11,0) -> #N/A | M481: =VLOOKUP($B481,'[2]TK KHOILUONG'!$B:$AT,12,0) -> #N/A | N481: =VLOOKUP($B481,'[2]TK KHOILUONG'!$B:$AT,13,0) -> #N/A | O481: =VLOOKUP($B481,'[2]TK KHOILUONG'!$B:$AT,14,0) -> #N/A | P481: =VLOOKUP($B481,'[2]TK KHOILUONG'!$B:$AT,15,0) -> #N/A | Q481: =VLOOKUP($B481,'[2]TK KHOILUONG'!$B:$AT,16,0) -> #N/A | R481: =VLOOKUP($B481,'[2]TK KHOILUONG'!$B:$AT,17,0) -> #N/A | S481: =VLOOKUP($B481,'[2]TK KHOILUONG'!$B:$AT,18,0) -> #N/A | T481: =VLOOKUP($B481,'[2]TK KHOILUONG'!$B:$AT,19,0) -> #N/A | U481: =VLOOKUP($B481,'[2]TK KHOILUONG'!$B:$AT,20,0) -> #N/A | V481: =VLOOKUP($B481,'[2]TK KHOILUONG'!$B:$AT,21,0) -> #N/A | W481: =VLOOKUP($B481,'[2]TK KHOILUONG'!$B:$AT,22,0) -> #N/A | X481: =VLOOKUP($B481,'[2]TK KHOILUONG'!$B:$AT,23,0) -> #N/A | Y481: =VLOOKUP($B481,'[2]TK KHOILUONG'!$B:$AT,24,0) -> #N/A | Z481: =VLOOKUP($B481,'[2]TK KHOILUONG'!$B:$AT,25,0) -> #N/A | AA481: =VLOOKUP($B481,'[2]TK KHOILUONG'!$B:$AT,26,0) -> #N/A | AB481: =VLOOKUP($B481,'[2]TK KHOILUONG'!$B:$AT,27,0) -> #N/A | AC481: =VLOOKUP($B481,'[2]TK KHOILUONG'!$B:$AT,28,0) -> #N/A | AD481: =VLOOKUP($B481,'[2]TK KHOILUONG'!$B:$AT,29,0) -> #N/A | AE481: =VLOOKUP($B481,'[2]TK KHOILUONG'!$B:$AT,30,0) -> #N/A | AF481: =VLOOKUP($B481,'[2]TK KHOILUONG'!$B:$AT,31,0) -> #N/A | AG481: =VLOOKUP($B481,'[2]TK KHOILUONG'!$B:$AT,32,0) -> #N/A | AH481: =VLOOKUP($B481,'[2]TK KHOILUONG'!$B:$AT,33,0) -> #N/A | AI481: =VLOOKUP($B481,'[2]TK KHOILUONG'!$B:$AT,34,0) -> #N/A | AJ481: =VLOOKUP($B481,'[2]TK KHOILUONG'!$B:$AT,35,0) -> #N/A | AK481: =VLOOKUP($B481,'[2]TK KHOILUONG'!$B:$AT,36,0) -> #N/A | AL481: =VLOOKUP($B481,'[2]TK KHOILUONG'!$B:$AT,37,0) -> #N/A | AM481: =VLOOKUP($B481,'[2]TK KHOILUONG'!$B:$AT,38,0) -> #N/A | AN481: =VLOOKUP($B481,'[2]TK KHOILUONG'!$B:$AT,39,0) -> #N/A | AO481: =VLOOKUP($B481,'[2]TK KHOILUONG'!$B:$AT,40,0) -> #N/A | AP481: =VLOOKUP($B481,'[2]TK KHOILUONG'!$B:$AT,41,0) -> #N/A | AQ481: =VLOOKUP($B481,'[2]TK KHOILUONG'!$B:$AT,42,0) -> #N/A | AR481: =VLOOKUP($B481,'[2]TK KHOILUONG'!$B:$AT,43,0) -> #N/A | AS481: =VLOOKUP($B481,'[2]TK KHOILUONG'!$B:$AT,44,0) -> #N/A | AT481: =IF(D481="","",ROUND(M481+R481+V481+Z481+AD481+AH481+AK481+AN481+AQ481+SUM(AR481:AS481),2))
A482: =IF(D482="","",SUBTOTAL(3,$D$5:D482)) | E482: =VLOOKUP($B482,'[2]TK KHOILUONG'!$B:$AT,4,0) -> #N/A | F482: =VLOOKUP($B482,'[2]TK KHOILUONG'!$B:$AT,5,0) -> #N/A | G482: =VLOOKUP($B482,'[2]TK KHOILUONG'!$B:$AT,6,0) -> #N/A | H482: =VLOOKUP($B482,'[2]TK KHOILUONG'!$B:$AT,7,0) -> #N/A | I482: =VLOOKUP($B482,'[2]TK KHOILUONG'!$B:$AT,8,0) -> #N/A | J482: =VLOOKUP($B482,'[2]TK KHOILUONG'!$B:$AT,9,0) -> #N/A | K482: =VLOOKUP($B482,'[2]TK KHOILUONG'!$B:$AT,10,0) -> #N/A | L482: =VLOOKUP($B482,'[2]TK KHOILUONG'!$B:$AT,11,0) -> #N/A | M482: =VLOOKUP($B482,'[2]TK KHOILUONG'!$B:$AT,12,0) -> #N/A | N482: =VLOOKUP($B482,'[2]TK KHOILUONG'!$B:$AT,13,0) -> #N/A | O482: =VLOOKUP($B482,'[2]TK KHOILUONG'!$B:$AT,14,0) -> #N/A | P482: =VLOOKUP($B482,'[2]TK KHOILUONG'!$B:$AT,15,0) -> #N/A | Q482: =VLOOKUP($B482,'[2]TK KHOILUONG'!$B:$AT,16,0) -> #N/A | R482: =VLOOKUP($B482,'[2]TK KHOILUONG'!$B:$AT,17,0) -> #N/A | S482: =VLOOKUP($B482,'[2]TK KHOILUONG'!$B:$AT,18,0) -> #N/A | T482: =VLOOKUP($B482,'[2]TK KHOILUONG'!$B:$AT,19,0) -> #N/A | U482: =VLOOKUP($B482,'[2]TK KHOILUONG'!$B:$AT,20,0) -> #N/A | V482: =VLOOKUP($B482,'[2]TK KHOILUONG'!$B:$AT,21,0) -> #N/A | W482: =VLOOKUP($B482,'[2]TK KHOILUONG'!$B:$AT,22,0) -> #N/A | X482: =VLOOKUP($B482,'[2]TK KHOILUONG'!$B:$AT,23,0) -> #N/A | Y482: =VLOOKUP($B482,'[2]TK KHOILUONG'!$B:$AT,24,0) -> #N/A | Z482: =VLOOKUP($B482,'[2]TK KHOILUONG'!$B:$AT,25,0) -> #N/A | AA482: =VLOOKUP($B482,'[2]TK KHOILUONG'!$B:$AT,26,0) -> #N/A | AB482: =VLOOKUP($B482,'[2]TK KHOILUONG'!$B:$AT,27,0) -> #N/A | AC482: =VLOOKUP($B482,'[2]TK KHOILUONG'!$B:$AT,28,0) -> #N/A | AD482: =VLOOKUP($B482,'[2]TK KHOILUONG'!$B:$AT,29,0) -> #N/A | AE482: =VLOOKUP($B482,'[2]TK KHOILUONG'!$B:$AT,30,0) -> #N/A | AF482: =VLOOKUP($B482,'[2]TK KHOILUONG'!$B:$AT,31,0) -> #N/A | AG482: =VLOOKUP($B482,'[2]TK KHOILUONG'!$B:$AT,32,0) -> #N/A | AH482: =VLOOKUP($B482,'[2]TK KHOILUONG'!$B:$AT,33,0) -> #N/A | AI482: =VLOOKUP($B482,'[2]TK KHOILUONG'!$B:$AT,34,0) -> #N/A | AJ482: =VLOOKUP($B482,'[2]TK KHOILUONG'!$B:$AT,35,0) -> #N/A | AK482: =VLOOKUP($B482,'[2]TK KHOILUONG'!$B:$AT,36,0) -> #N/A | AL482: =VLOOKUP($B482,'[2]TK KHOILUONG'!$B:$AT,37,0) -> #N/A | AM482: =VLOOKUP($B482,'[2]TK KHOILUONG'!$B:$AT,38,0) -> #N/A | AN482: =VLOOKUP($B482,'[2]TK KHOILUONG'!$B:$AT,39,0) -> #N/A | AO482: =VLOOKUP($B482,'[2]TK KHOILUONG'!$B:$AT,40,0) -> #N/A | AP482: =VLOOKUP($B482,'[2]TK KHOILUONG'!$B:$AT,41,0) -> #N/A | AQ482: =VLOOKUP($B482,'[2]TK KHOILUONG'!$B:$AT,42,0) -> #N/A | AR482: =VLOOKUP($B482,'[2]TK KHOILUONG'!$B:$AT,43,0) -> #N/A | AS482: =VLOOKUP($B482,'[2]TK KHOILUONG'!$B:$AT,44,0) -> #N/A | AT482: =IF(D482="","",ROUND(M482+R482+V482+Z482+AD482+AH482+AK482+AN482+AQ482+SUM(AR482:AS482),2))
A483: =IF(D483="","",SUBTOTAL(3,$D$5:D483)) | E483: =VLOOKUP($B483,'[2]TK KHOILUONG'!$B:$AT,4,0) -> #N/A | F483: =VLOOKUP($B483,'[2]TK KHOILUONG'!$B:$AT,5,0) -> #N/A | G483: =VLOOKUP($B483,'[2]TK KHOILUONG'!$B:$AT,6,0) -> #N/A | H483: =VLOOKUP($B483,'[2]TK KHOILUONG'!$B:$AT,7,0) -> #N/A | I483: =VLOOKUP($B483,'[2]TK KHOILUONG'!$B:$AT,8,0) -> #N/A | J483: =VLOOKUP($B483,'[2]TK KHOILUONG'!$B:$AT,9,0) -> #N/A | K483: =VLOOKUP($B483,'[2]TK KHOILUONG'!$B:$AT,10,0) -> #N/A | L483: =VLOOKUP($B483,'[2]TK KHOILUONG'!$B:$AT,11,0) -> #N/A | M483: =VLOOKUP($B483,'[2]TK KHOILUONG'!$B:$AT,12,0) -> #N/A | N483: =VLOOKUP($B483,'[2]TK KHOILUONG'!$B:$AT,13,0) -> #N/A | O483: =VLOOKUP($B483,'[2]TK KHOILUONG'!$B:$AT,14,0) -> #N/A | P483: =VLOOKUP($B483,'[2]TK KHOILUONG'!$B:$AT,15,0) -> #N/A | Q483: =VLOOKUP($B483,'[2]TK KHOILUONG'!$B:$AT,16,0) -> #N/A | R483: =VLOOKUP($B483,'[2]TK KHOILUONG'!$B:$AT,17,0) -> #N/A | S483: =VLOOKUP($B483,'[2]TK KHOILUONG'!$B:$AT,18,0) -> #N/A | T483: =VLOOKUP($B483,'[2]TK KHOILUONG'!$B:$AT,19,0) -> #N/A | U483: =VLOOKUP($B483,'[2]TK KHOILUONG'!$B:$AT,20,0) -> #N/A | V483: =VLOOKUP($B483,'[2]TK KHOILUONG'!$B:$AT,21,0) -> #N/A | W483: =VLOOKUP($B483,'[2]TK KHOILUONG'!$B:$AT,22,0) -> #N/A | X483: =VLOOKUP($B483,'[2]TK KHOILUONG'!$B:$AT,23,0) -> #N/A | Y483: =VLOOKUP($B483,'[2]TK KHOILUONG'!$B:$AT,24,0) -> #N/A | Z483: =VLOOKUP($B483,'[2]TK KHOILUONG'!$B:$AT,25,0) -> #N/A | AA483: =VLOOKUP($B483,'[2]TK KHOILUONG'!$B:$AT,26,0) -> #N/A | AB483: =VLOOKUP($B483,'[2]TK KHOILUONG'!$B:$AT,27,0) -> #N/A | AC483: =VLOOKUP($B483,'[2]TK KHOILUONG'!$B:$AT,28,0) -> #N/A | AD483: =VLOOKUP($B483,'[2]TK KHOILUONG'!$B:$AT,29,0) -> #N/A | AE483: =VLOOKUP($B483,'[2]TK KHOILUONG'!$B:$AT,30,0) -> #N/A | AF483: =VLOOKUP($B483,'[2]TK KHOILUONG'!$B:$AT,31,0) -> #N/A | AG483: =VLOOKUP($B483,'[2]TK KHOILUONG'!$B:$AT,32,0) -> #N/A | AH483: =VLOOKUP($B483,'[2]TK KHOILUONG'!$B:$AT,33,0) -> #N/A | AI483: =VLOOKUP($B483,'[2]TK KHOILUONG'!$B:$AT,34,0) -> #N/A | AJ483: =VLOOKUP($B483,'[2]TK KHOILUONG'!$B:$AT,35,0) -> #N/A | AK483: =VLOOKUP($B483,'[2]TK KHOILUONG'!$B:$AT,36,0) -> #N/A | AL483: =VLOOKUP($B483,'[2]TK KHOILUONG'!$B:$AT,37,0) -> #N/A | AM483: =VLOOKUP($B483,'[2]TK KHOILUONG'!$B:$AT,38,0) -> #N/A | AN483: =VLOOKUP($B483,'[2]TK KHOILUONG'!$B:$AT,39,0) -> #N/A | AO483: =VLOOKUP($B483,'[2]TK KHOILUONG'!$B:$AT,40,0) -> #N/A | AP483: =VLOOKUP($B483,'[2]TK KHOILUONG'!$B:$AT,41,0) -> #N/A | AQ483: =VLOOKUP($B483,'[2]TK KHOILUONG'!$B:$AT,42,0) -> #N/A | AR483: =VLOOKUP($B483,'[2]TK KHOILUONG'!$B:$AT,43,0) -> #N/A | AS483: =VLOOKUP($B483,'[2]TK KHOILUONG'!$B:$AT,44,0) -> #N/A | AT483: =IF(D483="","",ROUND(M483+R483+V483+Z483+AD483+AH483+AK483+AN483+AQ483+SUM(AR483:AS483),2))
A484: =IF(D484="","",SUBTOTAL(3,$D$5:D484)) | E484: =VLOOKUP($B484,'[2]TK KHOILUONG'!$B:$AT,4,0) -> #N/A | F484: =VLOOKUP($B484,'[2]TK KHOILUONG'!$B:$AT,5,0) -> #N/A | G484: =VLOOKUP($B484,'[2]TK KHOILUONG'!$B:$AT,6,0) -> #N/A | H484: =VLOOKUP($B484,'[2]TK KHOILUONG'!$B:$AT,7,0) -> #N/A | I484: =VLOOKUP($B484,'[2]TK KHOILUONG'!$B:$AT,8,0) -> #N/A | J484: =VLOOKUP($B484,'[2]TK KHOILUONG'!$B:$AT,9,0) -> #N/A | K484: =VLOOKUP($B484,'[2]TK KHOILUONG'!$B:$AT,10,0) -> #N/A | L484: =VLOOKUP($B484,'[2]TK KHOILUONG'!$B:$AT,11,0) -> #N/A | M484: =VLOOKUP($B484,'[2]TK KHOILUONG'!$B:$AT,12,0) -> #N/A | N484: =VLOOKUP($B484,'[2]TK KHOILUONG'!$B:$AT,13,0) -> #N/A | O484: =VLOOKUP($B484,'[2]TK KHOILUONG'!$B:$AT,14,0) -> #N/A | P484: =VLOOKUP($B484,'[2]TK KHOILUONG'!$B:$AT,15,0) -> #N/A | Q484: =VLOOKUP($B484,'[2]TK KHOILUONG'!$B:$AT,16,0) -> #N/A | R484: =VLOOKUP($B484,'[2]TK KHOILUONG'!$B:$AT,17,0) -> #N/A | S484: =VLOOKUP($B484,'[2]TK KHOILUONG'!$B:$AT,18,0) -> #N/A | T484: =VLOOKUP($B484,'[2]TK KHOILUONG'!$B:$AT,19,0) -> #N/A | U484: =VLOOKUP($B484,'[2]TK KHOILUONG'!$B:$AT,20,0) -> #N/A | V484: =VLOOKUP($B484,'[2]TK KHOILUONG'!$B:$AT,21,0) -> #N/A | W484: =VLOOKUP($B484,'[2]TK KHOILUONG'!$B:$AT,22,0) -> #N/A | X484: =VLOOKUP($B484,'[2]TK KHOILUONG'!$B:$AT,23,0) -> #N/A | Y484: =VLOOKUP($B484,'[2]TK KHOILUONG'!$B:$AT,24,0) -> #N/A | Z484: =VLOOKUP($B484,'[2]TK KHOILUONG'!$B:$AT,25,0) -> #N/A | AA484: =VLOOKUP($B484,'[2]TK KHOILUONG'!$B:$AT,26,0) -> #N/A | AB484: =VLOOKUP($B484,'[2]TK KHOILUONG'!$B:$AT,27,0) -> #N/A | AC484: =VLOOKUP($B484,'[2]TK KHOILUONG'!$B:$AT,28,0) -> #N/A | AD484: =VLOOKUP($B484,'[2]TK KHOILUONG'!$B:$AT,29,0) -> #N/A | AE484: =VLOOKUP($B484,'[2]TK KHOILUONG'!$B:$AT,30,0) -> #N/A | AF484: =VLOOKUP($B484,'[2]TK KHOILUONG'!$B:$AT,31,0) -> #N/A | AG484: =VLOOKUP($B484,'[2]TK KHOILUONG'!$B:$AT,32,0) -> #N/A | AH484: =VLOOKUP($B484,'[2]TK KHOILUONG'!$B:$AT,33,0) -> #N/A | AI484: =VLOOKUP($B484,'[2]TK KHOILUONG'!$B:$AT,34,0) -> #N/A | AJ484: =VLOOKUP($B484,'[2]TK KHOILUONG'!$B:$AT,35,0) -> #N/A | AK484: =VLOOKUP($B484,'[2]TK KHOILUONG'!$B:$AT,36,0) -> #N/A | AL484: =VLOOKUP($B484,'[2]TK KHOILUONG'!$B:$AT,37,0) -> #N/A | AM484: =VLOOKUP($B484,'[2]TK KHOILUONG'!$B:$AT,38,0) -> #N/A | AN484: =VLOOKUP($B484,'[2]TK KHOILUONG'!$B:$AT,39,0) -> #N/A | AO484: =VLOOKUP($B484,'[2]TK KHOILUONG'!$B:$AT,40,0) -> #N/A | AP484: =VLOOKUP($B484,'[2]TK KHOILUONG'!$B:$AT,41,0) -> #N/A | AQ484: =VLOOKUP($B484,'[2]TK KHOILUONG'!$B:$AT,42,0) -> #N/A | AR484: =VLOOKUP($B484,'[2]TK KHOILUONG'!$B:$AT,43,0) -> #N/A | AS484: =VLOOKUP($B484,'[2]TK KHOILUONG'!$B:$AT,44,0) -> #N/A | AT484: =IF(D484="","",ROUND(M484+R484+V484+Z484+AD484+AH484+AK484+AN484+AQ484+SUM(AR484:AS484),2))
A485: =IF(D485="","",SUBTOTAL(3,$D$5:D485)) | E485: =VLOOKUP($B485,'[2]TK KHOILUONG'!$B:$AT,4,0) -> #N/A | F485: =VLOOKUP($B485,'[2]TK KHOILUONG'!$B:$AT,5,0) -> #N/A | G485: =VLOOKUP($B485,'[2]TK KHOILUONG'!$B:$AT,6,0) -> #N/A | H485: =VLOOKUP($B485,'[2]TK KHOILUONG'!$B:$AT,7,0) -> #N/A | I485: =VLOOKUP($B485,'[2]TK KHOILUONG'!$B:$AT,8,0) -> #N/A | J485: =VLOOKUP($B485,'[2]TK KHOILUONG'!$B:$AT,9,0) -> #N/A | K485: =VLOOKUP($B485,'[2]TK KHOILUONG'!$B:$AT,10,0) -> #N/A | L485: =VLOOKUP($B485,'[2]TK KHOILUONG'!$B:$AT,11,0) -> #N/A | M485: =VLOOKUP($B485,'[2]TK KHOILUONG'!$B:$AT,12,0) -> #N/A | N485: =VLOOKUP($B485,'[2]TK KHOILUONG'!$B:$AT,13,0) -> #N/A | O485: =VLOOKUP($B485,'[2]TK KHOILUONG'!$B:$AT,14,0) -> #N/A | P485: =VLOOKUP($B485,'[2]TK KHOILUONG'!$B:$AT,15,0) -> #N/A | Q485: =VLOOKUP($B485,'[2]TK KHOILUONG'!$B:$AT,16,0) -> #N/A | R485: =VLOOKUP($B485,'[2]TK KHOILUONG'!$B:$AT,17,0) -> #N/A | S485: =VLOOKUP($B485,'[2]TK KHOILUONG'!$B:$AT,18,0) -> #N/A | T485: =VLOOKUP($B485,'[2]TK KHOILUONG'!$B:$AT,19,0) -> #N/A | U485: =VLOOKUP($B485,'[2]TK KHOILUONG'!$B:$AT,20,0) -> #N/A | V485: =VLOOKUP($B485,'[2]TK KHOILUONG'!$B:$AT,21,0) -> #N/A | W485: =VLOOKUP($B485,'[2]TK KHOILUONG'!$B:$AT,22,0) -> #N/A | X485: =VLOOKUP($B485,'[2]TK KHOILUONG'!$B:$AT,23,0) -> #N/A | Y485: =VLOOKUP($B485,'[2]TK KHOILUONG'!$B:$AT,24,0) -> #N/A | Z485: =VLOOKUP($B485,'[2]TK KHOILUONG'!$B:$AT,25,0) -> #N/A | AA485: =VLOOKUP($B485,'[2]TK KHOILUONG'!$B:$AT,26,0) -> #N/A | AB485: =VLOOKUP($B485,'[2]TK KHOILUONG'!$B:$AT,27,0) -> #N/A | AC485: =VLOOKUP($B485,'[2]TK KHOILUONG'!$B:$AT,28,0) -> #N/A | AD485: =VLOOKUP($B485,'[2]TK KHOILUONG'!$B:$AT,29,0) -> #N/A | AE485: =VLOOKUP($B485,'[2]TK KHOILUONG'!$B:$AT,30,0) -> #N/A | AF485: =VLOOKUP($B485,'[2]TK KHOILUONG'!$B:$AT,31,0) -> #N/A | AG485: =VLOOKUP($B485,'[2]TK KHOILUONG'!$B:$AT,32,0) -> #N/A | AH485: =VLOOKUP($B485,'[2]TK KHOILUONG'!$B:$AT,33,0) -> #N/A | AI485: =VLOOKUP($B485,'[2]TK KHOILUONG'!$B:$AT,34,0) -> #N/A | AJ485: =VLOOKUP($B485,'[2]TK KHOILUONG'!$B:$AT,35,0) -> #N/A | AK485: =VLOOKUP($B485,'[2]TK KHOILUONG'!$B:$AT,36,0) -> #N/A | AL485: =VLOOKUP($B485,'[2]TK KHOILUONG'!$B:$AT,37,0) -> #N/A | AM485: =VLOOKUP($B485,'[2]TK KHOILUONG'!$B:$AT,38,0) -> #N/A | AN485: =VLOOKUP($B485,'[2]TK KHOILUONG'!$B:$AT,39,0) -> #N/A | AO485: =VLOOKUP($B485,'[2]TK KHOILUONG'!$B:$AT,40,0) -> #N/A | AP485: =VLOOKUP($B485,'[2]TK KHOILUONG'!$B:$AT,41,0) -> #N/A | AQ485: =VLOOKUP($B485,'[2]TK KHOILUONG'!$B:$AT,42,0) -> #N/A | AR485: =VLOOKUP($B485,'[2]TK KHOILUONG'!$B:$AT,43,0) -> #N/A | AS485: =VLOOKUP($B485,'[2]TK KHOILUONG'!$B:$AT,44,0) -> #N/A | AT485: =IF(D485="","",ROUND(M485+R485+V485+Z485+AD485+AH485+AK485+AN485+AQ485+SUM(AR485:AS485),2))
... A497: =IF(D497="","",SUBTOTAL(3,$D$5:D497)) | E497: =VLOOKUP($B497,'[2]TK KHOILUONG'!$B:$AT,4,0) -> #N/A | F497: =VLOOKUP($B497,'[2]TK KHOILUONG'!$B:$AT,5,0) -> #N/A | G497: =VLOOKUP($B497,'[2]TK KHOILUONG'!$B:$AT,6,0) -> #N/A | H497: =VLOOKUP($B497,'[2]TK KHOILUONG'!$B:$AT,7,0) -> #N/A | I497: =VLOOKUP($B497,'[2]TK KHOILUONG'!$B:$AT,8,0) -> #N/A | J497: =VLOOKUP($B497,'[2]TK KHOILUONG'!$B:$AT,9,0) -> #N/A | K497: =VLOOKUP($B497,'[2]TK KHOILUONG'!$B:$AT,10,0) -> #N/A | L497: =VLOOKUP($B497,'[2]TK KHOILUONG'!$B:$AT,11,0) -> #N/A | M497: =VLOOKUP($B497,'[2]TK KHOILUONG'!$B:$AT,12,0) -> #N/A | N497: =VLOOKUP($B497,'[2]TK KHOILUONG'!$B:$AT,13,0) -> #N/A | O497: =VLOOKUP($B497,'[2]TK KHOILUONG'!$B:$AT,14,0) -> #N/A | P497: =VLOOKUP($B497,'[2]TK KHOILUONG'!$B:$AT,15,0) -> #N/A | Q497: =VLOOKUP($B497,'[2]TK KHOILUONG'!$B:$AT,16,0) -> #N/A | R497: =VLOOKUP($B497,'[2]TK KHOILUONG'!$B:$AT,17,0) -> #N/A | S497: =VLOOKUP($B497,'[2]TK KHOILUONG'!$B:$AT,18,0) -> #N/A | T497: =VLOOKUP($B497,'[2]TK KHOILUONG'!$B:$AT,19,0) -> #N/A | U497: =VLOOKUP($B497,'[2]TK KHOILUONG'!$B:$AT,20,0) -> #N/A | V497: =VLOOKUP($B497,'[2]TK KHOILUONG'!$B:$AT,21,0) -> #N/A | W497: =VLOOKUP($B497,'[2]TK KHOILUONG'!$B:$AT,22,0) -> #N/A | X497: =VLOOKUP($B497,'[2]TK KHOILUONG'!$B:$AT,23,0) -> #N/A | Y497: =VLOOKUP($B497,'[2]TK KHOILUONG'!$B:$AT,24,0) -> #N/A | Z497: =VLOOKUP($B497,'[2]TK KHOILUONG'!$B:$AT,25,0) -> #N/A | AA497: =VLOOKUP($B497,'[2]TK KHOILUONG'!$B:$AT,26,0) -> #N/A | AB497: =VLOOKUP($B497,'[2]TK KHOILUONG'!$B:$AT,27,0) -> #N/A | AC497: =VLOOKUP($B497,'[2]TK KHOILUONG'!$B:$AT,28,0) -> #N/A | AD497: =VLOOKUP($B497,'[2]TK KHOILUONG'!$B:$AT,29,0) -> #N/A | AE497: =VLOOKUP($B497,'[2]TK KHOILUONG'!$B:$AT,30,0) -> #N/A | AF497: =VLOOKUP($B497,'[2]TK KHOILUONG'!$B:$AT,31,0) -> #N/A | AG497: =VLOOKUP($B497,'[2]TK KHOILUONG'!$B:$AT,32,0) -> #N/A | AH497: =VLOOKUP($B497,'[2]TK KHOILUONG'!$B:$AT,33,0) -> #N/A | AI497: =VLOOKUP($B497,'[2]TK KHOILUONG'!$B:$AT,34,0) -> #N/A | AJ497: =VLOOKUP($B497,'[2]TK KHOILUONG'!$B:$AT,35,0) -> #N/A | AK497: =VLOOKUP($B497,'[2]TK KHOILUONG'!$B:$AT,36,0) -> #N/A | AL497: =VLOOKUP($B497,'[2]TK KHOILUONG'!$B:$AT,37,0) -> #N/A | AM497: =VLOOKUP($B497,'[2]TK KHOILUONG'!$B:$AT,38,0) -> #N/A | AN497: =VLOOKUP($B497,'[2]TK KHOILUONG'!$B:$AT,39,0) -> #N/A | AO497: =VLOOKUP($B497,'[2]TK KHOILUONG'!$B:$AT,40,0) -> #N/A | AP497: =VLOOKUP($B497,'[2]TK KHOILUONG'!$B:$AT,41,0) -> #N/A | AQ497: =VLOOKUP($B497,'[2]TK KHOILUONG'!$B:$AT,42,0) -> #N/A | AR497: =VLOOKUP($B497,'[2]TK KHOILUONG'!$B:$AT,43,0) -> #N/A | AS497: =VLOOKUP($B497,'[2]TK KHOILUONG'!$B:$AT,44,0) -> #N/A | AT497: =IF(D497="","",ROUND(M497+R497+V497+Z497+AD497+AH497+AK497+AN497+AQ497+SUM(AR497:AS497),2))
E498: =SUBTOTAL(9,E3:E497) -> #N/A | F498: =SUBTOTAL(9,F3:F497) -> #N/A | G498: =SUBTOTAL(9,G3:G497) -> #N/A | H498: =SUBTOTAL(9,H3:H497) -> #N/A | I498: =SUBTOTAL(9,I3:I497) -> #N/A | J498: =SUBTOTAL(9,J3:J497) -> #N/A | K498: =SUBTOTAL(9,K3:K497) -> #N/A | L498: =SUBTOTAL(9,L3:L497) -> #N/A | ... T498: =SUBTOTAL(9,T3:T497) -> #N/A | V498: =SUBTOTAL(9,V3:V497) -> #N/A | W498: =SUBTOTAL(9,W3:W497) -> #N/A | X498: =SUBTOTAL(9,X3:X497) -> #N/A | Z498: =SUBTOTAL(9,Z3:Z497) -> #N/A | AA498: =SUBTOTAL(9,AA3:AA497) -> #N/A | AB498: =SUBTOTAL(9,AB3:AB497) -> #N/A | AD498: =SUBTOTAL(9,AD3:AD497) -> #N/A | AE498: =SUBTOTAL(9,AE3:AE497) -> #N/A | AF498: =SUBTOTAL(9,AF3:AF497) -> #N/A | AH498: =SUBTOTAL(9,AH3:AH497) -> #N/A | AI498: =SUBTOTAL(9,AI3:AI497) -> #N/A | AJ498: =SUBTOTAL(9,AJ3:AJ497) -> #N/A | AK498: =SUBTOTAL(9,AK3:AK497) -> #N/A | AL498: =SUBTOTAL(9,AL3:AL497) -> #N/A | AM498: =SUBTOTAL(9,AM3:AM497) -> #N/A | AN498: =SUBTOTAL(9,AN3:AN497) -> #N/A | AO498: =SUBTOTAL(9,AO3:AO497) -> #N/A | ... AT498: =SUBTOTAL(9,AT3:AT497) -> 4881.4

Sheet HK HE 16-17
A1: UBND THÀNH PHỐ HỒ CHÍ MINH | S1: CỘNG HOÀ XÃ HỘI CHỦ NGHĨA VIỆT NAM
A2: TRƯỜNG CAO ĐẲNG KỸ THUẬT | S2: Độc lập - Tự do - Hạnh phúc
A3: LÝ TỰ TRỌNG TP HỒ CHÍ MINH | S3: ¯¯¯¯¯¯¯¯¯¯¯¯¯¯¯¯¯¯¯¯¯
A4: ¯¯¯¯¯¯¯¯¯¯¯¯¯¯¯¯¯¯¯¯¯¯¯¯ | V4: Thành phố Hồ Chí Minh, ngày tháng năm 201
A5: BẢNG TÍNH KHỐI LƯỢNG TỔ CHỨC THI HỌC KỲ HÈ NĂM HỌC 2016 - 2017
A6: ĐƠN VỊ: TOÀN TRƯỜNG
A8: STT | B8: Mã nhân sự | C8: Đơn vị | D8: HỌ VÀ TÊN GIẢNG VIÊN | E8: ĐỀ THI | J8: COI THI | O8: CHẤM THI KTHP | W8: CHẤM THI TỐT NGHIỆP | AF8: DỰ PHÒNG KỲ THI | AG8: GIÁM SÁT | AH8: TỔNG KHỐI LƯỢNG
O9: LÝ THUYẾT | S9: TIỂU LUẬN | W9: LÝ THUYẾT | Z9: T.HÀNH CHUNG | AC9: T.HÀNH RIÊNG
E10: SL ĐỀ LT KTHP | F10: SL ĐỀ TN KTHP | G10: SL ĐỀ LT TN | H10: SL ĐỀ TH TN | I10: KL SOẠN ĐỀ (tiết) | J10: KTHPLT COITHI 1 | K10: KTHPLT COITHI 2 | L10: ThiTN COITHI 1 | M10: ThiTN COITHI 2 | N10: KL COITHI (tiết) | O10: SL BÀI LT CHẤM 1 | P10: SL BÀI LT CHẤM 2 | Q10: SL CHẤM LT NGHĨA VỤ | R10: KL CHẤM LT (tiết) | S10: SL BÀI TL CHẤM 1 | T10: SL BÀI TL CHẤM 2 | U10: SL CHẤM TL NGHĨA VỤ | V10: KL CHẤM TL (tiết) | W10: SL BÀI LT CHẤM 1 | X10: SL BÀI LT CHẤM 2 | Y10: KL CHẤM LT (tiết) | Z10: SL BÀI TL CHẤM 1 | AA10: SL BÀI TL CHẤM 2 | AB10: KL CHẤM TL (tiết) | AC10: SL BÀI TL CHẤM 1 | AD10: SL BÀI TL CHẤM 2 | AE10: KL CHẤM TL (tiết)
A11: =IF(D11="","",SUBTOTAL(3,$D11:D$11)) -> 1 | B11: 01001001 | C11: Ban Giám hiệu | D11: Đinh Hồng Minh
A12: =IF(D12="","",SUBTOTAL(3,$D$11:D12)) -> 2 | B12: 01002001 | C12: Ban Giám hiệu | D12: Đinh Văn Đệ
A13: =IF(D13="","",SUBTOTAL(3,$D$11:D13)) -> 3 | B13: 01001006 | C13: Ban Giám hiệu | D13: Nguyễn Văn Dũng
A14: =IF(D14="","",SUBTOTAL(3,$D$11:D14)) -> 4 | B14: 01001003 | C14: Ban Giám hiệu | D14: Phạm Hữu Lộc
A15: =IF(D15="","",SUBTOTAL(3,$D$11:D15)) -> 5 | B15: 01012023 | C15: Khoa CN Cơ khí | D15: Bùi Anh Tuấn | E15: 2 | F15: 0 | G15: 0 | H15: 0 | I15: 2 | J15: 2.8 | K15: 1.6 | L15: 0 | M15: 0 | N15: 4.4 | O15: 53 | P15: 14 | Q15: 53 | R15: 0.7 | S15: 0 | T15: 0 | U15: 0 | V15: 0 | W15: 0 | X15: 0 | Y15: 0 | Z15: 0 | AA15: 0 | AB15: 0 | AC15: 0 | AD15: 0 | AE15: 0 | AF15: 0 | AG15: 1.2 | AH15: 8.3
A16: =IF(D16="","",SUBTOTAL(3,$D$11:D16)) -> 6 | B16: 01012003 | C16: Khoa CN Cơ khí | D16: Chung Trần Thế Vinh | E16: 0 | F16: 0 | G16: 2 | H16: 2 | I16: 10 | J16: 0 | K16: 0 | L16: 0 | M16: 0 | N16: 0 | O16: 0 | P16: 86 | Q16: 0 | R16: 4.3 | S16: 0 | T16: 0 | U16: 0 | V16: 0 | W16: 0 | X16: 0 | Y16: 0 | Z16: 0 | AA16: 0 | AB16: 0 | AC16: 0 | AD16: 0 | AE16: 0 | AF16: 0 | AG16: 2.8 | AH16: 17.1
A17: =IF(D17="","",SUBTOTAL(3,$D$11:D17)) -> 7 | B17: 01012005 | C17: Khoa CN Cơ khí | D17: Đỗ Thị Phương Khanh
A18: =IF(D18="","",SUBTOTAL(3,$D$11:D18)) -> 8 | B18: 01012014 | C18: Khoa CN Cơ khí | D18: Dương Minh Chung | E18: 0 | F18: 0 | G18: 0 | H18: 0 | I18: 0 | J18: 1.2 | K18: 1.2 | L18: 0 | M18: 0 | N18: 2.4 | O18: 0 | P18: 0 | Q18: 0 | R18: 0 | S18: 0 | T18: 0 | U18: 0 | V18: 0 | W18: 0 | X18: 0 | Y18: 0 | Z18: 12 | AA18: 0 | AB18: 1.2 | AC18: 0 | AD18: 0 | AE18: 0 | AF18: 0 | AG18: 0 | AH18: 3.6
A19: =IF(D19="","",SUBTOTAL(3,$D$11:D19)) -> 9 | B19: 01012029 | C19: Khoa CN Cơ khí | D19: Dương Ngọc Hưng
A20: =IF(D20="","",SUBTOTAL(3,$D$11:D20)) -> 10 | B20: 01012028 | C20: Khoa CN Cơ khí | D20: Dương Thị Hồng
A21: =IF(D21="","",SUBTOTAL(3,$D$11:D21)) -> 11 | B21: 01006001 | C21: Khoa CN Cơ khí | D21: Hà Phước Tuấn
A22: =IF(D22="","",SUBTOTAL(3,$D$11:D22)) -> 12 | B22: 01012030 | C22: Khoa CN Cơ khí | D22: Hồ Nhật Linh (TG) | E22: 0 | F22: 0 | G22: 0 | H22: 0 | I22: 0 | J22: 0 | K22: 1.2 | L22: 0 | M22: 0 | N22: 1.2 | O22: 0 | P22: 0 | Q22: 0 | R22: 0 | S22: 0 | T22: 0 | U22: 0 | V22: 0 | W22: 0 | X22: 0 | Y22: 0 | Z22: 0 | AA22: 0 | AB22: 0 | AC22: 0 | AD22: 0 | AE22: 0 | AF22: 0 | AG22: 0 | AH22: 1.2
A23: =IF(D23="","",SUBTOTAL(3,$D$11:D23)) -> 13 | B23: 01012033 | C23: Khoa CN Cơ khí | D23: Lê Thanh Thuận (TG)
A24: =IF(D24="","",SUBTOTAL(3,$D$11:D24)) -> 14 | B24: 01012016 | C24: Khoa CN Cơ khí | D24: Lư Thị Yến Vũ | E24: 0 | F24: 0 | G24: 0 | H24: 0 | I24: 0 | J24: 1.2 | K24: 1.2 | L24: 0 | M24: 0 | N24: 2.4 | O24: 0 | P24: 0 | Q24: 0 | R24: 0 | S24: 0 | T24: 0 | U24: 0 | V24: 0 | W24: 0 | X24: 0 | Y24: 0 | Z24: 0 | AA24: 0 | AB24: 0 | AC24: 0 | AD24: 0 | AE24: 0 | AF24: 0 | AG24: 0 | AH24: 2.4
A25: =IF(D25="","",SUBTOTAL(3,$D$11:D25)) -> 15 | B25: 01012024 | C25: Khoa CN Cơ khí | D25: Nguyễn Chí Ngãi (TG)
A26: =IF(D26="","",SUBTOTAL(3,$D$11:D26)) -> 16 | B26: 01012022 | C26: Khoa CN Cơ khí | D26: Nguyễn Duy Hải | E26: 0 | F26: 0 | G26: 0 | H26: 0 | I26: 0 | J26: 1.6 | K26: 0 | L26: 0 | M26: 1.2 | N26: 2.8 | O26: 0 | P26: 0 | Q26: 0 | R26: 0 | S26: 0 | T26: 0 | U26: 0 | V26: 0 | W26: 0 | X26: 0 | Y26: 0 | Z26: 0 | AA26: 0 | AB26: 0 | AC26: 0 | AD26: 0 | AE26: 0 | AF26: 0 | AG26: 0 | AH26: 2.8
A27: =IF(D27="","",SUBTOTAL(3,$D$11:D27)) -> 17 | B27: 01009004 | C27: Khoa CN Cơ khí | D27: Nguyễn Hoài Nam | E27: 0 | F27: 0 | G27: 0 | H27: 0 | I27: 0 | J27: 0 | K27: 2 | L27: 0 | M27: 0 | N27: 2 | O27: 0 | P27: 0 | Q27: 0 | R27: 0 | S27: 0 | T27: 0 | U27: 0 | V27: 0 | W27: 0 | X27: 0 | Y27: 0 | Z27: 0 | AA27: 0 | AB27: 0 | AC27: 0 | AD27: 0 | AE27: 0 | AF27: 0 | AG27: 0 | AH27: 2
A28: =IF(D28="","",SUBTOTAL(3,$D$11:D28)) -> 18 | B28: 01012002 | C28: Khoa CN Cơ khí | D28: Nguyễn Tam Cương
A29: =IF(D29="","",SUBTOTAL(3,$D$11:D29)) -> 19 | B29: 01012018 | C29: Khoa CN Cơ khí | D29: Nguyễn Thành Long | E29: 0 | F29: 0 | G29: 0 | H29: 0 | I29: 0 | J29: 1.2 | K29: 1.2 | L29: 0 | M29: 0 | N29: 2.4 | O29: 0 | P29: 0 | Q29: 0 | R29: 0 | S29: 0 | T29: 0 | U29: 0 | V29: 0 | W29: 0 | X29: 0 | Y29: 0 | Z29: 0 | AA29: 0 | AB29: 0 | AC29: 0 | AD29: 0 | AE29: 0 | AF29: 0 | AG29: 0 | AH29: 2.4
A30: =IF(D30="","",SUBTOTAL(3,$D$11:D30)) -> 20 | B30: 01012011 | C30: Khoa CN Cơ khí | D30: Nguyễn Thanh Vĩnh Phúc
A31: =IF(D31="","",SUBTOTAL(3,$D$11:D31)) -> 21 | B31: 01012015 | C31: Khoa CN Cơ khí | D31: Nguyễn Thanh Vũ | E31: 4 | F31: 0 | G31: 0 | H31: 0 | I31: 4 | J31: 0 | K31: 4 | L31: 0 | M31: 0 | N31: 4 | O31: 168 | P31: 86 | Q31: 168 | R31: 4.3 | S31: 0 | T31: 0 | U31: 0 | V31: 0 | W31: 0 | X31: 0 | Y31: 0 | Z31: 0 | AA31: 0 | AB31: 0 | AC31: 0 | AD31: 0 | AE31: 0 | AF31: 0 | AG31: 0 | AH31: 12.3
A32: =IF(D32="","",SUBTOTAL(3,$D$11:D32)) -> 22 | B32: 01012019 | C32: Khoa CN Cơ khí | D32: Nguyễn Tiến Dũng | E32: 0 | F32: 0 | G32: 0 | H32: 0 | I32: 0 | J32: 1.6 | K32: 1.6 | L32: 0 | M32: 0 | N32: 3.2 | O32: 0 | P32: 53 | Q32: 0 | R32: 2.65 | S32: 0 | T32: 0 | U32: 0 | V32: 0 | W32: 0 | X32: 0 | Y32: 0 | Z32: 0 | AA32: 0 | AB32: 0 | AC32: 0 | AD32: 0 | AE32: 0 | AF32: 0 | AG32: 0 | AH32: 5.9
A33: =IF(D33="","",SUBTOTAL(3,$D$11:D33)) -> 23 | B33: 01012001 | C33: Khoa CN Cơ khí | D33: Nguyễn Tiến Nhân
A34: =IF(D34="","",SUBTOTAL(3,$D$11:D34)) -> 24 | B34: 01012036 | C34: Khoa CN Cơ khí | D34: Nguyễn Trường Giang (TG)
A35: =IF(D35="","",SUBTOTAL(3,$D$11:D35)) -> 25 | B35: 01012034 | C35: Khoa CN Cơ khí | D35: Nguyễn Văn Bộ (TG)
A36: =IF(D36="","",SUBTOTAL(3,$D$11:D36)) -> 26 | B36: 01012012 | C36: Khoa CN Cơ khí | D36: Phan Thị Xuân Trang | E36: 0 | F36: 0 | G36: 0 | H36: 0 | I36: 0 | J36: 4 | K36: 0 | L36: 0 | M36: 0 | N36: 4 | O36: 0 | P36: 120 | Q36: 0 | R36: 6 | S36: 0 | T36: 0 | U36: 0 | V36: 0 | W36: 0 | X36: 0 | Y36: 0 | Z36: 0 | AA36: 0 | AB36: 0 | AC36: 0 | AD36: 0 | AE36: 0 | AF36: 0 | AG36: 0 | AH36: 10
A37: =IF(D37="","",SUBTOTAL(3,$D$11:D37)) -> 27 | B37: 01012004 | C37: Khoa CN Cơ khí | D37: Phan Văn Thành | E37: 0 | F37: 0 | G37: 0 | H37: 0 | I37: 0 | J37: 2.4 | K37: 0 | L37: 1.2 | M37: 0 | N37: 3.6 | O37: 0 | P37: 0 | Q37: 0 | R37: 0 | S37: 0 | T37: 0 | U37: 0 | V37: 0 | W37: 0 | X37: 14 | Y37: 1 | Z37: 0 | AA37: 0 | AB37: 0 | AC37: 0 | AD37: 0 | AE37: 0 | AF37: 0 | AG37: 0 | AH37: 4.6
A38: =IF(D38="","",SUBTOTAL(3,$D$11:D38)) -> 28 | B38: 01012035 | C38: Khoa CN Cơ khí | D38: Thái Hồng Kỳ (TG)
A39: =IF(D39="","",SUBTOTAL(3,$D$11:D39)) -> 29 | B39: 01012008 | C39: Khoa CN Cơ khí | D39: Trần Đình Khải | E39: 0 | F39: 0 | G39: 0 | H39: 0 | I39: 0 | J39: 1.2 | K39: 0 | L39: 0 | M39: 0 | N39: 1.2 | O39: 0 | P39: 0 | Q39: 0 | R39: 0 | S39: 0 | T39: 0 | U39: 0 | V39: 0 | W39: 0 | X39: 0 | Y39: 0 | Z39: 0 | AA39: 0 | AB39: 0 | AC39: 0 | AD39: 0 | AE39: 0 | AF39: 0 | AG39: 0 | AH39: 1.2
A40: =IF(D40="","",SUBTOTAL(3,$D$11:D40)) -> 30 | B40: 01012020 | C40: Khoa CN Cơ khí | D40: Trần Minh Thông | E40: 4 | F40: 0 | G40: 0 | H40: 0 | I40: 4 | J40: 1.2 | K40: 0 | L40: 0 | M40: 0 | N40: 1.2 | O40: 206 | P40: 168 | Q40: 206 | R40: 8.4 | S40: 0 | T40: 0 | U40: 0 | V40: 0 | W40: 0 | X40: 0 | Y40: 0 | Z40: 0 | AA40: 0 | AB40: 0 | AC40: 0 | AD40: 0 | AE40: 0 | AF40: 0 | AG40: 1.2 | AH40: 14.8
A41: =IF(D41="","",SUBTOTAL(3,$D$11:D41)) -> 31 | B41: 01012021 | C41: Khoa CN Cơ khí | D41: Trần Thị Hương
A42: =IF(D42="","",SUBTOTAL(3,$D$11:D42)) -> 32 | B42: 01012006 | C42: Khoa CN Cơ khí | D42: Trương Thị Phương Hồng
A43: =IF(D43="","",SUBTOTAL(3,$D$11:D43)) -> 33 | B43: 01017002 | C43: Khoa CN Cơ khí | D43: Võ Minh Quang
A44: =IF(D44="","",SUBTOTAL(3,$D$11:D44)) -> 34 | B44: 01012009 | C44: Khoa CN Cơ khí | D44: Võ Thúy Phương
A45: =IF(D45="","",SUBTOTAL(3,$D$11:D45)) -> 35 | B45: 01012031 | C45: Khoa CN Cơ khí | D45: Võ Văn Cương (TG)
A46: =IF(D46="","",SUBTOTAL(3,$D$11:D46)) -> 36 | B46: 01012013 | C46: Khoa CN Cơ khí | D46: Vũ Đức Pháp | E46: 0 | F46: 0 | G46: 0 | H46: 0 | I46: 0 | J46: 0 | K46: 2.4 | L46: 0 | M46: 0 | N46: 2.4 | O46: 0 | P46: 0 | Q46: 0 | R46: 0 | S46: 0 | T46: 0 | U46: 0 | V46: 0 | W46: 14 | X46: 0 | Y46: 1 | Z46: 0 | AA46: 12 | AB46: 1.2 | AC46: 0 | AD46: 0 | AE46: 0 | AF46: 0 | AG46: 0 | AH46: 4.6
A47: =IF(D47="","",SUBTOTAL(3,$D$11:D47)) -> 37 | B47: 01012007 | C47: Khoa CN Cơ khí | D47: Vũ Quang Khải | E47: 4 | F47: 2 | G47: 0 | H47: 0 | I47: 8 | J47: 3.2 | K47: 0 | L47: 0 | M47: 0 | N47: 3.2 | O47: 86 | P47: 0 | Q47: 86 | R47: 0 | S47: 0 | T47: 0 | U47: 0 | V47: 0 | W47: 0 | X47: 0 | Y47: 0 | Z47: 0 | AA47: 0 | AB47: 0 | AC47: 0 | AD47: 0 | AE47: 0 | AF47: 0 | AG47: 0 | AH47: 11.2
A48: =IF(D48="","",SUBTOTAL(3,$D$11:D48)) -> 38 | B48: 01012039 | C48: Khoa CN Cơ khí | D48: Dương Tiến Đoàn (TG)
A49: =IF(D49="","",SUBTOTAL(3,$D$11:D49)) -> 39 | B49: 01012042 | C49: Khoa CN Cơ khí | D49: Lê Hải Tuấn (TG)
A50: =IF(D50="","",SUBTOTAL(3,$D$11:D50)) -> 40 | B50: 01012025 | C50: Khoa CN Cơ khí | D50: Lê Hoàng Anh Quân
A51: =IF(D51="","",SUBTOTAL(3,$D$11:D51)) -> 41 | B51: 01012038 | C51: Khoa CN Cơ khí | D51: Lê Văn Nhân (TG)
A52: =IF(D52="","",SUBTOTAL(3,$D$11:D52)) -> 42 | B52: 01012017 | C52: Khoa CN Cơ khí | D52: Nguyễn Ngọc Quỳnh(CK) | E52: 0 | F52: 0 | G52: 0 | H52: 0 | I52: 0 | J52: 1.2 | K52: 1.2 | L52: 0 | M52: 0 | N52: 2.4 | O52: 0 | P52: 0 | Q52: 0 | R52: 0 | S52: 0 | T52: 0 | U52: 0 | V52: 0 | W52: 0 | X52: 0 | Y52: 0 | Z52: 0 | AA52: 0 | AB52: 0 | AC52: 0 | AD52: 0 | AE52: 0 | AF52: 0 | AG52: 0 | AH52: 2.4
A53: =IF(D53="","",SUBTOTAL(3,$D$11:D53)) -> 43 | B53: 01012032 | C53: Khoa CN Cơ khí | D53: Nguyễn Thanh Giang
A54: =IF(D54="","",SUBTOTAL(3,$D$11:D54)) -> 44 | B54: 01012041 | C54: Khoa CN Cơ khí | D54: Nguyễn Thanh Phong (TG)
A55: =IF(D55="","",SUBTOTAL(3,$D$11:D55)) -> 45 | B55: 01012040 | C55: Khoa CN Cơ khí | D55: Vũ Đình Chi (TG)
A56: =IF(D56="","",SUBTOTAL(3,$D$11:D56)) -> 46 | B56: 01014028 | C56: Khoa CN Điện - Điện tử | D56: Bốc Minh Trí | E56: 0 | F56: 0 | G56: 0 | H56: 0 | I56: 0 | J56: 2.4 | K56: 2.4 | L56: 0 | M56: 0 | N56: 4.8 | O56: 0 | P56: 15 | Q56: 0 | R56: 0.75 | S56: 0 | T56: 0 | U56: 0 | V56: 0 | W56: 0 | X56: 0 | Y56: 0 | Z56: 0 | AA56: 0 | AB56: 0 | AC56: 0 | AD56: 0 | AE56: 0 | AF56: 0 | AG56: 0 | AH56: 5.6
A57: =IF(D57="","",SUBTOTAL(3,$D$11:D57)) -> 47 | B57: 01014037 | C57: Khoa CN Điện - Điện tử | D57: Châu Văn Bảo | E57: 0 | F57: 0 | G57: 2 | H57: 1 | I57: 8 | J57: 0 | K57: 0 | L57: 0 | M57: 0 | N57: 0 | O57: 0 | P57: 0 | Q57: 0 | R57: 0 | S57: 0 | T57: 0 | U57: 0 | V57: 0 | W57: 0 | X57: 0 | Y57: 0 | Z57: 0 | AA57: 0 | AB57: 0 | AC57: 0 | AD57: 0 | AE57: 0 | AF57: 0 | AG57: 0 | AH57: 8
A58: =IF(D58="","",SUBTOTAL(3,$D$11:D58)) -> 48 | B58: 01014024 | C58: Khoa CN Điện - Điện tử | D58: Đặng Đức Minh
A59: =IF(D59="","",SUBTOTAL(3,$D$11:D59)) -> 49 | B59: 01014032 | C59: Khoa CN Điện - Điện tử | D59: Đỗ Huỳnh Thanh Phong | E59: 0 | F59: 0 | G59: 0 | H59: 0 | I59: 0 | J59: 0 | K59: 0 | L59: 1.6 | M59: 0 | N59: 1.6 | O59: 0 | P59: 17 | Q59: 0 | R59: 0.85 | S59: 0 | T59: 0 | U59: 0 | V59: 0 | W59: 13 | X59: 0 | Y59: 0.92857143 | Z59: 0 | AA59: 0 | AB59: 0 | AC59: 0 | AD59: 0 | AE59: 0 | AF59: 0 | AG59: 0 | AH59: 3.4
A60: =IF(D60="","",SUBTOTAL(3,$D$11:D60)) -> 50 | B60: 01014004 | C60: Khoa CN Điện - Điện tử | D60: Huỳnh Ngọc Mai
A61: =IF(D61="","",SUBTOTAL(3,$D$11:D61)) -> 51 | B61: 01010069 | C61: Khoa CN Điện - Điện tử | D61: Lê Hồng Vân (TG)
A62: =IF(D62="","",SUBTOTAL(3,$D$11:D62)) -> 52 | B62: 01014019 | C62: Khoa CN Điện - Điện tử | D62: Lê Thế Huân | E62: 2 | F62: 0 | G62: 0 | H62: 0 | I62: 2 | J62: 1.2 | K62: 1.2 | L62: 0 | M62: 0 | N62: 2.4 | O62: 0 | P62: 28 | Q62: 12 | R62: 0.8 | S62: 0 | T62: 0 | U62: 0 | V62: 0 | W62: 0 | X62: 0 | Y62: 0 | Z62: 0 | AA62: 0 | AB62: 0 | AC62: 0 | AD62: 0 | AE62: 0 | AF62: 0 | AG62: 0 | AH62: 5.2
A63: =IF(D63="","",SUBTOTAL(3,$D$11:D63)) -> 53 | B63: 01014023 | C63: Khoa CN Điện - Điện tử | D63: Lê Tiến Đạt
A64: =IF(D64="","",SUBTOTAL(3,$D$11:D64)) -> 54 | B64: 01014018 | C64: Khoa CN Điện - Điện tử | D64: Mạnh Lê Hoàn
A65: =IF(D65="","",SUBTOTAL(3,$D$11:D65)) -> 55 | B65: 01014005 | C65: Khoa CN Điện - Điện tử | D65: Ngô Hoàng Anh
A66: =IF(D66="","",SUBTOTAL(3,$D$11:D66)) -> 56 | B66: 01014029 | C66: Khoa CN Điện - Điện tử | D66: Ngô Phong Cường
A67: =IF(D67="","",SUBTOTAL(3,$D$11:D67)) -> 57 | B67: 01014006 | C67: Khoa CN Điện - Điện tử | D67: Nguyễn Anh Tăng
A68: =IF(D68="","",SUBTOTAL(3,$D$11:D68)) -> 58 | B68: 01014013 | C68: Khoa CN Điện - Điện tử | D68: Nguyễn Hồng Đức
A69: =IF(D69="","",SUBTOTAL(3,$D$11:D69)) -> 59 | B69: 01014033 | C69: Khoa CN Điện - Điện tử | D69: Nguyễn Minh Đức Cường | E69: 0 | F69: 0 | G69: 0 | H69: 0 | I69: 0 | J69: 0 | K69: 0 | L69: 0 | M69: 0 | N69: 0 | O69: 0 | P69: 2 | Q69: 0 | R69: 0.1 | S69: 0 | T69: 0 | U69: 0 | V69: 0 | W69: 0 | X69: 13 | Y69: 0.92857143 | Z69: 0 | AA69: 0 | AB69: 0 | AC69: 0 | AD69: 0 | AE69: 0 | AF69: 0 | AG69: 0 | AH69: 1
A70: =IF(D70="","",SUBTOTAL(3,$D$11:D70)) -> 60 | B70: 01014003 | C70: Khoa CN Điện - Điện tử | D70: Nguyễn Minh Đức(A)
A71: =IF(D71="","",SUBTOTAL(3,$D$11:D71)) -> 61 | B71: 01014017 | C71: Khoa CN Điện - Điện tử | D71: Nguyễn Minh Đức(B)
A72: =IF(D72="","",SUBTOTAL(3,$D$11:D72)) -> 62 | B72: 01014039 | C72: Khoa CN Điện - Điện tử | D72: Nguyễn Thế Kiệt
A73: =IF(D73="","",SUBTOTAL(3,$D$11:D73)) -> 63 | B73: 01014034 | C73: Khoa CN Điện - Điện tử | D73: Nguyễn Thị Ngọc Hiền
A74: =IF(D74="","",SUBTOTAL(3,$D$11:D74)) -> 64 | B74: 01014022 | C74: Khoa CN Điện - Điện tử | D74: Nguyễn Thị Tố Nga
A75: =IF(D75="","",SUBTOTAL(3,$D$11:D75)) -> 65 | B75: 01014012 | C75: Khoa CN Điện - Điện tử | D75: Nguyễn Thùy Dương
A76: =IF(D76="","",SUBTOTAL(3,$D$11:D76)) -> 66 | B76: 01014030 | C76: Khoa CN Điện - Điện tử | D76: Nguyễn Thùy Linh | E76: 0 | F76: 0 | G76: 0 | H76: 0 | I76: 0 | J76: 0 | K76: 0 | L76: 1.6 | M76: 0 | N76: 1.6 | O76: 0 | P76: 0 | Q76: 0 | R76: 0 | S76: 0 | T76: 0 | U76: 0 | V76: 0 | W76: 0 | X76: 0 | Y76: 0 | Z76: 0 | AA76: 0 | AB76: 0 | AC76: 0 | AD76: 0 | AE76: 0 | AF76: 0 | AG76: 0 | AH76: 1.6
A77: =IF(D77="","",SUBTOTAL(3,$D$11:D77)) -> 67 | B77: 01014025 | C77: Khoa CN Điện - Điện tử | D77: Nguyễn Trần Thanh Nhàn
A78: =IF(D78="","",SUBTOTAL(3,$D$11:D78)) -> 68 | B78: 01014041 | C78: Khoa CN Điện - Điện tử | D78: Nguyễn Trung Trực (TG)
A79: =IF(D79="","",SUBTOTAL(3,$D$11:D79)) -> 69 | B79: 01014016 | C79: Khoa CN Điện - Điện tử | D79: Nguyễn Văn Yên | E79: 2 | F79: 0 | G79: 0 | H79: 0 | I79: 2 | J79: 1.2 | K79: 1.2 | L79: 0 | M79: 0 | N79: 2.4 | O79: 28 | P79: 0 | Q79: 16 | R79: 0.6 | S79: 0 | T79: 0 | U79: 0 | V79: 0 | W79: 0 | X79: 0 | Y79: 0 | Z79: 0 | AA79: 0 | AB79: 0 | AC79: 0 | AD79: 0 | AE79: 0 | AF79: 0 | AG79: 0 | AH79: 5
A80: =IF(D80="","",SUBTOTAL(3,$D$11:D80)) -> 70 | B80: 01014040 | C80: Khoa CN Điện - Điện tử | D80: Phan Thanh Hoàng
A81: =IF(D81="","",SUBTOTAL(3,$D$11:D81)) -> 71 | B81: 01014007 | C81: Khoa CN Điện - Điện tử | D81: Quách Minh Thử | E81: 4 | F81: 0 | G81: 0 | H81: 0 | I81: 4 | J81: 1.2 | K81: 1.2 | L81: 0 | M81: 0 | N81: 2.4 | O81: 19 | P81: 0 | Q81: 19 | R81: 0 | S81: 0 | T81: 0 | U81: 0 | V81: 0 | W81: 0 | X81: 0 | Y81: 0 | Z81: 0 | AA81: 13 | AB81: 1.3 | AC81: 0 | AD81: 0 | AE81: 0 | AF81: 0 | AG81: 0 | AH81: 7.7
A82: =IF(D82="","",SUBTOTAL(3,$D$11:D82)) -> 72 | B82: 01014002 | C82: Khoa CN Điện - Điện tử | D82: Tạ Minh Cường | E82: 6 | F82: 0 | G82: 0 | H82: 0 | I82: 6 | J82: 1.2 | K82: 1.2 | L82: 0 | M82: 0 | N82: 2.4 | O82: 15 | P82: 0 | Q82: 15 | R82: 0 | S82: 1 | T82: 0 | U82: 1 | V82: 0 | W82: 0 | X82: 0 | Y82: 0 | Z82: 0 | AA82: 0 | AB82: 0 | AC82: 0 | AD82: 0 | AE82: 0 | AF82: 0 | AG82: 0 | AH82: 8.4
A83: =IF(D83="","",SUBTOTAL(3,$D$11:D83)) -> 73 | B83: 01014010 | C83: Khoa CN Điện - Điện tử | D83: Tăng Cẩm Huê | E83: 2 | F83: 0 | G83: 0 | H83: 0 | I83: 2 | J83: 1.2 | K83: 1.2 | L83: 0 | M83: 0 | N83: 2.4 | O83: 34 | P83: 19 | Q83: 19 | R83: 1.7 | S83: 0 | T83: 0 | U83: 0 | V83: 0 | W83: 0 | X83: 0 | Y83: 0 | Z83: 0 | AA83: 0 | AB83: 0 | AC83: 0 | AD83: 0 | AE83: 0 | AF83: 0 | AG83: 0 | AH83: 6.1
A84: =IF(D84="","",SUBTOTAL(3,$D$11:D84)) -> 74 | B84: 01014009 | C84: Khoa CN Điện - Điện tử | D84: Trần Công Tiến
A85: =IF(D85="","",SUBTOTAL(3,$D$11:D85)) -> 75 | B85: 01014021 | C85: Khoa CN Điện - Điện tử | D85: Trần Hiếu Trinh | E85: 2 | F85: 0 | G85: 0 | H85: 0 | I85: 2 | J85: 1.2 | K85: 1.2 | L85: 0 | M85: 0 | N85: 2.4 | O85: 19 | P85: 34 | Q85: 34 | R85: 0.95 | S85: 0 | T85: 0 | U85: 0 | V85: 0 | W85: 0 | X85: 0 | Y85: 0 | Z85: 0 | AA85: 0 | AB85: 0 | AC85: 0 | AD85: 0 | AE85: 0 | AF85: 0 | AG85: 0 | AH85: 5.4
A86: =IF(D86="","",SUBTOTAL(3,$D$11:D86)) -> 76 | B86: 01014038 | C86: Khoa CN Điện - Điện tử | D86: Trần Nguyên Bảo Trân
A87: =IF(D87="","",SUBTOTAL(3,$D$11:D87)) -> 77 | B87: 01014020 | C87: Khoa CN Điện - Điện tử | D87: Trần Trung Hiếu | E87: 0 | F87: 0 | G87: 0 | H87: 0 | I87: 0 | J87: 0 | K87: 0 | L87: 0 | M87: 1.6 | N87: 1.6 | O87: 0 | P87: 0 | Q87: 0 | R87: 0 | S87: 0 | T87: 0 | U87: 0 | V87: 0 | W87: 0 | X87: 0 | Y87: 0 | Z87: 13 | AA87: 0 | AB87: 1.3 | AC87: 0 | AD87: 0 | AE87: 0 | AF87: 0 | AG87: 0 | AH87: 2.9
A88: =IF(D88="","",SUBTOTAL(3,$D$11:D88)) -> 78 | B88: 01014008 | C88: Khoa CN Điện - Điện tử | D88: Võ Cường
A89: =IF(D89="","",SUBTOTAL(3,$D$11:D89)) -> 79 | B89: 01014026 | C89: Khoa CN Điện - Điện tử | D89: Vũ Hạnh Chiêu
A90: =IF(D90="","",SUBTOTAL(3,$D$11:D90)) -> 80 | B90: 01014044 | C90: Khoa CN Điện - Điện tử | D90: Cao Thị Xuân Thùy (TG)
A91: =IF(D91="","",SUBTOTAL(3,$D$11:D91)) -> 81 | B91: 01014045 | C91: Khoa CN Điện - Điện tử | D91: Cao Văn Tuấn
A92: =IF(D92="","",SUBTOTAL(3,$D$11:D92)) -> 82 | B92: 01014043 | C92: Khoa CN Điện - Điện tử | D92: Đinh Văn Chuyên (TG)
A93: =IF(D93="","",SUBTOTAL(3,$D$11:D93)) -> 83 | B93: 01014031 | C93: Khoa CN Điện - Điện tử | D93: Hồ Văn Lý
A94: =IF(D94="","",SUBTOTAL(3,$D$11:D94)) -> 84 | B94: 01014027 | C94: Khoa CN Điện - Điện tử | D94: Nguyễn Trọng Huân
A95: =IF(D95="","",SUBTOTAL(3,$D$11:D95)) -> 85 | B95: 01014011 | C95: Khoa CN Điện - Điện tử | D95: Nguyễn Trọng Trí
A96: =IF(D96="","",SUBTOTAL(3,$D$11:D96)) -> 86 | B96: 01013045 | C96: Khoa CN Điện - Điện tử | D96: Nguyễn Văn Nghi (TG)
A97: =IF(D97="","",SUBTOTAL(3,$D$11:D97)) -> 87 | B97: 01014046 | C97: Khoa CN Điện - Điện tử | D97: Trần Nam Anh
A98: =IF(D98="","",SUBTOTAL(3,$D$11:D98)) -> 88 | B98: 01014014 | C98: Khoa CN Điện - Điện tử | D98: Trần Thị Lệ
A99: =IF(D99="","",SUBTOTAL(3,$D$11:D99)) -> 89 | B99: 01013016 | C99: Khoa CN Động lực | D99: Đặng Thái Sơn | E99: 0 | F99: 0 | G99: 0 | H99: 0 | I99: 0 | J99: 0 | K99: 0 | L99: 0 | M99: 0 | N99: 0 | O99: 0 | P99: 0 | Q99: 0 | R99: 0 | S99: 0 | T99: 0 | U99: 0 | V99: 0 | W99: 15 | X99: 0 | Y99: 1.0714286 | Z99: 0 | AA99: 0 | AB99: 0 | AC99: 0 | AD99: 0 | AE99: 0 | AF99: 0 | AG99: 0 | AH99: 1.1
A100: =IF(D100="","",SUBTOTAL(3,$D$11:D100)) -> 90 | B100: 01013035 | C100: Khoa CN Động lực | D100: Đặng Tiến Phúc (TG)
A101: =IF(D101="","",SUBTOTAL(3,$D$11:D101)) -> 91 | B101: 01013021 | C101: Khoa CN Động lực | D101: Hà Quốc Bảo
...

Sheet COI - CHAM THI TN 17-18
E1: =SUBTOTAL(9,E3:E501) -> 0 | F1: =SUBTOTAL(9,F3:F501) -> 0 | G1: =SUBTOTAL(9,G3:G501) -> 0 | H1: =SUBTOTAL(9,H3:H501) -> 0 | I1: =SUBTOTAL(9,I3:I501) -> 46 | J1: =SUBTOTAL(9,J3:J501) -> 0 | K1: =SUBTOTAL(9,K3:K501) -> 0 | L1: =SUBTOTAL(9,L3:L501) -> 119 | ... X1: =SUBTOTAL(9,X3:X501) -> 0 | Z1: =SUBTOTAL(9,Z3:Z501) -> 0 | AA1: =SUBTOTAL(9,AA3:AA501) -> 0 | AB1: =SUBTOTAL(9,AB3:AB501) -> 0 | AC1: =SUBTOTAL(9,AC3:AC501) -> 0 | AD1: =SUBTOTAL(9,AD3:AD501) -> 0 | AE1: =SUBTOTAL(9,AE3:AE501) -> 0 | AF1: =SUBTOTAL(9,AF3:AF501) -> 0 | AH1: =SUBTOTAL(9,AH3:AH501) -> 0 | AI1: =SUBTOTAL(9,AI3:AI501) -> 230 | AJ1: =SUBTOTAL(9,AJ3:AJ501) -> 230 | AK1: =SUBTOTAL(9,AK3:AK501) -> 92 | AL1: =SUBTOTAL(9,AL3:AL501) -> 0 | AM1: =SUBTOTAL(9,AM3:AM501) -> 0 | AN1: =SUBTOTAL(9,AN3:AN501) -> 0 | AO1: =SUBTOTAL(9,AO3:AO501) -> 119 | ... AT1: =SUBTOTAL(9,AT3:AT501) -> 512.2
A2: STT | B2: Mã nhân sự | C2: Đơn vị | D2: HỌ VÀ TÊN GIẢNG VIÊN | E2: ĐỀ THI | N2: COI THI | S2: CHẤM THI KTHP | AI2: CHẤM THI TỐT NGHIỆP | AR2: DỰ PHÒNG KỲ THI | AS2: GIÁM SÁT | AT2: TỔNG KHỐI LƯỢNG | AU2: =SUBTOTAL(9,AT:AT) -> 512.2
S3: LÝ THUYẾT (TV+TN) | W3: VẤN ĐÁP | AA3: TIỂU LUẬN | AE3: THỰC HÀNH | AI3: LÝ THUYẾT (TV+TN) | AL3: VẤN ĐÁP | AO3: THỰC HÀNH
E4: SL ĐỀ LT KTHP | F4: SL ĐỀ TN KTHP | G4: SL ĐỀ VĐ KTHP | H4: SL ĐỀ TH KTHP | I4: SL ĐỀ LT ThiTN | J4: SL ĐỀ TN ThiTN | K4: SL ĐỀ VĐ ThiTN | L4: SL ĐỀ TH ThiTN | M4: KL SOẠN ĐỀ (tiết) | N4: COITHI 2 KTHP | O4: COITHI 1 KTHP | P4: COITHI 1 Thi TN | Q4: COITHI 2 Thi TN | R4: KL COITHI (tiết) | S4: SL CHẤM LT 1 | T4: SL CHẤM LT 2 | U4: SL CHẤM NV | V4: KL CHẤM LT (tiết) | W4: SL CHẤM TL 1 | X4: SL CHẤM TL 2 | Y4: SL CHẤM NV | Z4: KL CHẤM TL (tiết) | AA4: SL CHẤM TL 1 | AB4: SL CHẤM TL 2 | AC4: SL CHẤM NV | AD4: KL CHẤM TL (tiết) | AE4: SL CHẤM TL 1 | AF4: SL CHẤM TL 2 | AG4: SL CHẤM NV | AH4: KL CHẤM TL (tiết) | AI4: SL BÀI LT CHẤM 1 | AJ4: SL BÀI LT CHẤM 2 | AK4: KL CHẤM LT (tiết) | AL4: SL BÀI VĐ CHẤM 1 | AM4: SL BÀI VĐ CHẤM 2 | AN4: KL CHẤM VĐ (tiết) | AO4: SL BÀI TL CHẤM 1 | AP4: SL BÀI TL CHẤM 2 | AQ4: KL CHẤM TL (tiết)
A5: =IF(D5="","",SUBTOTAL(3,$D$5:D5)) -> 1 | B5: 01001001 | C5: Ban Giám hiệu | D5: Đinh Hồng Minh | E5: =IF($D5="","",SUMIF('[3]TK DETHI'!$A:$A,$D5,'[3]TK DETHI'!$B:$B)) -> 0 | F5: =IF($D5="","",SUMIF('[3]TK DETHI'!$C:$C,$D5,'[3]TK DETHI'!$D:$D)) -> 0 | G5: =IF($D5="","",SUMIF('[3]TK DETHI'!$E:$E,$D5,'[3]TK DETHI'!$F:$F)) -> 0 | H5: =IF($D5="","",SUMIF('[3]TK DETHI'!$G:$G,$D5,'[3]TK DETHI'!$H:$H)) -> 0 | I5: =IF($D5="","",SUMIF('[3]TK DETHI'!$I:$I,$D5,'[3]TK DETHI'!$J:$J)) -> 0 | J5: =IF($D5="","",SUMIF('[3]TK DETHI'!$K:$K,$D5,'[3]TK DETHI'!$L:$L)) -> 0 | K5: =IF($D5="","",SUMIF('[3]TK DETHI'!$M:$M,$D5,'[3]TK DETHI'!$N:$N)) -> 0 | L5: =IF($D5="","",SUMIF('[3]TK DETHI'!$O:$O,$D5,'[3]TK DETHI'!$P:$P)) -> 0 | M5: =IF($D5="","",($E5+$F5*1.5+$G5*0.25+$H5*0.5+$I5*2+$J5*2.5+$K5*0.5+$L5*1.5)) -> 0 | N5: =IF($D5="","",SUMIF('[3]TK COITHI KTHP va Thi TN'!$A:$A,$D5,'[3]TK COITHI KTHP va Thi TN'!$D:$D)) -> 0 | O5: =IF($D5="","",SUMIF('[3]TK COITHI KTHP va Thi TN'!$B:$B,$D5,'[3]TK COITHI KTHP va Thi TN'!$D:$D)) -> 0 | P5: =IF($D5="","",SUMIF('[3]TK COITHI KTHP va Thi TN'!$E:$E,$D5,'[3]TK COITHI KTHP va Thi TN'!$H:$H)) -> 0 | Q5: =IF($D5="","",SUMIF('[3]TK COITHI KTHP va Thi TN'!$F:$F,$D5,'[3]TK COITHI KTHP va Thi TN'!$H:$H)) -> 0 | R5: =IF($D5="","",SUM($N5:$Q5)) -> 0 | S5: =IF($D5="","",SUMIF('[3]TK CHAMTHI'!$A:$A,$D5,'[3]TK CHAMTHI'!$C:$C)) -> 0 | T5: =IF($D5="","",SUMIF('[3]TK CHAMTHI'!$B:$B,$D5,'[3]TK CHAMTHI'!$C:$C)) -> 0 | U5: =IF(D5="","",SUMIF('[3]CHAM NV'!B:B,D5,'[3]CHAM NV'!C:C)) -> 0 | V5: =IF($D5="","",((SUM($S5:$T5))-U5)*0.1) -> 0 | W5: =IF($D5="","",SUMIF('[3]TK CHAMTHI'!$D:$D,$D5,'[3]TK CHAMTHI'!$F:$F)) -> 0 | X5: =IF($D5="","",SUMIF('[3]TK CHAMTHI'!$E:$E,$D5,'[3]TK CHAMTHI'!$F:$F)) -> 0 | Y5: =IF(D5="","",SUMIF('[3]CHAM NV'!G:G,D5,'[3]CHAM NV'!H:H)) -> 0 | Z5: =IF($D5="","",((SUM($W5:$X5))-Y5)*0.2) -> 0 | AA5: =IF($D5="","",SUMIF('[3]TK CHAMTHI'!$G:$G,$D5,'[3]TK CHAMTHI'!$I:$I)) -> 0 | AB5: =IF($D5="","",SUMIF('[3]TK CHAMTHI'!$H:$H,$D5,'[3]TK CHAMTHI'!$I:$I)) -> 0 | AC5: =IF(D5="","",SUMIF('[3]CHAM NV'!E:E,D5,'[3]CHAM NV'!F:F)) -> 0 | AD5: =IF($D5="","",((SUM($AA5:$AB5))-AC5)*0.2) -> 0 | AE5: =IF($D5="","",SUMIF('[3]TK CHAMTHI'!$J:$J,$D5,'[3]TK CHAMTHI'!$L:$L)) -> 0 | AF5: =IF($D5="","",SUMIF('[3]TK CHAMTHI'!$K:$K,$D5,'[3]TK CHAMTHI'!$L:$L)) -> 0 | AG5: =IF(D5="","",SUMIF('[3]CHAM NV'!I:I,D5,'[3]CHAM NV'!J:J)) -> 0 | AH5: =IF($D5="","",((SUM($AE5:$AF5))-AG5)*0.2) -> 0 | AI5: =IF($D5="","",SUMIF('[3]TK CHAMTHI'!$M:$M,$D5,'[3]TK CHAMTHI'!$O:$O)) -> 0 | AJ5: =IF($D5="","",SUMIF('[3]TK CHAMTHI'!$N:$N,$D5,'[3]TK CHAMTHI'!$O:$O)) -> 0 | AK5: =IF($D5="","",(SUM($AI5:$AJ5))*0.2) -> 0 | AL5: =IF($D5="","",SUMIF('[3]TK CHAMTHI'!$P:$P,$D5,'[3]TK CHAMTHI'!$R:$R)) -> 0 | AM5: =IF($D5="","",SUMIF('[3]TK CHAMTHI'!$Q:$Q,$D5,'[3]TK CHAMTHI'!$R:$R)) -> 0 | AN5: =IF($D5="","",(SUM($AL5:$AM5))*0.4) -> 0 | AO5: =IF(D5="","",SUMIF('[3]TK CHAMTHI'!S:S,D5,'[3]TK CHAMTHI'!U:U)) -> 0 | AP5: =IF(D5="","",SUMIF('[3]TK CHAMTHI'!T:T,D5,'[3]TK CHAMTHI'!U:U)) -> 0 | AQ5: =IF(D5="","",SUM(AO5:AP5)*0.4) -> 0 | AR5: =IF(D5="","",ROUND(SUMIF('[3]QL THI'!G:G,D5,'[3]QL THI'!H:H),1)) -> 0 | AS5: =IF(D5="","",ROUND(SUMIF('[3]QL THI'!E:E,D5,'[3]QL THI'!F:F),1)) -> 0 | AT5: =IF(D5="","",ROUND(M5+R5+V5+Z5+AD5+AH5+AK5+AN5+AQ5+SUM(AR5:AS5),1)) -> 0
A6: =IF(D6="","",SUBTOTAL(3,$D$5:D6)) -> 2 | B6: 01002001 | C6: Ban Giám hiệu | D6: Đinh Văn Đệ | E6: =IF($D6="","",SUMIF('[3]TK DETHI'!$A:$A,$D6,'[3]TK DETHI'!$B:$B)) -> 0 | F6: =IF($D6="","",SUMIF('[3]TK DETHI'!$C:$C,$D6,'[3]TK DETHI'!$D:$D)) -> 0 | G6: =IF($D6="","",SUMIF('[3]TK DETHI'!$E:$E,$D6,'[3]TK DETHI'!$F:$F)) -> 0 | H6: =IF($D6="","",SUMIF('[3]TK DETHI'!$G:$G,$D6,'[3]TK DETHI'!$H:$H)) -> 0 | I6: =IF($D6="","",SUMIF('[3]TK DETHI'!$I:$I,$D6,'[3]TK DETHI'!$J:$J)) -> 0 | J6: =IF($D6="","",SUMIF('[3]TK DETHI'!$K:$K,$D6,'[3]TK DETHI'!$L:$L)) -> 0 | K6: =IF($D6="","",SUMIF('[3]TK DETHI'!$M:$M,$D6,'[3]TK DETHI'!$N:$N)) -> 0 | L6: =IF($D6="","",SUMIF('[3]TK DETHI'!$O:$O,$D6,'[3]TK DETHI'!$P:$P)) -> 0 | M6: =IF($D6="","",($E6+$F6*1.5+$G6*0.25+$H6*0.5+$I6*2+$J6*2.5+$K6*0.5+$L6*1.5)) -> 0 | N6: =IF($D6="","",SUMIF('[3]TK COITHI KTHP va Thi TN'!$A:$A,$D6,'[3]TK COITHI KTHP va Thi TN'!$D:$D)) -> 0 | O6: =IF($D6="","",SUMIF('[3]TK COITHI KTHP va Thi TN'!$B:$B,$D6,'[3]TK COITHI KTHP va Thi TN'!$D:$D)) -> 0 | P6: =IF($D6="","",SUMIF('[3]TK COITHI KTHP va Thi TN'!$E:$E,$D6,'[3]TK COITHI KTHP va Thi TN'!$H:$H)) -> 0 | Q6: =IF($D6="","",SUMIF('[3]TK COITHI KTHP va Thi TN'!$F:$F,$D6,'[3]TK COITHI KTHP va Thi TN'!$H:$H)) -> 0 | R6: =IF($D6="","",SUM($N6:$Q6)) -> 0 | S6: =IF($D6="","",SUMIF('[3]TK CHAMTHI'!$A:$A,$D6,'[3]TK CHAMTHI'!$C:$C)) -> 0 | T6: =IF($D6="","",SUMIF('[3]TK CHAMTHI'!$B:$B,$D6,'[3]TK CHAMTHI'!$C:$C)) -> 0 | U6: =IF(D6="","",SUMIF('[3]CHAM NV'!B:B,D6,'[3]CHAM NV'!C:C)) -> 0 | V6: =IF($D6="","",((SUM($S6:$T6))-U6)*0.1) -> 0 | W6: =IF($D6="","",SUMIF('[3]TK CHAMTHI'!$D:$D,$D6,'[3]TK CHAMTHI'!$F:$F)) -> 0 | X6: =IF($D6="","",SUMIF('[3]TK CHAMTHI'!$E:$E,$D6,'[3]TK CHAMTHI'!$F:$F)) -> 0 | Y6: =IF(D6="","",SUMIF('[3]CHAM NV'!G:G,D6,'[3]CHAM NV'!H:H)) -> 0 | Z6: =IF($D6="","",((SUM($W6:$X6))-Y6)*0.2) -> 0 | AA6: =IF($D6="","",SUMIF('[3]TK CHAMTHI'!$G:$G,$D6,'[3]TK CHAMTHI'!$I:$I)) -> 0 | AB6: =IF($D6="","",SUMIF('[3]TK CHAMTHI'!$H:$H,$D6,'[3]TK CHAMTHI'!$I:$I)) -> 0 | AC6: =IF(D6="","",SUMIF('[3]CHAM NV'!E:E,D6,'[3]CHAM NV'!F:F)) -> 0 | AD6: =IF($D6="","",((SUM($AA6:$AB6))-AC6)*0.2) -> 0 | AE6: =IF($D6="","",SUMIF('[3]TK CHAMTHI'!$J:$J,$D6,'[3]TK CHAMTHI'!$L:$L)) -> 0 | AF6: =IF($D6="","",SUMIF('[3]TK CHAMTHI'!$K:$K,$D6,'[3]TK CHAMTHI'!$L:$L)) -> 0 | AG6: =IF(D6="","",SUMIF('[3]CHAM NV'!I:I,D6,'[3]CHAM NV'!J:J)) -> 0 | AH6: =IF($D6="","",((SUM($AE6:$AF6))-AG6)*0.2) -> 0 | AI6: =IF($D6="","",SUMIF('[3]TK CHAMTHI'!$M:$M,$D6,'[3]TK CHAMTHI'!$O:$O)) -> 0 | AJ6: =IF($D6="","",SUMIF('[3]TK CHAMTHI'!$N:$N,$D6,'[3]TK CHAMTHI'!$O:$O)) -> 0 | AK6: =IF($D6="","",(SUM($AI6:$AJ6))*0.2) -> 0 | AL6: =IF($D6="","",SUMIF('[3]TK CHAMTHI'!$P:$P,$D6,'[3]TK CHAMTHI'!$R:$R)) -> 0 | AM6: =IF($D6="","",SUMIF('[3]TK CHAMTHI'!$Q:$Q,$D6,'[3]TK CHAMTHI'!$R:$R)) -> 0 | AN6: =IF($D6="","",(SUM($AL6:$AM6))*0.4) -> 0 | AO6: =IF(D6="","",SUMIF('[3]TK CHAMTHI'!S:S,D6,'[3]TK CHAMTHI'!U:U)) -> 0 | AP6: =IF(D6="","",SUMIF('[3]TK CHAMTHI'!T:T,D6,'[3]TK CHAMTHI'!U:U)) -> 0 | AQ6: =IF(D6="","",SUM(AO6:AP6)*0.4) -> 0 | AR6: =IF(D6="","",ROUND(SUMIF('[3]QL THI'!G:G,D6,'[3]QL THI'!H:H),1)) -> 0 | AS6: =IF(D6="","",ROUND(SUMIF('[3]QL THI'!E:E,D6,'[3]QL THI'!F:F),1)) -> 0 | AT6: =IF(D6="","",ROUND(M6+R6+V6+Z6+AD6+AH6+AK6+AN6+AQ6+SUM(AR6:AS6),1)) -> 0
A7: =IF(D7="","",SUBTOTAL(3,$D$5:D7)) -> 3 | B7: 01001006 | C7: Ban Giám hiệu | D7: Nguyễn Văn Dũng | E7: =IF($D7="","",SUMIF('[3]TK DETHI'!$A:$A,$D7,'[3]TK DETHI'!$B:$B)) -> 0 | F7: =IF($D7="","",SUMIF('[3]TK DETHI'!$C:$C,$D7,'[3]TK DETHI'!$D:$D)) -> 0 | G7: =IF($D7="","",SUMIF('[3]TK DETHI'!$E:$E,$D7,'[3]TK DETHI'!$F:$F)) -> 0 | H7: =IF($D7="","",SUMIF('[3]TK DETHI'!$G:$G,$D7,'[3]TK DETHI'!$H:$H)) -> 0 | I7: =IF($D7="","",SUMIF('[3]TK DETHI'!$I:$I,$D7,'[3]TK DETHI'!$J:$J)) -> 0 | J7: =IF($D7="","",SUMIF('[3]TK DETHI'!$K:$K,$D7,'[3]TK DETHI'!$L:$L)) -> 0 | K7: =IF($D7="","",SUMIF('[3]TK DETHI'!$M:$M,$D7,'[3]TK DETHI'!$N:$N)) -> 0 | L7: =IF($D7="","",SUMIF('[3]TK DETHI'!$O:$O,$D7,'[3]TK DETHI'!$P:$P)) -> 0 | M7: =IF($D7="","",($E7+$F7*1.5+$G7*0.25+$H7*0.5+$I7*2+$J7*2.5+$K7*0.5+$L7*1.5)) -> 0 | N7: =IF($D7="","",SUMIF('[3]TK COITHI KTHP va Thi TN'!$A:$A,$D7,'[3]TK COITHI KTHP va Thi TN'!$D:$D)) -> 0 | O7: =IF($D7="","",SUMIF('[3]TK COITHI KTHP va Thi TN'!$B:$B,$D7,'[3]TK COITHI KTHP va Thi TN'!$D:$D)) -> 0 | P7: =IF($D7="","",SUMIF('[3]TK COITHI KTHP va Thi TN'!$E:$E,$D7,'[3]TK COITHI KTHP va Thi TN'!$H:$H)) -> 0 | Q7: =IF($D7="","",SUMIF('[3]TK COITHI KTHP va Thi TN'!$F:$F,$D7,'[3]TK COITHI KTHP va Thi TN'!$H:$H)) -> 0 | R7: =IF($D7="","",SUM($N7:$Q7)) -> 0 | S7: =IF($D7="","",SUMIF('[3]TK CHAMTHI'!$A:$A,$D7,'[3]TK CHAMTHI'!$C:$C)) -> 0 | T7: =IF($D7="","",SUMIF('[3]TK CHAMTHI'!$B:$B,$D7,'[3]TK CHAMTHI'!$C:$C)) -> 0 | U7: =IF(D7="","",SUMIF('[3]CHAM NV'!B:B,D7,'[3]CHAM NV'!C:C)) -> 0 | V7: =IF($D7="","",((SUM($S7:$T7))-U7)*0.1) -> 0 | W7: =IF($D7="","",SUMIF('[3]TK CHAMTHI'!$D:$D,$D7,'[3]TK CHAMTHI'!$F:$F)) -> 0 | X7: =IF($D7="","",SUMIF('[3]TK CHAMTHI'!$E:$E,$D7,'[3]TK CHAMTHI'!$F:$F)) -> 0 | Y7: =IF(D7="","",SUMIF('[3]CHAM NV'!G:G,D7,'[3]CHAM NV'!H:H)) -> 0 | Z7: =IF($D7="","",((SUM($W7:$X7))-Y7)*0.2) -> 0 | AA7: =IF($D7="","",SUMIF('[3]TK CHAMTHI'!$G:$G,$D7,'[3]TK CHAMTHI'!$I:$I)) -> 0 | AB7: =IF($D7="","",SUMIF('[3]TK CHAMTHI'!$H:$H,$D7,'[3]TK CHAMTHI'!$I:$I)) -> 0 | AC7: =IF(D7="","",SUMIF('[3]CHAM NV'!E:E,D7,'[3]CHAM NV'!F:F)) -> 0 | AD7: =IF($D7="","",((SUM($AA7:$AB7))-AC7)*0.2) -> 0 | AE7: =IF($D7="","",SUMIF('[3]TK CHAMTHI'!$J:$J,$D7,'[3]TK CHAMTHI'!$L:$L)) -> 0 | AF7: =IF($D7="","",SUMIF('[3]TK CHAMTHI'!$K:$K,$D7,'[3]TK CHAMTHI'!$L:$L)) -> 0 | AG7: =IF(D7="","",SUMIF('[3]CHAM NV'!I:I,D7,'[3]CHAM NV'!J:J)) -> 0 | AH7: =IF($D7="","",((SUM($AE7:$AF7))-AG7)*0.2) -> 0 | AI7: =IF($D7="","",SUMIF('[3]TK CHAMTHI'!$M:$M,$D7,'[3]TK CHAMTHI'!$O:$O)) -> 0 | AJ7: =IF($D7="","",SUMIF('[3]TK CHAMTHI'!$N:$N,$D7,'[3]TK CHAMTHI'!$O:$O)) -> 0 | AK7: =IF($D7="","",(SUM($AI7:$AJ7))*0.2) -> 0 | AL7: =IF($D7="","",SUMIF('[3]TK CHAMTHI'!$P:$P,$D7,'[3]TK CHAMTHI'!$R:$R)) -> 0 | AM7: =IF($D7="","",SUMIF('[3]TK CHAMTHI'!$Q:$Q,$D7,'[3]TK CHAMTHI'!$R:$R)) -> 0 | AN7: =IF($D7="","",(SUM($AL7:$AM7))*0.4) -> 0 | AO7: =IF(D7="","",SUMIF('[3]TK CHAMTHI'!S:S,D7,'[3]TK CHAMTHI'!U:U)) -> 0 | AP7: =IF(D7="","",SUMIF('[3]TK CHAMTHI'!T:T,D7,'[3]TK CHAMTHI'!U:U)) -> 0 | AQ7: =IF(D7="","",SUM(AO7:AP7)*0.4) -> 0 | AR7: =IF(D7="","",ROUND(SUMIF('[3]QL THI'!G:G,D7,'[3]QL THI'!H:H),1)) -> 0 | AS7: =IF(D7="","",ROUND(SUMIF('[3]QL THI'!E:E,D7,'[3]QL THI'!F:F),1)) -> 0 | AT7: =IF(D7="","",ROUND(M7+R7+V7+Z7+AD7+AH7+AK7+AN7+AQ7+SUM(AR7:AS7),1)) -> 0
A8: =IF(D8="","",SUBTOTAL(3,$D$5:D8)) -> 4 | B8: 01001003 | C8: Ban Giám hiệu | D8: Phạm Hữu Lộc | E8: =IF($D8="","",SUMIF('[3]TK DETHI'!$A:$A,$D8,'[3]TK DETHI'!$B:$B)) -> 0 | F8: =IF($D8="","",SUMIF('[3]TK DETHI'!$C:$C,$D8,'[3]TK DETHI'!$D:$D)) -> 0 | G8: =IF($D8="","",SUMIF('[3]TK DETHI'!$E:$E,$D8,'[3]TK DETHI'!$F:$F)) -> 0 | H8: =IF($D8="","",SUMIF('[3]TK DETHI'!$G:$G,$D8,'[3]TK DETHI'!$H:$H)) -> 0 | I8: =IF($D8="","",SUMIF('[3]TK DETHI'!$I:$I,$D8,'[3]TK DETHI'!$J:$J)) -> 0 | J8: =IF($D8="","",SUMIF('[3]TK DETHI'!$K:$K,$D8,'[3]TK DETHI'!$L:$L)) -> 0 | K8: =IF($D8="","",SUMIF('[3]TK DETHI'!$M:$M,$D8,'[3]TK DETHI'!$N:$N)) -> 0 | L8: =IF($D8="","",SUMIF('[3]TK DETHI'!$O:$O,$D8,'[3]TK DETHI'!$P:$P)) -> 0 | M8: =IF($D8="","",($E8+$F8*1.5+$G8*0.25+$H8*0.5+$I8*2+$J8*2.5+$K8*0.5+$L8*1.5)) -> 0 | N8: =IF($D8="","",SUMIF('[3]TK COITHI KTHP va Thi TN'!$A:$A,$D8,'[3]TK COITHI KTHP va Thi TN'!$D:$D)) -> 0 | O8: =IF($D8="","",SUMIF('[3]TK COITHI KTHP va Thi TN'!$B:$B,$D8,'[3]TK COITHI KTHP va Thi TN'!$D:$D)) -> 0 | P8: =IF($D8="","",SUMIF('[3]TK COITHI KTHP va Thi TN'!$E:$E,$D8,'[3]TK COITHI KTHP va Thi TN'!$H:$H)) -> 0 | Q8: =IF($D8="","",SUMIF('[3]TK COITHI KTHP va Thi TN'!$F:$F,$D8,'[3]TK COITHI KTHP va Thi TN'!$H:$H)) -> 0 | R8: =IF($D8="","",SUM($N8:$Q8)) -> 0 | S8: =IF($D8="","",SUMIF('[3]TK CHAMTHI'!$A:$A,$D8,'[3]TK CHAMTHI'!$C:$C)) -> 0 | T8: =IF($D8="","",SUMIF('[3]TK CHAMTHI'!$B:$B,$D8,'[3]TK CHAMTHI'!$C:$C)) -> 0 | U8: =IF(D8="","",SUMIF('[3]CHAM NV'!B:B,D8,'[3]CHAM NV'!C:C)) -> 0 | V8: =IF($D8="","",((SUM($S8:$T8))-U8)*0.1) -> 0 | W8: =IF($D8="","",SUMIF('[3]TK CHAMTHI'!$D:$D,$D8,'[3]TK CHAMTHI'!$F:$F)) -> 0 | X8: =IF($D8="","",SUMIF('[3]TK CHAMTHI'!$E:$E,$D8,'[3]TK CHAMTHI'!$F:$F)) -> 0 | Y8: =IF(D8="","",SUMIF('[3]CHAM NV'!G:G,D8,'[3]CHAM NV'!H:H)) -> 0 | Z8: =IF($D8="","",((SUM($W8:$X8))-Y8)*0.2) -> 0 | AA8: =IF($D8="","",SUMIF('[3]TK CHAMTHI'!$G:$G,$D8,'[3]TK CHAMTHI'!$I:$I)) -> 0 | AB8: =IF($D8="","",SUMIF('[3]TK CHAMTHI'!$H:$H,$D8,'[3]TK CHAMTHI'!$I:$I)) -> 0 | AC8: =IF(D8="","",SUMIF('[3]CHAM NV'!E:E,D8,'[3]CHAM NV'!F:F)) -> 0 | AD8: =IF($D8="","",((SUM($AA8:$AB8))-AC8)*0.2) -> 0 | AE8: =IF($D8="","",SUMIF('[3]TK CHAMTHI'!$J:$J,$D8,'[3]TK CHAMTHI'!$L:$L)) -> 0 | AF8: =IF($D8="","",SUMIF('[3]TK CHAMTHI'!$K:$K,$D8,'[3]TK CHAMTHI'!$L:$L)) -> 0 | AG8: =IF(D8="","",SUMIF('[3]CHAM NV'!I:I,D8,'[3]CHAM NV'!J:J)) -> 0 | AH8: =IF($D8="","",((SUM($AE8:$AF8))-AG8)*0.2) -> 0 | AI8: =IF($D8="","",SUMIF('[3]TK CHAMTHI'!$M:$M,$D8,'[3]TK CHAMTHI'!$O:$O)) -> 0 | AJ8: =IF($D8="","",SUMIF('[3]TK CHAMTHI'!$N:$N,$D8,'[3]TK CHAMTHI'!$O:$O)) -> 0 | AK8: =IF($D8="","",(SUM($AI8:$AJ8))*0.2) -> 0 | AL8: =IF($D8="","",SUMIF('[3]TK CHAMTHI'!$P:$P,$D8,'[3]TK CHAMTHI'!$R:$R)) -> 0 | AM8: =IF($D8="","",SUMIF('[3]TK CHAMTHI'!$Q:$Q,$D8,'[3]TK CHAMTHI'!$R:$R)) -> 0 | AN8: =IF($D8="","",(SUM($AL8:$AM8))*0.4) -> 0 | AO8: =IF(D8="","",SUMIF('[3]TK CHAMTHI'!S:S,D8,'[3]TK CHAMTHI'!U:U)) -> 0 | AP8: =IF(D8="","",SUMIF('[3]TK CHAMTHI'!T:T,D8,'[3]TK CHAMTHI'!U:U)) -> 0 | AQ8: =IF(D8="","",SUM(AO8:AP8)*0.4) -> 0 | AR8: =IF(D8="","",ROUND(SUMIF('[3]QL THI'!G:G,D8,'[3]QL THI'!H:H),1)) -> 0 | AS8: =IF(D8="","",ROUND(SUMIF('[3]QL THI'!E:E,D8,'[3]QL THI'!F:F),1)) -> 0 | AT8: =IF(D8="","",ROUND(M8+R8+V8+Z8+AD8+AH8+AK8+AN8+AQ8+SUM(AR8:AS8),1)) -> 0
A9: =IF(D9="","",SUBTOTAL(3,$D$5:D9)) -> 5 | B9: 01012023 | C9: Khoa CN Cơ khí | D9: Bùi Anh Tuấn | E9: =IF($D9="","",SUMIF('[3]TK DETHI'!$A:$A,$D9,'[3]TK DETHI'!$B:$B)) -> 0 | F9: =IF($D9="","",SUMIF('[3]TK DETHI'!$C:$C,$D9,'[3]TK DETHI'!$D:$D)) -> 0 | G9: =IF($D9="","",SUMIF('[3]TK DETHI'!$E:$E,$D9,'[3]TK DETHI'!$F:$F)) -> 0 | H9: =IF($D9="","",SUMIF('[3]TK DETHI'!$G:$G,$D9,'[3]TK DETHI'!$H:$H)) -> 0 | I9: =IF($D9="","",SUMIF('[3]TK DETHI'!$I:$I,$D9,'[3]TK DETHI'!$J:$J)) -> 0 | J9: =IF($D9="","",SUMIF('[3]TK DETHI'!$K:$K,$D9,'[3]TK DETHI'!$L:$L)) -> 0 | K9: =IF($D9="","",SUMIF('[3]TK DETHI'!$M:$M,$D9,'[3]TK DETHI'!$N:$N)) -> 0 | L9: =IF($D9="","",SUMIF('[3]TK DETHI'!$O:$O,$D9,'[3]TK DETHI'!$P:$P)) -> 0 | M9: =IF($D9="","",($E9+$F9*1.5+$G9*0.25+$H9*0.5+$I9*2+$J9*2.5+$K9*0.5+$L9*1.5)) -> 0 | N9: =IF($D9="","",SUMIF('[3]TK COITHI KTHP va Thi TN'!$A:$A,$D9,'[3]TK COITHI KTHP va Thi TN'!$D:$D)) -> 0 | O9: =IF($D9="","",SUMIF('[3]TK COITHI KTHP va Thi TN'!$B:$B,$D9,'[3]TK COITHI KTHP va Thi TN'!$D:$D)) -> 0 | P9: =IF($D9="","",SUMIF('[3]TK COITHI KTHP va Thi TN'!$E:$E,$D9,'[3]TK COITHI KTHP va Thi TN'!$H:$H)) -> 0 | Q9: =IF($D9="","",SUMIF('[3]TK COITHI KTHP va Thi TN'!$F:$F,$D9,'[3]TK COITHI KTHP va Thi TN'!$H:$H)) -> 0 | R9: =IF($D9="","",SUM($N9:$Q9)) -> 0 | S9: =IF($D9="","",SUMIF('[3]TK CHAMTHI'!$A:$A,$D9,'[3]TK CHAMTHI'!$C:$C)) -> 0 | T9: =IF($D9="","",SUMIF('[3]TK CHAMTHI'!$B:$B,$D9,'[3]TK CHAMTHI'!$C:$C)) -> 0 | U9: =IF(D9="","",SUMIF('[3]CHAM NV'!B:B,D9,'[3]CHAM NV'!C:C)) -> 0 | V9: =IF($D9="","",((SUM($S9:$T9))-U9)*0.1) -> 0 | W9: =IF($D9="","",SUMIF('[3]TK CHAMTHI'!$D:$D,$D9,'[3]TK CHAMTHI'!$F:$F)) -> 0 | X9: =IF($D9="","",SUMIF('[3]TK CHAMTHI'!$E:$E,$D9,'[3]TK CHAMTHI'!$F:$F)) -> 0 | Y9: =IF(D9="","",SUMIF('[3]CHAM NV'!G:G,D9,'[3]CHAM NV'!H:H)) -> 0 | Z9: =IF($D9="","",((SUM($W9:$X9))-Y9)*0.2) -> 0 | AA9: =IF($D9="","",SUMIF('[3]TK CHAMTHI'!$G:$G,$D9,'[3]TK CHAMTHI'!$I:$I)) -> 0 | AB9: =IF($D9="","",SUMIF('[3]TK CHAMTHI'!$H:$H,$D9,'[3]TK CHAMTHI'!$I:$I)) -> 0 | AC9: =IF(D9="","",SUMIF('[3]CHAM NV'!E:E,D9,'[3]CHAM NV'!F:F)) -> 0 | AD9: =IF($D9="","",((SUM($AA9:$AB9))-AC9)*0.2) -> 0 | AE9: =IF($D9="","",SUMIF('[3]TK CHAMTHI'!$J:$J,$D9,'[3]TK CHAMTHI'!$L:$L)) -> 0 | AF9: =IF($D9="","",SUMIF('[3]TK CHAMTHI'!$K:$K,$D9,'[3]TK CHAMTHI'!$L:$L)) -> 0 | AG9: =IF(D9="","",SUMIF('[3]CHAM NV'!I:I,D9,'[3]CHAM NV'!J:J)) -> 0 | AH9: =IF($D9="","",((SUM($AE9:$AF9))-AG9)*0.2) -> 0 | AI9: =IF($D9="","",SUMIF('[3]TK CHAMTHI'!$M:$M,$D9,'[3]TK CHAMTHI'!$O:$O)) -> 0 | AJ9: =IF($D9="","",SUMIF('[3]TK CHAMTHI'!$N:$N,$D9,'[3]TK CHAMTHI'!$O:$O)) -> 0 | AK9: =IF($D9="","",(SUM($AI9:$AJ9))*0.2) -> 0 | AL9: =IF($D9="","",SUMIF('[3]TK CHAMTHI'!$P:$P,$D9,'[3]TK CHAMTHI'!$R:$R)) -> 0 | AM9: =IF($D9="","",SUMIF('[3]TK CHAMTHI'!$Q:$Q,$D9,'[3]TK CHAMTHI'!$R:$R)) -> 0 | AN9: =IF($D9="","",(SUM($AL9:$AM9))*0.4) -> 0 | AO9: =IF(D9="","",SUMIF('[3]TK CHAMTHI'!S:S,D9,'[3]TK CHAMTHI'!U:U)) -> 0 | AP9: =IF(D9="","",SUMIF('[3]TK CHAMTHI'!T:T,D9,'[3]TK CHAMTHI'!U:U)) -> 0 | AQ9: =IF(D9="","",SUM(AO9:AP9)*0.4) -> 0 | AR9: =IF(D9="","",ROUND(SUMIF('[3]QL THI'!G:G,D9,'[3]QL THI'!H:H),1)) -> 0 | AS9: =IF(D9="","",ROUND(SUMIF('[3]QL THI'!E:E,D9,'[3]QL THI'!F:F),1)) -> 0 | AT9: =IF(D9="","",ROUND(M9+R9+V9+Z9+AD9+AH9+AK9+AN9+AQ9+SUM(AR9:AS9),1)) -> 0
A10: =IF(D10="","",SUBTOTAL(3,$D$5:D10)) -> 6 | B10: 01012003 | C10: Khoa CN Cơ khí | D10: Chung Trần Thế Vinh | E10: =IF($D10="","",SUMIF('[3]TK DETHI'!$A:$A,$D10,'[3]TK DETHI'!$B:$B)) -> 0 | F10: =IF($D10="","",SUMIF('[3]TK DETHI'!$C:$C,$D10,'[3]TK DETHI'!$D:$D)) -> 0 | G10: =IF($D10="","",SUMIF('[3]TK DETHI'!$E:$E,$D10,'[3]TK DETHI'!$F:$F)) -> 0 | H10: =IF($D10="","",SUMIF('[3]TK DETHI'!$G:$G,$D10,'[3]TK DETHI'!$H:$H)) -> 0 | I10: =IF($D10="","",SUMIF('[3]TK DETHI'!$I:$I,$D10,'[3]TK DETHI'!$J:$J)) -> 4 | J10: =IF($D10="","",SUMIF('[3]TK DETHI'!$K:$K,$D10,'[3]TK DETHI'!$L:$L)) -> 0 | K10: =IF($D10="","",SUMIF('[3]TK DETHI'!$M:$M,$D10,'[3]TK DETHI'!$N:$N)) -> 0 | L10: =IF($D10="","",SUMIF('[3]TK DETHI'!$O:$O,$D10,'[3]TK DETHI'!$P:$P)) -> 4 | M10: =IF($D10="","",($E10+$F10*1.5+$G10*0.25+$H10*0.5+$I10*2+$J10*2.5+$K10*0.5+$L10*1.5)) -> 14 | N10: =IF($D10="","",SUMIF('[3]TK COITHI KTHP va Thi TN'!$A:$A,$D10,'[3]TK COITHI KTHP va Thi TN'!$D:$D)) -> 0 | O10: =IF($D10="","",SUMIF('[3]TK COITHI KTHP va Thi TN'!$B:$B,$D10,'[3]TK COITHI KTHP va Thi TN'!$D:$D)) -> 0 | P10: =IF($D10="","",SUMIF('[3]TK COITHI KTHP va Thi TN'!$E:$E,$D10,'[3]TK COITHI KTHP va Thi TN'!$H:$H)) -> 0 | Q10: =IF($D10="","",SUMIF('[3]TK COITHI KTHP va Thi TN'!$F:$F,$D10,'[3]TK COITHI KTHP va Thi TN'!$H:$H)) -> 0 | R10: =IF($D10="","",SUM($N10:$Q10)) -> 0 | S10: =IF($D10="","",SUMIF('[3]TK CHAMTHI'!$A:$A,$D10,'[3]TK CHAMTHI'!$C:$C)) -> 0 | T10: =IF($D10="","",SUMIF('[3]TK CHAMTHI'!$B:$B,$D10,'[3]TK CHAMTHI'!$C:$C)) -> 0 | U10: =IF(D10="","",SUMIF('[3]CHAM NV'!B:B,D10,'[3]CHAM NV'!C:C)) -> 0 | V10: =IF($D10="","",((SUM($S10:$T10))-U10)*0.1) -> 0 | W10: =IF($D10="","",SUMIF('[3]TK CHAMTHI'!$D:$D,$D10,'[3]TK CHAMTHI'!$F:$F)) -> 0 | X10: =IF($D10="","",SUMIF('[3]TK CHAMTHI'!$E:$E,$D10,'[3]TK CHAMTHI'!$F:$F)) -> 0 | Y10: =IF(D10="","",SUMIF('[3]CHAM NV'!G:G,D10,'[3]CHAM NV'!H:H)) -> 0 | Z10: =IF($D10="","",((SUM($W10:$X10))-Y10)*0.2) -> 0 | AA10: =IF($D10="","",SUMIF('[3]TK CHAMTHI'!$G:$G,$D10,'[3]TK CHAMTHI'!$I:$I)) -> 0 | AB10: =IF($D10="","",SUMIF('[3]TK CHAMTHI'!$H:$H,$D10,'[3]TK CHAMTHI'!$I:$I)) -> 0 | AC10: =IF(D10="","",SUMIF('[3]CHAM NV'!E:E,D10,'[3]CHAM NV'!F:F)) -> 0 | AD10: =IF($D10="","",((SUM($AA10:$AB10))-AC10)*0.2) -> 0 | AE10: =IF($D10="","",SUMIF('[3]TK CHAMTHI'!$J:$J,$D10,'[3]TK CHAMTHI'!$L:$L)) -> 0 | AF10: =IF($D10="","",SUMIF('[3]TK CHAMTHI'!$K:$K,$D10,'[3]TK CHAMTHI'!$L:$L)) -> 0 | AG10: =IF(D10="","",SUMIF('[3]CHAM NV'!I:I,D10,'[3]CHAM NV'!J:J)) -> 0 | AH10: =IF($D10="","",((SUM($AE10:$AF10))-AG10)*0.2) -> 0 | AI10: =IF($D10="","",SUMIF('[3]TK CHAMTHI'!$M:$M,$D10,'[3]TK CHAMTHI'!$O:$O)) -> 0 | AJ10: =IF($D10="","",SUMIF('[3]TK CHAMTHI'!$N:$N,$D10,'[3]TK CHAMTHI'!$O:$O)) -> 0 | AK10: =IF($D10="","",(SUM($AI10:$AJ10))*0.2) -> 0 | AL10: =IF($D10="","",SUMIF('[3]TK CHAMTHI'!$P:$P,$D10,'[3]TK CHAMTHI'!$R:$R)) -> 0 | AM10: =IF($D10="","",SUMIF('[3]TK CHAMTHI'!$Q:$Q,$D10,'[3]TK CHAMTHI'!$R:$R)) -> 0 | AN10: =IF($D10="","",(SUM($AL10:$AM10))*0.4) -> 0 | AO10: =IF(D10="","",SUMIF('[3]TK CHAMTHI'!S:S,D10,'[3]TK CHAMTHI'!U:U)) -> 0 | AP10: =IF(D10="","",SUMIF('[3]TK CHAMTHI'!T:T,D10,'[3]TK CHAMTHI'!U:U)) -> 0 | AQ10: =IF(D10="","",SUM(AO10:AP10)*0.4) -> 0 | AR10: =IF(D10="","",ROUND(SUMIF('[3]QL THI'!G:G,D10,'[3]QL THI'!H:H),1)) -> 0 | AS10: =IF(D10="","",ROUND(SUMIF('[3]QL THI'!E:E,D10,'[3]QL THI'!F:F),1)) -> 0 | AT10: =IF(D10="","",ROUND(M10+R10+V10+Z10+AD10+AH10+AK10+AN10+AQ10+SUM(AR10:AS10),1)) -> 14
A11: =IF(D11="","",SUBTOTAL(3,$D$5:D11)) -> 7 | B11: 01012005 | C11: Khoa CN Cơ khí | D11: Đỗ Thị Phương Khanh | E11: =IF($D11="","",SUMIF('[3]TK DETHI'!$A:$A,$D11,'[3]TK DETHI'!$B:$B)) -> 0 | F11: =IF($D11="","",SUMIF('[3]TK DETHI'!$C:$C,$D11,'[3]TK DETHI'!$D:$D)) -> 0 | G11: =IF($D11="","",SUMIF('[3]TK DETHI'!$E:$E,$D11,'[3]TK DETHI'!$F:$F)) -> 0 | H11: =IF($D11="","",SUMIF('[3]TK DETHI'!$G:$G,$D11,'[3]TK DETHI'!$H:$H)) -> 0 | I11: =IF($D11="","",SUMIF('[3]TK DETHI'!$I:$I,$D11,'[3]TK DETHI'!$J:$J)) -> 0 | J11: =IF($D11="","",SUMIF('[3]TK DETHI'!$K:$K,$D11,'[3]TK DETHI'!$L:$L)) -> 0 | K11: =IF($D11="","",SUMIF('[3]TK DETHI'!$M:$M,$D11,'[3]TK DETHI'!$N:$N)) -> 0 | L11: =IF($D11="","",SUMIF('[3]TK DETHI'!$O:$O,$D11,'[3]TK DETHI'!$P:$P)) -> 0 | M11: =IF($D11="","",($E11+$F11*1.5+$G11*0.25+$H11*0.5+$I11*2+$J11*2.5+$K11*0.5+$L11*1.5)) -> 0 | N11: =IF($D11="","",SUMIF('[3]TK COITHI KTHP va Thi TN'!$A:$A,$D11,'[3]TK COITHI KTHP va Thi TN'!$D:$D)) -> 0 | O11: =IF($D11="","",SUMIF('[3]TK COITHI KTHP va Thi TN'!$B:$B,$D11,'[3]TK COITHI KTHP va Thi TN'!$D:$D)) -> 0 | P11: =IF($D11="","",SUMIF('[3]TK COITHI KTHP va Thi TN'!$E:$E,$D11,'[3]TK COITHI KTHP va Thi TN'!$H:$H)) -> 0 | Q11: =IF($D11="","",SUMIF('[3]TK COITHI KTHP va Thi TN'!$F:$F,$D11,'[3]TK COITHI KTHP va Thi TN'!$H:$H)) -> 0 | R11: =IF($D11="","",SUM($N11:$Q11)) -> 0 | S11: =IF($D11="","",SUMIF('[3]TK CHAMTHI'!$A:$A,$D11,'[3]TK CHAMTHI'!$C:$C)) -> 0 | T11: =IF($D11="","",SUMIF('[3]TK CHAMTHI'!$B:$B,$D11,'[3]TK CHAMTHI'!$C:$C)) -> 0 | U11: =IF(D11="","",SUMIF('[3]CHAM NV'!B:B,D11,'[3]CHAM NV'!C:C)) -> 0 | V11: =IF($D11="","",((SUM($S11:$T11))-U11)*0.1) -> 0 | W11: =IF($D11="","",SUMIF('[3]TK CHAMTHI'!$D:$D,$D11,'[3]TK CHAMTHI'!$F:$F)) -> 0 | X11: =IF($D11="","",SUMIF('[3]TK CHAMTHI'!$E:$E,$D11,'[3]TK CHAMTHI'!$F:$F)) -> 0 | Y11: =IF(D11="","",SUMIF('[3]CHAM NV'!G:G,D11,'[3]CHAM NV'!H:H)) -> 0 | Z11: =IF($D11="","",((SUM($W11:$X11))-Y11)*0.2) -> 0 | AA11: =IF($D11="","",SUMIF('[3]TK CHAMTHI'!$G:$G,$D11,'[3]TK CHAMTHI'!$I:$I)) -> 0 | AB11: =IF($D11="","",SUMIF('[3]TK CHAMTHI'!$H:$H,$D11,'[3]TK CHAMTHI'!$I:$I)) -> 0 | AC11: =IF(D11="","",SUMIF('[3]CHAM NV'!E:E,D11,'[3]CHAM NV'!F:F)) -> 0 | AD11: =IF($D11="","",((SUM($AA11:$AB11))-AC11)*0.2) -> 0 | AE11: =IF($D11="","",SUMIF('[3]TK CHAMTHI'!$J:$J,$D11,'[3]TK CHAMTHI'!$L:$L)) -> 0 | AF11: =IF($D11="","",SUMIF('[3]TK CHAMTHI'!$K:$K,$D11,'[3]TK CHAMTHI'!$L:$L)) -> 0 | AG11: =IF(D11="","",SUMIF('[3]CHAM NV'!I:I,D11,'[3]CHAM NV'!J:J)) -> 0 | AH11: =IF($D11="","",((SUM($AE11:$AF11))-AG11)*0.2) -> 0 | AI11: =IF($D11="","",SUMIF('[3]TK CHAMTHI'!$M:$M,$D11,'[3]TK CHAMTHI'!$O:$O)) -> 0 | AJ11: =IF($D11="","",SUMIF('[3]TK CHAMTHI'!$N:$N,$D11,'[3]TK CHAMTHI'!$O:$O)) -> 0 | AK11: =IF($D11="","",(SUM($AI11:$AJ11))*0.2) -> 0 | AL11: =IF($D11="","",SUMIF('[3]TK CHAMTHI'!$P:$P,$D11,'[3]TK CHAMTHI'!$R:$R)) -> 0 | AM11: =IF($D11="","",SUMIF('[3]TK CHAMTHI'!$Q:$Q,$D11,'[3]TK CHAMTHI'!$R:$R)) -> 0 | AN11: =IF($D11="","",(SUM($AL11:$AM11))*0.4) -> 0 | AO11: =IF(D11="","",SUMIF('[3]TK CHAMTHI'!S:S,D11,'[3]TK CHAMTHI'!U:U)) -> 0 | AP11: =IF(D11="","",SUMIF('[3]TK CHAMTHI'!T:T,D11,'[3]TK CHAMTHI'!U:U)) -> 0 | AQ11: =IF(D11="","",SUM(AO11:AP11)*0.4) -> 0 | AR11: =IF(D11="","",ROUND(SUMIF('[3]QL THI'!G:G,D11,'[3]QL THI'!H:H),1)) -> 0 | AS11: =IF(D11="","",ROUND(SUMIF('[3]QL THI'!E:E,D11,'[3]QL THI'!F:F),1)) -> 0 | AT11: =IF(D11="","",ROUND(M11+R11+V11+Z11+AD11+AH11+AK11+AN11+AQ11+SUM(AR11:AS11),1)) -> 0
A12: =IF(D12="","",SUBTOTAL(3,$D$5:D12)) -> 8 | B12: 01012014 | C12: Khoa CN Cơ khí | D12: Dương Minh Chung | E12: =IF($D12="","",SUMIF('[3]TK DETHI'!$A:$A,$D12,'[3]TK DETHI'!$B:$B)) -> 0 | F12: =IF($D12="","",SUMIF('[3]TK DETHI'!$C:$C,$D12,'[3]TK DETHI'!$D:$D)) -> 0 | G12: =IF($D12="","",SUMIF('[3]TK DETHI'!$E:$E,$D12,'[3]TK DETHI'!$F:$F)) -> 0 | H12: =IF($D12="","",SUMIF('[3]TK DETHI'!$G:$G,$D12,'[3]TK DETHI'!$H:$H)) -> 0 | I12: =IF($D12="","",SUMIF('[3]TK DETHI'!$I:$I,$D12,'[3]TK DETHI'!$J:$J)) -> 0 | J12: =IF($D12="","",SUMIF('[3]TK DETHI'!$K:$K,$D12,'[3]TK DETHI'!$L:$L)) -> 0 | K12: =IF($D12="","",SUMIF('[3]TK DETHI'!$M:$M,$D12,'[3]TK DETHI'!$N:$N)) -> 0 | L12: =IF($D12="","",SUMIF('[3]TK DETHI'!$O:$O,$D12,'[3]TK DETHI'!$P:$P)) -> 0 | M12: =IF($D12="","",($E12+$F12*1.5+$G12*0.25+$H12*0.5+$I12*2+$J12*2.5+$K12*0.5+$L12*1.5)) -> 0 | N12: =IF($D12="","",SUMIF('[3]TK COITHI KTHP va Thi TN'!$A:$A,$D12,'[3]TK COITHI KTHP va Thi TN'!$D:$D)) -> 0 | O12: =IF($D12="","",SUMIF('[3]TK COITHI KTHP va Thi TN'!$B:$B,$D12,'[3]TK COITHI KTHP va Thi TN'!$D:$D)) -> 0 | P12: =IF($D12="","",SUMIF('[3]TK COITHI KTHP va Thi TN'!$E:$E,$D12,'[3]TK COITHI KTHP va Thi TN'!$H:$H)) -> 0 | Q12: =IF($D12="","",SUMIF('[3]TK COITHI KTHP va Thi TN'!$F:$F,$D12,'[3]TK COITHI KTHP va Thi TN'!$H:$H)) -> 0 | R12: =IF($D12="","",SUM($N12:$Q12)) -> 0 | S12: =IF($D12="","",SUMIF('[3]TK CHAMTHI'!$A:$A,$D12,'[3]TK CHAMTHI'!$C:$C)) -> 0 | T12: =IF($D12="","",SUMIF('[3]TK CHAMTHI'!$B:$B,$D12,'[3]TK CHAMTHI'!$C:$C)) -> 0 | U12: =IF(D12="","",SUMIF('[3]CHAM NV'!B:B,D12,'[3]CHAM NV'!C:C)) -> 0 | V12: =IF($D12="","",((SUM($S12:$T12))-U12)*0.1) -> 0 | W12: =IF($D12="","",SUMIF('[3]TK CHAMTHI'!$D:$D,$D12,'[3]TK CHAMTHI'!$F:$F)) -> 0 | X12: =IF($D12="","",SUMIF('[3]TK CHAMTHI'!$E:$E,$D12,'[3]TK CHAMTHI'!$F:$F)) -> 0 | Y12: =IF(D12="","",SUMIF('[3]CHAM NV'!G:G,D12,'[3]CHAM NV'!H:H)) -> 0 | Z12: =IF($D12="","",((SUM($W12:$X12))-Y12)*0.2) -> 0 | AA12: =IF($D12="","",SUMIF('[3]TK CHAMTHI'!$G:$G,$D12,'[3]TK CHAMTHI'!$I:$I)) -> 0 | AB12: =IF($D12="","",SUMIF('[3]TK CHAMTHI'!$H:$H,$D12,'[3]TK CHAMTHI'!$I:$I)) -> 0 | AC12: =IF(D12="","",SUMIF('[3]CHAM NV'!E:E,D12,'[3]CHAM NV'!F:F)) -> 0 | AD12: =IF($D12="","",((SUM($AA12:$AB12))-AC12)*0.2) -> 0 | AE12: =IF($D12="","",SUMIF('[3]TK CHAMTHI'!$J:$J,$D12,'[3]TK CHAMTHI'!$L:$L)) -> 0 | AF12: =IF($D12="","",SUMIF('[3]TK CHAMTHI'!$K:$K,$D12,'[3]TK CHAMTHI'!$L:$L)) -> 0 | AG12: =IF(D12="","",SUMIF('[3]CHAM NV'!I:I,D12,'[3]CHAM NV'!J:J)) -> 0 | AH12: =IF($D12="","",((SUM($AE12:$AF12))-AG12)*0.2) -> 0 | AI12: =IF($D12="","",SUMIF('[3]TK CHAMTHI'!$M:$M,$D12,'[3]TK CHAMTHI'!$O:$O)) -> 0 | AJ12: =IF($D12="","",SUMIF('[3]TK CHAMTHI'!$N:$N,$D12,'[3]TK CHAMTHI'!$O:$O)) -> 0 | AK12: =IF($D12="","",(SUM($AI12:$AJ12))*0.2) -> 0 | AL12: =IF($D12="","",SUMIF('[3]TK CHAMTHI'!$P:$P,$D12,'[3]TK CHAMTHI'!$R:$R)) -> 0 | AM12: =IF($D12="","",SUMIF('[3]TK CHAMTHI'!$Q:$Q,$D12,'[3]TK CHAMTHI'!$R:$R)) -> 0 | AN12: =IF($D12="","",(SUM($AL12:$AM12))*0.4) -> 0 | AO12: =IF(D12="","",SUMIF('[3]TK CHAMTHI'!S:S,D12,'[3]TK CHAMTHI'!U:U)) -> 0 | AP12: =IF(D12="","",SUMIF('[3]TK CHAMTHI'!T:T,D12,'[3]TK CHAMTHI'!U:U)) -> 0 | AQ12: =IF(D12="","",SUM(AO12:AP12)*0.4) -> 0 | AR12: =IF(D12="","",ROUND(SUMIF('[3]QL THI'!G:G,D12,'[3]QL THI'!H:H),1)) -> 0 | AS12: =IF(D12="","",ROUND(SUMIF('[3]QL THI'!E:E,D12,'[3]QL THI'!F:F),1)) -> 0 | AT12: =IF(D12="","",ROUND(M12+R12+V12+Z12+AD12+AH12+AK12+AN12+AQ12+SUM(AR12:AS12),1)) -> 0
A13: =IF(D13="","",SUBTOTAL(3,$D$5:D13)) -> 9 | B13: 01012029 | C13: Khoa CN Cơ khí | D13: Dương Ngọc Hưng | E13: =IF($D13="","",SUMIF('[3]TK DETHI'!$A:$A,$D13,'[3]TK DETHI'!$B:$B)) -> 0 | F13: =IF($D13="","",SUMIF('[3]TK DETHI'!$C:$C,$D13,'[3]TK DETHI'!$D:$D)) -> 0 | G13: =IF($D13="","",SUMIF('[3]TK DETHI'!$E:$E,$D13,'[3]TK DETHI'!$F:$F)) -> 0 | H13: =IF($D13="","",SUMIF('[3]TK DETHI'!$G:$G,$D13,'[3]TK DETHI'!$H:$H)) -> 0 | I13: =IF($D13="","",SUMIF('[3]TK DETHI'!$I:$I,$D13,'[3]TK DETHI'!$J:$J)) -> 0 | J13: =IF($D13="","",SUMIF('[3]TK DETHI'!$K:$K,$D13,'[3]TK DETHI'!$L:$L)) -> 0 | K13: =IF($D13="","",SUMIF('[3]TK DETHI'!$M:$M,$D13,'[3]TK DETHI'!$N:$N)) -> 0 | L13: =IF($D13="","",SUMIF('[3]TK DETHI'!$O:$O,$D13,'[3]TK DETHI'!$P:$P)) -> 0 | M13: =IF($D13="","",($E13+$F13*1.5+$G13*0.25+$H13*0.5+$I13*2+$J13*2.5+$K13*0.5+$L13*1.5)) -> 0 | N13: =IF($D13="","",SUMIF('[3]TK COITHI KTHP va Thi TN'!$A:$A,$D13,'[3]TK COITHI KTHP va Thi TN'!$D:$D)) -> 0 | O13: =IF($D13="","",SUMIF('[3]TK COITHI KTHP va Thi TN'!$B:$B,$D13,'[3]TK COITHI KTHP va Thi TN'!$D:$D)) -> 0 | P13: =IF($D13="","",SUMIF('[3]TK COITHI KTHP va Thi TN'!$E:$E,$D13,'[3]TK COITHI KTHP va Thi TN'!$H:$H)) -> 0 | Q13: =IF($D13="","",SUMIF('[3]TK COITHI KTHP va Thi TN'!$F:$F,$D13,'[3]TK COITHI KTHP va Thi TN'!$H:$H)) -> 0 | R13: =IF($D13="","",SUM($N13:$Q13)) -> 0 | S13: =IF($D13="","",SUMIF('[3]TK CHAMTHI'!$A:$A,$D13,'[3]TK CHAMTHI'!$C:$C)) -> 0 | T13: =IF($D13="","",SUMIF('[3]TK CHAMTHI'!$B:$B,$D13,'[3]TK CHAMTHI'!$C:$C)) -> 0 | U13: =IF(D13="","",SUMIF('[3]CHAM NV'!B:B,D13,'[3]CHAM NV'!C:C)) -> 0 | V13: =IF($D13="","",((SUM($S13:$T13))-U13)*0.1) -> 0 | W13: =IF($D13="","",SUMIF('[3]TK CHAMTHI'!$D:$D,$D13,'[3]TK CHAMTHI'!$F:$F)) -> 0 | X13: =IF($D13="","",SUMIF('[3]TK CHAMTHI'!$E:$E,$D13,'[3]TK CHAMTHI'!$F:$F)) -> 0 | Y13: =IF(D13="","",SUMIF('[3]CHAM NV'!G:G,D13,'[3]CHAM NV'!H:H)) -> 0 | Z13: =IF($D13="","",((SUM($W13:$X13))-Y13)*0.2) -> 0 | AA13: =IF($D13="","",SUMIF('[3]TK CHAMTHI'!$G:$G,$D13,'[3]TK CHAMTHI'!$I:$I)) -> 0 | AB13: =IF($D13="","",SUMIF('[3]TK CHAMTHI'!$H:$H,$D13,'[3]TK CHAMTHI'!$I:$I)) -> 0 | AC13: =IF(D13="","",SUMIF('[3]CHAM NV'!E:E,D13,'[3]CHAM NV'!F:F)) -> 0 | AD13: =IF($D13="","",((SUM($AA13:$AB13))-AC13)*0.2) -> 0 | AE13: =IF($D13="","",SUMIF('[3]TK CHAMTHI'!$J:$J,$D13,'[3]TK CHAMTHI'!$L:$L)) -> 0 | AF13: =IF($D13="","",SUMIF('[3]TK CHAMTHI'!$K:$K,$D13,'[3]TK CHAMTHI'!$L:$L)) -> 0 | AG13: =IF(D13="","",SUMIF('[3]CHAM NV'!I:I,D13,'[3]CHAM NV'!J:J)) -> 0 | AH13: =IF($D13="","",((SUM($AE13:$AF13))-AG13)*0.2) -> 0 | AI13: =IF($D13="","",SUMIF('[3]TK CHAMTHI'!$M:$M,$D13,'[3]TK CHAMTHI'!$O:$O)) -> 0 | AJ13: =IF($D13="","",SUMIF('[3]TK CHAMTHI'!$N:$N,$D13,'[3]TK CHAMTHI'!$O:$O)) -> 0 | AK13: =IF($D13="","",(SUM($AI13:$AJ13))*0.2) -> 0 | AL13: =IF($D13="","",SUMIF('[3]TK CHAMTHI'!$P:$P,$D13,'[3]TK CHAMTHI'!$R:$R)) -> 0 | AM13: =IF($D13="","",SUMIF('[3]TK CHAMTHI'!$Q:$Q,$D13,'[3]TK CHAMTHI'!$R:$R)) -> 0 | AN13: =IF($D13="","",(SUM($AL13:$AM13))*0.4) -> 0 | AO13: =IF(D13="","",SUMIF('[3]TK CHAMTHI'!S:S,D13,'[3]TK CHAMTHI'!U:U)) -> 0 | AP13: =IF(D13="","",SUMIF('[3]TK CHAMTHI'!T:T,D13,'[3]TK CHAMTHI'!U:U)) -> 0 | AQ13: =IF(D13="","",SUM(AO13:AP13)*0.4) -> 0 | AR13: =IF(D13="","",ROUND(SUMIF('[3]QL THI'!G:G,D13,'[3]QL THI'!H:H),1)) -> 0 | AS13: =IF(D13="","",ROUND(SUMIF('[3]QL THI'!E:E,D13,'[3]QL THI'!F:F),1)) -> 0 | AT13: =IF(D13="","",ROUND(M13+R13+V13+Z13+AD13+AH13+AK13+AN13+AQ13+SUM(AR13:AS13),1)) -> 0
A14: =IF(D14="","",SUBTOTAL(3,$D$5:D14)) -> 10 | B14: 01012028 | C14: Khoa CN Cơ khí | D14: Dương Thị Hồng | E14: =IF($D14="","",SUMIF('[3]TK DETHI'!$A:$A,$D14,'[3]TK DETHI'!$B:$B)) -> 0 | F14: =IF($D14="","",SUMIF('[3]TK DETHI'!$C:$C,$D14,'[3]TK DETHI'!$D:$D)) -> 0 | G14: =IF($D14="","",SUMIF('[3]TK DETHI'!$E:$E,$D14,'[3]TK DETHI'!$F:$F)) -> 0 | H14: =IF($D14="","",SUMIF('[3]TK DETHI'!$G:$G,$D14,'[3]TK DETHI'!$H:$H)) -> 0 | I14: =IF($D14="","",SUMIF('[3]TK DETHI'!$I:$I,$D14,'[3]TK DETHI'!$J:$J)) -> 0 | J14: =IF($D14="","",SUMIF('[3]TK DETHI'!$K:$K,$D14,'[3]TK DETHI'!$L:$L)) -> 0 | K14: =IF($D14="","",SUMIF('[3]TK DETHI'!$M:$M,$D14,'[3]TK DETHI'!$N:$N)) -> 0 | L14: =IF($D14="","",SUMIF('[3]TK DETHI'!$O:$O,$D14,'[3]TK DETHI'!$P:$P)) -> 0 | M14: =IF($D14="","",($E14+$F14*1.5+$G14*0.25+$H14*0.5+$I14*2+$J14*2.5+$K14*0.5+$L14*1.5)) -> 0 | N14: =IF($D14="","",SUMIF('[3]TK COITHI KTHP va Thi TN'!$A:$A,$D14,'[3]TK COITHI KTHP va Thi TN'!$D:$D)) -> 0 | O14: =IF($D14="","",SUMIF('[3]TK COITHI KTHP va Thi TN'!$B:$B,$D14,'[3]TK COITHI KTHP va Thi TN'!$D:$D)) -> 0 | P14: =IF($D14="","",SUMIF('[3]TK COITHI KTHP va Thi TN'!$E:$E,$D14,'[3]TK COITHI KTHP va Thi TN'!$H:$H)) -> 0 | Q14: =IF($D14="","",SUMIF('[3]TK COITHI KTHP va Thi TN'!$F:$F,$D14,'[3]TK COITHI KTHP va Thi TN'!$H:$H)) -> 0 | R14: =IF($D14="","",SUM($N14:$Q14)) -> 0 | S14: =IF($D14="","",SUMIF('[3]TK CHAMTHI'!$A:$A,$D14,'[3]TK CHAMTHI'!$C:$C)) -> 0 | T14: =IF($D14="","",SUMIF('[3]TK CHAMTHI'!$B:$B,$D14,'[3]TK CHAMTHI'!$C:$C)) -> 0 | U14: =IF(D14="","",SUMIF('[3]CHAM NV'!B:B,D14,'[3]CHAM NV'!C:C)) -> 0 | V14: =IF($D14="","",((SUM($S14:$T14))-U14)*0.1) -> 0 | W14: =IF($D14="","",SUMIF('[3]TK CHAMTHI'!$D:$D,$D14,'[3]TK CHAMTHI'!$F:$F)) -> 0 | X14: =IF($D14="","",SUMIF('[3]TK CHAMTHI'!$E:$E,$D14,'[3]TK CHAMTHI'!$F:$F)) -> 0 | Y14: =IF(D14="","",SUMIF('[3]CHAM NV'!G:G,D14,'[3]CHAM NV'!H:H)) -> 0 | Z14: =IF($D14="","",((SUM($W14:$X14))-Y14)*0.2) -> 0 | AA14: =IF($D14="","",SUMIF('[3]TK CHAMTHI'!$G:$G,$D14,'[3]TK CHAMTHI'!$I:$I)) -> 0 | AB14: =IF($D14="","",SUMIF('[3]TK CHAMTHI'!$H:$H,$D14,'[3]TK CHAMTHI'!$I:$I)) -> 0 | AC14: =IF(D14="","",SUMIF('[3]CHAM NV'!E:E,D14,'[3]CHAM NV'!F:F)) -> 0 | AD14: =IF($D14="","",((SUM($AA14:$AB14))-AC14)*0.2) -> 0 | AE14: =IF($D14="","",SUMIF('[3]TK CHAMTHI'!$J:$J,$D14,'[3]TK CHAMTHI'!$L:$L)) -> 0 | AF14: =IF($D14="","",SUMIF('[3]TK CHAMTHI'!$K:$K,$D14,'[3]TK CHAMTHI'!$L:$L)) -> 0 | AG14: =IF(D14="","",SUMIF('[3]CHAM NV'!I:I,D14,'[3]CHAM NV'!J:J)) -> 0 | AH14: =IF($D14="","",((SUM($AE14:$AF14))-AG14)*0.2) -> 0 | AI14: =IF($D14="","",SUMIF('[3]TK CHAMTHI'!$M:$M,$D14,'[3]TK CHAMTHI'!$O:$O)) -> 0 | AJ14: =IF($D14="","",SUMIF('[3]TK CHAMTHI'!$N:$N,$D14,'[3]TK CHAMTHI'!$O:$O)) -> 0 | AK14: =IF($D14="","",(SUM($AI14:$AJ14))*0.2) -> 0 | AL14: =IF($D14="","",SUMIF('[3]TK CHAMTHI'!$P:$P,$D14,'[3]TK CHAMTHI'!$R:$R)) -> 0 | AM14: =IF($D14="","",SUMIF('[3]TK CHAMTHI'!$Q:$Q,$D14,'[3]TK CHAMTHI'!$R:$R)) -> 0 | AN14: =IF($D14="","",(SUM($AL14:$AM14))*0.4) -> 0 | AO14: =IF(D14="","",SUMIF('[3]TK CHAMTHI'!S:S,D14,'[3]TK CHAMTHI'!U:U)) -> 0 | AP14: =IF(D14="","",SUMIF('[3]TK CHAMTHI'!T:T,D14,'[3]TK CHAMTHI'!U:U)) -> 0 | AQ14: =IF(D14="","",SUM(AO14:AP14)*0.4) -> 0 | AR14: =IF(D14="","",ROUND(SUMIF('[3]QL THI'!G:G,D14,'[3]QL THI'!H:H),1)) -> 0 | AS14: =IF(D14="","",ROUND(SUMIF('[3]QL THI'!E:E,D14,'[3]QL THI'!F:F),1)) -> 0 | AT14: =IF(D14="","",ROUND(M14+R14+V14+Z14+AD14+AH14+AK14+AN14+AQ14+SUM(AR14:AS14),1)) -> 0
